Workbook

Sheet 帮扶项目确权表
B1: 帮扶产业项目权属及经营性项目“四个一批”分类结果表
A2: 序号 | B2: 项目 年度 | C2: 资金来源 | E2: 项目 名称 | F2: 项目实施地点 | G2: 项目主要建设内容 | H2: 计划投资（万元） | K2: 项目 分类情况 | L2: 所有权 | M2: 经营权 | N2: 受益权 | O2: 处置权 | P2: 监督权 | Q2: 经营性项目“四个一批”分类 | R2: 备注
H3: 合计 | I3: 政策性资金 | J3: 其他渠道资金
A4: 1 | B4: 2013 | C4: 专项扶贫资金 | E4: 鲁朗镇扎西岗旅游合作社接待中心建设项目 | F4: 鲁朗镇扎西岗村 | G4: 建设一个占地面积270平米集办公、接待、就餐、洗浴为一体的旅游接待中心,配套家庭旅馆消毒设备。 | H4: =I4+J4 -> 90 | I4: 90 | J4: 0 | K4: 经营类 | L4: 林芝市巴宜区鲁朗镇扎西岗村股份经济合作联合社 | M4: 林芝市巴宜区鲁朗镇扎西岗村股份经济合作联合社 | N4: 林芝市巴宜区鲁朗镇扎西岗村股份经济合作联合社 | O4: 林芝市巴宜区鲁朗镇扎西岗村股份经济合作联合社 | P4: 林芝市巴宜区农业农村局、林芝市巴宜区鲁朗镇人民政府 | Q4: 盘活
A5: 2 | B5: 2013 | C5: 专项扶贫资金 | E5: 林芝镇卡斯木村旅游接待点建设项目 | F5: 林芝镇卡斯木村 | G5: 建设占地面积600平米的旅游接待点，其中、接待楼1栋400平米，伙房及储物间200平米，修建砖混结构围墙59.6米。 | H5: =I5+J5 -> 80 | I5: 80 | J5: 0 | K5: 公益类 | L5: 林芝市巴宜区林芝镇卡斯木村股份经济合作联合社 | M5: 林芝市巴宜区林芝镇卡斯木村股份经济合作联合社 | N5: 林芝市巴宜区林芝镇卡斯木村股份经济合作联合社 | O5: 林芝市巴宜区林芝镇卡斯木村股份经济合作联合社 | P5: 林芝市巴宜区农业农村局、林芝市巴宜区林芝镇人民政府 | Q5: -
A6: 3 | B6: 2013 | C6: 专项扶贫资金 | E6: 林芝镇朗欧村旅游接待点建设项目 | F6: 林芝镇朗欧村 | G6: 建设占地面积600平米的旅游接待点，其中、接待楼1栋400平米，伙房及储物间200平米，修建砖混结构围墙59.6米。 | H6: =I6+J6 -> 80 | I6: 80 | J6: 0 | K6: 经营类 | L6: 林芝市巴宜区林芝镇朗欧村股份经济合作联合社 | M6: 个体户 | N6: 林芝市巴宜区林芝镇朗欧村股份经济合作联合社 | O6: 林芝市巴宜区林芝镇朗欧村股份经济合作联合社 | P6: 林芝市巴宜区农业农村局、林芝市巴宜区林芝镇人民政府 | Q6: 巩固
A7: 4 | B7: 2013 | C7: 专项扶贫资金 | E7: 林芝镇尼池村糌粑面粉加工场项目 | F7: 林芝镇尼池村 | G7: 修建砖混结构厂房及仓库86.4㎡，水泥砖围墙79.4m，购置Ф100型电动石磨、阁润100型自动青稞翻炒机各1台（套），配套大门1座及水电等附属设施。 | H7: =I7+J7 -> 22 | I7: 22 | J7: 0 | K7: 经营类 | L7: 林芝市巴宜区林芝镇尼池村尼池组股份经济合作社 | M7: 林芝市巴宜区林芝镇尼池村尼池组股份经济合作社 | N7: 林芝市巴宜区林芝镇尼池村尼池组股份经济合作社 | O7: 林芝市巴宜区林芝镇尼池村尼池组股份经济合作社 | P7: 林芝市巴宜区农业农村局、林芝市巴宜区林芝镇人民政府 | Q7: 巩固 | R7: 有尼池组、果若组两个合作社，确认给？
A8: 5 | B8: 2013 | C8: 专项扶贫资金 | E8: 林芝县鲁朗镇东久村、林芝镇邦纳村、米瑞乡泽列村犏奶牛养殖项目 | F8: 鲁朗镇东久村、邦纳村，米瑞乡泽列村 | G8: 购置犏奶牛130头，种植草地100亩；新建砖木结构牛舍65座； | H8: =I8+J8 -> 67 | I8: 67 | J8: 0 | K8: 到户类 | L8: 米瑞乡泽列村27户；鲁朗镇东久村18户，林芝镇帮纳村20户村民 | M8: 米瑞乡泽列村27户；鲁朗镇东久村18户，林芝镇帮纳村20户村民 | N8: 米瑞乡泽列村27户；鲁朗镇东久村18户，林芝镇帮纳村20户村民 | O8: 米瑞乡泽列村27户；鲁朗镇东久村18户，林芝镇帮纳村20户村民 | Q8: -
A9: 6 | B9: 2013 | C9: 专项扶贫资金 | E9: 米瑞乡通麦村养羊项目 | F9: 米瑞乡通麦村 | G9: 购置绵羊200头，苜蓿草种植100亩，新建砖木结构50平米羊舍10栋 | H9: =I9+J9 -> 14 | I9: 14 | J9: 0 | K9: 经营类 | L9: 林芝市巴宜区米瑞通麦绵羊养殖农牧民专业合作社 | M9: 林芝市巴宜区米瑞通麦绵羊养殖农牧民专业合作社 | N9: 林芝市巴宜区米瑞通麦绵羊养殖农牧民专业合作社 | O9: 林芝市巴宜区米瑞通麦绵羊养殖农牧民专业合作社 | P9: 林芝市巴宜区农业农村局、林芝市巴宜区米瑞乡人民政府 | Q9: 巩固 | R9: 农牧民专合社
A10: 7 | B10: 2013 | C10: 专项扶贫资金 | E10: 布久乡麦巴村经济林木建设项目 | F10: 布久乡麦巴村 | G10: 扶持15户低收入群众发展经济林木种植项目，购置核桃树苗7200株，集中连片种植180亩核桃。 | H10: =I10+J10 -> 18 | I10: 18 | J10: 0 | K10: 到户类 | L10: 布久项目麦巴村15户村民 | M10: 布久项目麦巴村15户村民 | N10: 布久项目麦巴村15户村民 | O10: 布久项目麦巴村15户村民 | Q10: -
A11: 8 | B11: 2013 | C11: 专项扶贫资金 | E11: 八一镇公仲村经济林木建设项目 | F11: 八一镇公仲村 | G11: 扶持20户低收入群众发展经济林木种植项目，购置水蜜桃、油桃、梨子、核桃树苗18000株，集中种植300亩，及配套灌溉渠道1500米。 | H11: =I11+J11 -> 40 | I11: 40 | J11: 0 | K11: 到户类 | L11: 八一镇公众村20户村民 | M11: 八一镇公众村20户村民 | N11: 八一镇公众村20户村民 | O11: 八一镇公众村20户村民 | Q11: -
A12: 9 | B12: 2013 | C12: 专项扶贫资金 | E12: 米瑞乡色果拉藏鸡养殖基地建设项目 | F12: 米瑞乡色果拉 | G12: 建设一个6000平方米的集中养殖点，其中包括鸡舍240平方米、活动场2400平方米、仓库及住宿房104平方米，以31户入社群众为主体，带动全村共46户群众（其中20户104名群众为扶贫对象）发展藏鸡养殖5000只，并配套修建大门及围墙等设施。包括培训经费2万元。 | H12: =I12+J12 -> 50 | I12: 50 | J12: 0 | K12: 经营类 | L12: 林芝市巴宜区米瑞乡色果拉村股份经济合作联合社 | M12: 林芝市巴宜区米瑞乡色果拉村祥和种植养殖农牧民合作社 | N12: 林芝市巴宜区米瑞乡色果拉村股份经济合作联合社 | O12: 林芝市巴宜区米瑞乡色果拉村股份经济合作联合社 | P12: 林芝市巴宜区农业农村局、林芝市巴宜区米瑞乡人民政府 | Q12: 盘活
A13: 10 | B13: 2013 | C13: 专项扶贫资金 | E13: 米瑞乡麦娘麦村蔬菜大棚建设项目 | F13: 米瑞乡麦娘麦村 | G13: 扶持米瑞乡麦娘麦村38户农牧民群众（其中扶贫对象22户，辐射带动户16户）共196人，发展蔬菜种植产业。按平均每1户一座共38座，共建设8×30m的单拱钢管插棚38座，每座面积为240m2；配套完善大棚灌溉土渠450米。 | H13: =I13+J13 -> 76 | I13: 76 | J13: 0 | K13: 到户类 | L13: 米瑞乡麦娘麦村（仲萨村）33户村民 | M13: 米瑞乡麦娘麦村（仲萨村）33户村民 | N13: 米瑞乡麦娘麦村（仲萨村）33户村民 | O13: 米瑞乡麦娘麦村（仲萨村）33户村民 | Q13: -
A14: 11 | B14: 2013 | C14: 专项扶贫资金 | E14: 米瑞乡嘎萨村土豆、苜蓿草种植项目 | F14: 米瑞乡嘎萨村 | G14: 扶持米瑞乡嘎萨村16户108人治理撂荒地200亩，种植土豆50亩、紫花苜蓿草150亩。 | H14: =I14+J14 -> 18 | I14: 18 | J14: 0 | K14: 到户类 | L14: 米瑞乡嘎萨村16户村民 | M14: 米瑞乡嘎萨村16户村民 | N14: 米瑞乡嘎萨村16户村民 | O14: 米瑞乡嘎萨村16户村民 | Q14: -
A15: 12 | B15: 2013 | C15: 专项扶贫资金 | E15: 百巴镇折巴村粮油加工厂项目 | F15: 百巴镇折巴村 | G15: 新建厂房120平方米，购置设备一套。 | H15: =I15+J15 -> 30 | I15: 30 | J15: 0 | K15: 公益类 | L15: 林芝市巴宜区百巴镇折巴村折巴组股份经济合作社 | M15: 林芝市巴宜区百巴镇折巴村折巴组股份经济合作社 | N15: 林芝市巴宜区百巴镇折巴村折巴组股份经济合作社 | O15: 林芝市巴宜区百巴镇折巴村折巴组股份经济合作社 | P15: 林芝市巴宜区农业农村局、林芝市巴宜区百巴镇人民政府 | Q15: - | R15: 有折巴组、伍巴组两个组，确认给？
A16: 13 | B16: 2013 | C16: 专项扶贫资金 | E16: 百巴镇折巴村“优菜”水渠建设项目 | F16: 百巴镇折巴村 | G16: 新建c20钢筋砼1600米(规格:0.4MX0.35M)，4米农用桥一座，配套完善分水口等设施。 | H16: =I16+J16 -> 46 | I16: 46 | J16: 0 | K16: 公益类 | L16: 林芝市巴宜区百巴镇折巴村折巴组股份经济合作社 | M16: 林芝市巴宜区百巴镇折巴村折巴组股份经济合作社 | N16: 林芝市巴宜区百巴镇折巴村折巴组股份经济合作社 | O16: 林芝市巴宜区百巴镇折巴村折巴组股份经济合作社 | P16: 林芝市巴宜区农业农村局、林芝市巴宜区百巴镇人民政府 | Q16: - | R16: 有折巴组、伍巴组两个组，确认给？
A17: 14 | B17: 2013 | C17: 专项扶贫资金 | E17: 米瑞乡通麦村农田灌溉水渠 | F17: 米瑞乡通麦村 | G17: 新建引水渠道1400米，及分水口农用桥等渠系配套建筑物。 | H17: =I17+J17 -> 51 | I17: 51 | J17: 0 | K17: 公益类 | L17: 林芝市巴宜区米瑞乡通麦村股份经济合作联合社 | M17: 林芝市巴宜区米瑞乡通麦村股份经济合作联合社 | N17: 林芝市巴宜区米瑞乡通麦村股份经济合作联合社 | O17: 林芝市巴宜区米瑞乡通麦村股份经济合作联合社 | P17: 林芝市巴宜区农业农村局、林芝市巴宜区米瑞乡人民政府 | Q17: -
A18: 15 | B18: 2013 | C18: 专项扶贫资金 | E18: 鲁朗镇东久村瓜果采摘园项目 | F18: 鲁朗镇东久村 | G18: 开垦80亩撂荒地；购置种植木瓜10亩；种植苹果30亩；种植桃树20亩；种植李子20亩；修建游客接待中心；安装网围栏1300米。 | H18: =I18+J18 -> 59 | I18: 59 | J18: 0 | K18: 经营类 | L18: 林芝市巴宜区鲁朗镇东久村股份经济合作联合社 | M18: 个体户 | N18: 林芝市巴宜区鲁朗镇东久村股份经济合作联合社 | O18: 林芝市巴宜区鲁朗镇东久村股份经济合作联合社 | P18: 林芝市巴宜区农业农村局、林芝市巴宜区鲁朗镇人民政府 | Q18: 巩固
A19: 16 | B19: 2013 | C19: 专项扶贫资金 | E19: 百巴镇拉格村农田灌溉水渠 | F19: 百巴镇拉格村 | G19: 修建砼矩形引水主渠1000米，及分水口、农用桥等渠系配套交叉建筑物。 | H19: =I19+J19 -> 39 | I19: 39 | J19: 0 | K19: 公益类 | L19: 林芝市巴宜区百巴镇拉格村股份经济合作联合社 | M19: 林芝市巴宜区百巴镇拉格村股份经济合作联合社 | N19: 林芝市巴宜区百巴镇拉格村股份经济合作联合社 | O19: 林芝市巴宜区百巴镇拉格村股份经济合作联合社 | P19: 林芝市巴宜区农业农村局、林芝市巴宜区百巴镇人民政府 | Q19: -
A20: 17 | B20: 2013 | C20: 专项扶贫资金 | E20: 百巴镇折巴村核桃种植项目 | F20: 百巴镇折巴村 | G20: 开垦山坡地200亩；种植核桃200亩。 | H20: =I20+J20 -> 50 | I20: 50 | J20: 0 | K20: 到户类 | L20: 百巴镇折巴村51户村民 | M20: 百巴镇折巴村51户村民 | N20: 百巴镇折巴村51户村民 | O20: 百巴镇折巴村51户村民 | Q20: -
A21: 18 | B21: 2013 | C21: 专项扶贫资金 | E21: 百巴镇强嘎村工布赛马休闲旅游山庄建设项目 | F21: 百巴镇强嘎村 | G21: 建设民俗演艺厅、藏餐厅、射箭场，购置马匹10匹，配套马具、音响设备、射箭用具、餐饮厨具等配套设备。 | H21: =I21+J21 -> 60 | I21: 60 | J21: 0 | K21: 经营类 | L21: 林芝市巴宜区百巴镇强嘎村股份经济合作联合社 | M21: 个体户 | N21: 林芝市巴宜区百巴镇强嘎村股份经济合作联合社 | O21: 林芝市巴宜区百巴镇强嘎村股份经济合作联合社 | P21: 林芝市巴宜区农业农村局、林芝市巴宜区百巴镇人民政府 | Q21: 升级
A22: 19 | B22: 2013 | C22: 专项扶贫资金 | E22: 林芝镇立定村果园建设项目 | F22: 林芝镇立定村 | G22: 种植核桃树苗200亩；苹果树苗100亩；李子树苗、苹果树苗共100亩。 | H22: =I22+J22 -> 40 | I22: 40 | J22: 0 | K22: 到户类 | L22: 林芝镇立定村25户村、榜纳村13户村、娘峨村22户村民 | M22: 林芝镇立定村25户村、榜纳村13户村、娘峨村22户村民 | N22: 林芝镇立定村25户村、榜纳村13户村、娘峨村22户村民 | O22: 林芝镇立定村25户村、榜纳村13户村、娘峨村22户村民 | Q22: -
A23: 20 | B23: 2013 | C23: 专项扶贫资金 | E23: 米瑞乡吉定村藏香猪养殖项目 | F23: 米瑞乡吉定村 | G23: 购置藏香猪1166头；修建猪圈53座。 | H23: =I23+J23 -> 40 | I23: 40 | J23: 0 | K23: 到户类 | L23: 米瑞乡吉定村32户村民 | M23: 米瑞乡吉定村32户村民 | N23: 米瑞乡吉定村32户村民 | O23: 米瑞乡吉定村32户村民 | Q23: -
A24: 21 | B24: 2013 | C24: 专项扶贫资金 | E24: 米瑞乡德木达嘎鲁丁糌粑加工厂建设项目 | F24: 米瑞乡曲尼贡嘎村 | G24: 新建加工厂房2栋（一栋130㎡，另一栋170㎡）共300㎡；购置6FP2550型磨面机1台、6ZQ28A清粮机1台，YZYX120-8型螺旋榨油机1台、YBLL320X14板框滤油机1台；购置100型电动石磨4台（套）、阁润自动青稞翻炒机各3台（套）、电动缝口机1台；配套修建场区围墙260米、大门1座及水电线路等设施。 | H24: =I24+J24 -> 80 | I24: 80 | J24: 0 | K24: 经营类 | L24: 米瑞乡德木康桑水磨糌粑面粉农民专业合作社 | M24: 米瑞乡德木康桑水磨糌粑面粉农民专业合作社 | N24: 米瑞乡德木康桑水磨糌粑面粉农民专业合作社 | O24: 米瑞乡德木康桑水磨糌粑面粉农民专业合作社 | P24: 林芝市巴宜区农业农村局、林芝市巴宜区米瑞乡人民政府 | Q24: 巩固 | R24: 农牧民专合社
A25: 22 | B25: 2013 | C25: 专项扶贫资金 | E25: 米瑞乡曲尼贡嘎村藏香猪养殖项目 | F25: 米瑞乡曲尼贡嘎村 | G25: 建造4800平方米藏猪养殖基地;购置藏香仔猪1000头,母猪300头,种公猪20头；购置防疫\防病设备一套。 | H25: =I25+J25 -> 79 | I25: 79 | J25: 0 | K25: 经营类 | L25: 林芝市米瑞乡曲尼贡嘎村达白养殖农牧民专业合作社 | M25: 林芝市米瑞乡曲尼贡嘎村达白养殖农牧民专业合作社 | N25: 林芝市米瑞乡曲尼贡嘎村达白养殖农牧民专业合作社 | O25: 林芝市米瑞乡曲尼贡嘎村达白养殖农牧民专业合作社 | P25: 林芝市巴宜区农业农村局、林芝市巴宜区米瑞乡人民政府 | Q25: 巩固 | R25: 农牧民专合社
A26: 23 | B26: 2013 | C26: 专项扶贫资金 | E26: 八一镇尼西村水果蔬菜种植温室项目 | F26: 八一镇尼西村 | G26: 建设规模及内容为修建20米×8米单拱三面砖混温室8座。 | H26: =I26+J26 -> 35 | I26: 35 | J26: 0 | K26: 到户类 | L26: 八一镇尼西村13户村民 | M26: 八一镇尼西村13户村民 | N26: 八一镇尼西村13户村民 | O26: 八一镇尼西村13户村民 | Q26: -
A27: 24 | B27: 2013 | C27: 专项扶贫资金 | E27: 更张乡白玛店村和扎曲村钢架大棚灵芝菌种植项目 | F27: 更张乡白玛店村、扎曲村 | G27: 修建35座钢架大棚，8米*30米＝240平米，种植灵芝菌项目；扎曲村修建20座两连栋大棚温室（面积320平米），配套水渠700米，围墙800米。 | H27: =I27+J27 -> 179 | I27: 179 | J27: 0 | K27: 经营类 | L27: 林芝市巴宜区更章门巴民族乡扎曲村股份经济合作联合社、林芝市巴宜区更章门巴民族乡白玛店社区股份经济合作联合社 | M27: 林芝市巴宜区更章门巴民族乡扎曲村股份经济合作联合社、林芝市巴宜区更章门巴民族乡白玛店社区股份经济合作联合社 | N27: 林芝市巴宜区更章门巴民族乡扎曲村股份经济合作联合社、林芝市巴宜区更章门巴民族乡白玛店社区股份经济合作联合社 | O27: 林芝市巴宜区更章门巴民族乡扎曲村股份经济合作联合社、林芝市巴宜区更章门巴民族乡白玛店社区股份经济合作联合社 | P27: 林芝市巴宜区农业农村局、林芝市巴宜区更章乡人民政府 | Q27: 调整 | S27: 不好
A28: 25 | B28: 2013 | C28: 专项扶贫资金 | E28: 八一镇色定村阿吉林特色经济发展农牧民专业合作社藏民族手工艺品生产厂区建设项目 | F28: 八一镇色定村 | G28: 建立供销一体化的民族手工艺品生产基地242.25平方米，购买烙画机、毛皮软化机、打磨机、粉碎机、真空包装机、烘干机、缝纫机、打孔机、编织机等机械设备，以及相关人员培训。 | H28: =I28+J28 -> 42 | I28: 42 | J28: 0 | K28: 经营类 | L28: 林芝县八一镇色定村阿吉特色经济发展农牧民专业合作社 | M28: 林芝县八一镇色定村阿吉特色经济发展农牧民专业合作社 | N28: 林芝县八一镇色定村阿吉特色经济发展农牧民专业合作社 | O28: 林芝县八一镇色定村阿吉特色经济发展农牧民专业合作社 | P28: 林芝市巴宜区农业农村局、林芝市巴宜区八一镇人民政府 | Q28: 调整 | R28: 农牧民专合社
A29: 26 | B29: 2013 | C29: 专项扶贫资金 | E29: 林芝镇康扎村旅游接待住宿项目 | F29: 林芝镇康扎村 | G29: 建一栋占地面积641.83平米（含伙房及储物间100平米）集住宿餐饮为一体的接待点，购置76套床，156套床单及被套、配备餐桌等相应设备，配套建设大门1座等 | H29: =I29+J29 -> 300 | I29: 150 | J29: 150 | K29: 公益类 | L29: 林芝市巴宜区林芝镇康扎村股份经济合作联合社 | M29: 林芝市巴宜区林芝镇康扎村股份经济合作联合社 | N29: 林芝市巴宜区林芝镇康扎村股份经济合作联合社 | O29: 林芝市巴宜区林芝镇康扎村股份经济合作联合社 | P29: 林芝市巴宜区农业农村局、林芝市巴宜区林芝镇人民政府 | Q29: -
A30: 28 | B30: 2013 | C30: 专项扶贫资金 | E30: 米瑞乡色果拉村农田灌溉水渠修护项目 | F30: 米瑞乡色果拉村 | G30: 色果拉村3000米主渠和2800米支渠的修护 | H30: =I30+J30 -> 10 | I30: 10 | J30: 0 | K30: 公益类 | L30: 林芝市巴宜区米瑞乡色果拉村股份经济合作联合社 | M30: 林芝市巴宜区米瑞乡色果拉村股份经济合作联合社 | N30: 林芝市巴宜区米瑞乡色果拉村股份经济合作联合社 | O30: 林芝市巴宜区米瑞乡色果拉村股份经济合作联合社 | P30: 林芝市巴宜区农业农村局、林芝市巴宜区米瑞乡人民政府 | Q30: -
A31: 29 | B31: 2013 | C31: 专项扶贫资金 | E31: 布久乡孜热村水渠维修 | F31: 布久乡孜热村 | G31: 维修桥梁1座，填埋过水管等 | H31: =I31+J31 -> 10.35 | I31: 10.35 | J31: 0 | K31: 公益类 | L31: 林芝市巴宜区布久乡孜热村股份经济合作联合社 | M31: 林芝市巴宜区布久乡孜热村股份经济合作联合社 | N31: 林芝市巴宜区布久乡孜热村股份经济合作联合社 | O31: 林芝市巴宜区布久乡孜热村股份经济合作联合社 | P31: 林芝市巴宜区农业农村局、林芝市巴宜区区布久乡人民政府 | Q31: -
A32: 30 | B32: 2013 | C32: 专项扶贫资金 | E32: 百巴镇大坝村温室供水 | F32: 百巴镇大坝村 | G32: 主渠dn110管2270米，dn90管2060米，新修17条支管，dn管3950米，渠系配套建筑物蓄水池1座。 | H32: =I32+J32 -> 110 | I32: 110 | J32: 0 | K32: 公益类 | L32: 林芝市巴宜区百巴镇大坝村经济联合社 | M32: 林芝市巴宜区百巴镇大坝村经济联合社 | N32: 林芝市巴宜区百巴镇大坝村经济联合社 | O32: 林芝市巴宜区百巴镇大坝村经济联合社 | P32: 林芝市巴宜区农业农村局、林芝市巴宜区百巴镇人民政府 | Q32: -
A33: 31 | B33: 2013 | C33: 专项扶贫资金 | E33: 百巴镇大坝村蔬菜温室工程缺口资金 | F33: 百巴镇大坝村 | G33: 蔬菜温室配套工程 | H33: 43.06 | I33: 43.06 | J33: 0 | K33: 公益类 | L33: 林芝市巴宜区百巴镇大坝村经济联合社 | M33: 林芝市巴宜区百巴镇大坝村经济联合社 | N33: 林芝市巴宜区百巴镇大坝村经济联合社 | O33: 林芝市巴宜区农业农村局、林芝市巴宜区百巴镇人民政府 | P33: 林芝市巴宜区百巴镇大坝村经济联合社
A34: 34 | B34: 2014 | C34: 专项扶贫资金 | E34: 八一镇永久村农家乐建设项目 | F34: 八一镇永久村 | G34: 建设占地面积1485平米的农家乐，其中包括集住宿饮食一体的接待楼1栋300平米，修建砖混结构围墙59.6米。 | H34: =I34+J34 -> 45 | I34: 45 | J34: 0 | K34: 到户类 | L34: 个体户 | M34: 个体户 | N34: 个体户 | O34: 个体户 | Q34: -
A35: 35 | B35: 2014 | C35: 专项扶贫资金 | E35: 八一镇加乃村农田灌溉项目 | F35: 八一镇加乃村 | G35: 新修建灌渠两条共计3000m（分别长1600m，1400m），新开荒地132亩，种植核桃102亩。 | H35: =I35+J35 -> 98.41 | I35: 98.41 | J35: 0 | K35: 公益类 | L35: 林芝市巴宜区八一镇加乃村股份经济合作联合社 | M35: 林芝市巴宜区八一镇加乃村股份经济合作联合社 | N35: 林芝市巴宜区八一镇加乃村股份经济合作联合社 | O35: 林芝市巴宜区八一镇加乃村股份经济合作联合社 | P35: 林芝市巴宜区农业农村局、林芝市巴宜区八一镇人民政府 | Q35: -
A36: 36 | B36: 2014 | C36: 专项扶贫资金 | E36: 八一镇色定村蜜蜂养殖项目 | F36: 八一镇色定村 | G36: 购置中锋220箱、意蜂220箱，购买白糖11吨，购买养蜂专用保温布250平方米。 | H36: =I36+J36 -> 60 | I36: 60 | J36: 0 | K36: 经营类 | L36: 八一镇色定村异彩种养业农牧民专业合作社 | M36: 八一镇色定村异彩种养业农牧民专业合作社 | N36: 八一镇色定村异彩种养业农牧民专业合作社 | O36: 八一镇色定村异彩种养业农牧民专业合作社 | P36: 林芝市巴宜区农业农村局、林芝市巴宜区八一镇人民政府 | Q36: 巩固 | R36: 农牧民专合社
A37: 37 | B37: 2014 | C37: 专项扶贫资金 | E37: 百巴镇伍巴村旅游接待点项目 | F37: 百巴镇伍巴村 | G37: 建设占地面积600平米的旅游接待点，其中修建两层自驾游旅馆500㎡。配套水电、围墙、洗车设备。 | H37: =I37+J37 -> 135 | I37: 135 | J37: 0 | K37: 经营类 | L37: 林芝市巴宜区百巴镇折巴村伍巴组股份经济合作社 | M37: 林芝市巴宜区伍巴高原红艺术品加工农牧民专业合作社 | N37: 林芝市巴宜区百巴镇折巴村伍巴组股份经济合作社 | O37: 林芝市巴宜区百巴镇折巴村伍巴组股份经济合作社 | P37: 林芝市巴宜区农业农村局、林芝市巴宜区百巴镇人民政府 | Q37: 巩固
A38: 38 | B38: 2014 | C38: 专项扶贫资金 | E38: 百巴镇扎地村天麻种植项目 | F38: 百巴镇扎地村 | G38: 扶持73户农牧民群众355人，开发7亩土地种植天麻。 | H38: =I38+J38 -> 31 | I38: 31 | J38: 0 | K38: 到户类 | L38: 百巴镇扎地村73户村民 | M38: 百巴镇扎地村73户村民 | N38: 百巴镇扎地村73户村民 | O38: 百巴镇扎地村73户村民 | Q38: -
A39: 39 | B39: 2014 | C39: 专项扶贫资金 | E39: 布久乡孜热村绵羊养殖项目 | F39: 布久乡孜热村 | G39: 购置绵羊养殖750只，配套修建砖木结构羊圈400平方米，苜蓿草种植100亩，网围栏1500米。 | H39: =I39+J39 -> 45 | I39: 45 | J39: 0 | K39: 到户类 | L39: 布久乡孜热村55户村民 | M39: 布久乡孜热村55户村民 | N39: 布久乡孜热村55户村民 | O39: 布久乡孜热村55户村民 | Q39: -
A40: 40 | B40: 2014 | C40: 专项扶贫资金 | E40: 米瑞乡增巴村旅游接待点建设 | F40: 米瑞乡增巴村 | G40: 建设集住宿饮食一体的接待楼1栋320平米，配套相关附属设施。 | H40: =I40+J40 -> 80 | I40: 80 | J40: 0 | K40: 经营类 | L40: 林芝市巴宜区米瑞乡增巴村经济联合社 | M40: 个体户 | N40: 林芝市巴宜区米瑞乡增巴村经济联合社 | O40: 林芝市巴宜区米瑞乡增巴村经济联合社 | P40: 林芝市巴宜区农业农村局、林芝市巴宜区米瑞乡人民政府 | Q40: 巩固
...

Sheet 帮扶产业确权表按乡镇
A1: 巴宜区帮扶产业项目“四个一批分类及五权确权表
A3: 序号 | B3: 项目编码 | C3: 项目 年度 | D3: 资金来源 | E3: 乡镇 | F3: 项目 名称 | G3: 项目实施地点 | H3: 项目主要建设内容 | I3: 计划投资（万元） | L3: 项目 分类情况 | M3: 所有权 | N3: 经营权 | O3: 受益权 | P3: 处置权 | Q3: 监督权 | R3: 经营性项目“四个一批”分类 | S3: 备注
I4: 合计 | J4: 政策性资金 | K4: 其他渠道资金
A5: 1 | B5: 8 | C5: 2013 | D5: 专项扶贫资金 | E5: 八一镇 | F5: 八一镇公众村经济林木建设项目 | G5: 八一镇公众村 | H5: 扶持20户低收入群众发展经济林木种植项目，购置水蜜桃、油桃、梨子、核桃树苗18000株，集中种植300亩，及配套灌溉渠道1500米。 | I5: 40 | J5: 40 | K5: 0 | L5: 到户类 | M5: 八一镇公众村20户村民 | N5: 八一镇公众村20户村民 | O5: 八一镇公众村20户村民 | P5: 八一镇公众村20户村民 | Q5: 八一镇公众村村民委员会 | R5: -
A6: 2 | B6: 23 | C6: 2013 | D6: 专项扶贫资金 | E6: 八一镇 | F6: 八一镇尼西村水果蔬菜种植温室项目 | G6: 八一镇尼西村 | H6: 建设规模及内容为修建20米×8米单拱三面砖混温室8座。 | I6: 35 | J6: 35 | K6: 0 | L6: 到户类 | M6: 八一镇尼西村13户村民 | N6: 八一镇尼西村13户村民 | O6: 八一镇尼西村13户村民 | P6: 八一镇尼西村13户村民 | Q6: 八一镇尼西村村民委员会 | R6: -
A7: 3 | B7: 25 | C7: 2013 | D7: 专项扶贫资金 | E7: 八一镇 | F7: 八一镇色定村阿吉林特色经济发展农牧民专业合作社藏民族手工艺品生产厂区建设项目 | G7: 八一镇色定村 | H7: 建立供销一体化的民族手工艺品生产基地242.25平方米，购买烙画机、毛皮软化机、打磨机、粉碎机、真空包装机、烘干机、缝纫机、打孔机、编织机等机械设备，以及相关人员培训。 | I7: 42 | J7: 42 | K7: 0 | L7: 经营类 | M7: 林芝市巴宜区八一镇公众村色定组股份经济合作社 | N7: 林芝县八一镇色定村阿吉特色经济发展农牧民专业合作社 | O7: 林芝市巴宜区八一镇公众村色定组股份经济合作社 | P7: 林芝市巴宜区八一镇公众村色定组股份经济合作社 | Q7: 林芝市巴宜区农业农村局、林芝市巴宜区八一镇人民政府 | R7: 调整 | S7: 农牧民专合社
A8: 4 | B8: 34 | C8: 2014 | D8: 专项扶贫资金 | E8: 八一镇 | F8: 八一镇永久村农家乐建设项目 | G8: 八一镇永久村 | H8: 建设占地面积1485平米的农家乐，其中包括集住宿饮食一体的接待楼1栋300平米，修建砖混结构围墙59.6米。 | I8: 45 | J8: 45 | K8: 0 | L8: 到户类 | M8: 个体户 | N8: 个体户 | O8: 个体户 | P8: 个体户 | Q8: 八一镇永久村村民委员会 | R8: -
A9: 5 | B9: 35 | C9: 2014 | D9: 专项扶贫资金 | E9: 八一镇 | F9: 八一镇加乃村农田灌溉项目 | G9: 八一镇加乃村 | H9: 新修建灌渠两条共计3000m（分别长1600m，1400m），新开荒地132亩，种植核桃102亩。 | I9: 98.41 | J9: 98.41 | K9: 0 | L9: 公益类 | M9: 林芝市巴宜区八一镇加乃村股份经济合作联合社 | N9: 林芝市巴宜区八一镇加乃村股份经济合作联合社 | O9: 林芝市巴宜区八一镇加乃村股份经济合作联合社 | P9: 林芝市巴宜区八一镇加乃村股份经济合作联合社 | Q9: 林芝市巴宜区农业农村局、林芝市巴宜区八一镇人民政府 | R9: -
A10: 6 | B10: 36 | C10: 2014 | D10: 专项扶贫资金 | E10: 八一镇 | F10: 八一镇色定村蜜蜂养殖项目 | G10: 八一镇色定村 | H10: 购置中锋220箱、意蜂220箱，购买白糖11吨，购买养蜂专用保温布250平方米。 | I10: 60 | J10: 60 | K10: 0 | L10: 经营类 | M10: 八一镇色定村异彩种养业农牧民专业合作社 | N10: 八一镇色定村异彩种养业农牧民专业合作社 | O10: 八一镇色定村异彩种养业农牧民专业合作社 | P10: 八一镇色定村异彩种养业农牧民专业合作社 | Q10: 林芝市巴宜区农业农村局、林芝市巴宜区八一镇人民政府 | R10: 巩固 | S10: 农牧民专合社
A11: 7 | B11: 44 | C11: 2014 | D11: 专项扶贫资金 | E11: 八一镇 | F11: 八一镇加定村藏香及民族服饰加工常建设项目 | G11: 八一镇加定村 | H11: 藏香加工：厂房120平方米，YD不锈钢线香机一台、YD-218高产量木粉加工粉粹机1台及传统加工设备。 民族服饰加工：修建库房80平方米，购置N061缩呢机1台、修建羊毛消毒池1座、清洗池1座、850型羊毛、羊绒梳理机1台，木质织呢机8台。 | I11: 75 | J11: 75 | K11: 0 | L11: 经营类 | M11: 工布民族手工艺农牧民专业合作社 | N11: 工布民族手工艺农牧民专业合作社 | O11: 工布民族手工艺农牧民专业合作社 | P11: 工布民族手工艺农牧民专业合作社 | Q11: 林芝市巴宜区农业农村局、林芝市巴宜区八一镇人民政府 | R11: 巩固 | S11: 农牧民专合社
A12: 8 | B12: 49 | C12: 2014 | D12: 专项扶贫资金 | E12: 八一镇 | F12: 八一镇拉丁嘎旅游接待中心建设项目 | G12: 八一镇拉丁嘎村 | H12: 建设占地面积503.82平米的旅游接待点。配套给排水工程及餐桌椅、床、热水器等。 | I12: 120 | J12: 120 | K12: 0 | L12: 经营类 | M12: 林芝市巴宜区八一镇拉丁嘎村股份经济合作联合社 | N12: 林芝市巴宜区城投公司 | O12: 林芝市巴宜区八一镇拉丁嘎村股份经济合作联合社 | P12: 林芝市巴宜区八一镇拉丁嘎村股份经济合作联合社 | Q12: 林芝市巴宜区农业农村局、林芝市巴宜区八一镇人民政府 | R12: 巩固
A13: 9 | B13: 70 | C13: 2015 | D13: 专项扶贫资金 | E13: 八一镇 | F13: 八一镇拉丁嘎村农田灌溉水渠建设项目 | G13: 八一镇拉丁嘎村 | H13: 新建1500m长PE水管，取水口1座，消力池1座，分水池3座，支渠4条，各100m。 | I13: 50 | J13: 50 | K13: 0 | L13: 公益类 | M13: 林芝市巴宜区八一镇拉丁嘎村股份经济合作联合社 | N13: 林芝市巴宜区八一镇拉丁嘎村股份经济合作联合社 | O13: 林芝市巴宜区八一镇拉丁嘎村股份经济合作联合社 | P13: 林芝市巴宜区八一镇拉丁嘎村股份经济合作联合社 | Q13: 林芝市巴宜区农业农村局、林芝市巴宜区八一镇人民政府 | R13: -
A14: 10 | B14: 73 | C14: 2015 | D14: 专项扶贫资金 | E14: 八一镇 | F14: 八一镇永久村牲畜养殖项目 | G14: 八一镇永久村 | H14: 扶持八一镇永久村8户26人建设占地面积1250平米的砖木结构猪舍140平米，砖木结构牛舍210平方米，购买犏奶牛70头，藏香猪仔70头。 | I14: 40 | J14: 40 | K14: 0 | L14: 到户类 | M14: 八一镇永久村8户村民 | N14: 八一镇永久村8户村民 | O14: 八一镇永久村8户村民 | P14: 八一镇永久村8户村民 | Q14: 八一镇永久村村民委员会 | R14: -
A15: 11 | B15: 78 | C15: 2015 | D15: 专项扶贫资金 | E15: 八一镇 | F15: 八一镇公众村玫瑰种植项目 | G15: 八一镇公众村 | H15: 扶持八一镇公众村新建砖混结构加工车间240平方米；新建砖混结构办公区域240平方米；新建砖混结构职工住房60平方米；玫瑰种植70亩，配套相关设施设备包括机耕道、引水管道及配件；新购机械设备18台套。 | I15: 270 | J15: 270 | K15: 0 | L15: 经营类 | M15: 林芝市巴宜区八一镇公众村色定组股份经济合作社 | N15: 巴宜区卡丁圣和农业开发有限公司 | O15: 林芝市巴宜区八一镇公众村色定组股份经济合作社 | P15: 林芝市巴宜区八一镇公众村色定组股份经济合作社 | Q15: 林芝市巴宜区农业农村局、林芝市巴宜区八一镇人民政府 | R15: 调整 | S15: 原经营方跑路，所有权确定给（村集体？）涉及政府拆迁
A16: 12 | B16: 79 | C16: 2015 | D16: 专项扶贫资金 | E16: 八一镇 | F16: 八一镇公众村果树种植项目 | G16: 八一镇公众村 | H16: 建设项目规模：加定村种植苹果、梨、核桃等水果70亩，色定村种植苹果、梨、核桃等水果80亩；配套输水管道6000米，道路整修3000米，相关设备，建设网围栏2000米。 | I16: 130 | J16: 130 | K16: 0 | L16: 经营类 | M16: 林芝市巴宜区八一镇公众村色定、加定组股份经济合作社 | N16: 巴宜区卡丁圣和农业开发有限公司 | O16: 林芝市巴宜区八一镇公众村色定、加定组股份经济合作社 | P16: 林芝市巴宜区八一镇公众村色定、加定组股份经济合作社 | Q16: 林芝市巴宜区农业农村局、林芝市巴宜区八一镇人民政府 | R16: 调整 | S16: 原经营方跑路，所有权确定给（村集体？）
A17: 13 | B17: 93 | C17: 2015 | D17: 援藏资金 | E17: 八一镇 | F17: 林芝县农家乐家庭旅馆建设 | G17: 八一镇 | H17: 家庭旅馆965.8平方米 | I17: 299.97 | J17: 299.97 | K17: 0 | L17: 经营类 | M17: 林芝市巴宜区八一镇公众村色定组股份经济合作社 | N17: 林芝市巴宜区八一镇公众村色定组股份经济合作社 | O17: 林芝市巴宜区八一镇公众村色定组股份经济合作社 | P17: 林芝市巴宜区八一镇公众村色定组股份经济合作社 | Q17: 林芝市巴宜区农业农村局、林芝市巴宜区八一镇人民政府 | R17: 调整 | S17: (涉及征地拆迁）资产处置需与援藏对接
A18: 14 | B18: 99 | C18: 2016 | D18: 统筹整合涉农资金 | E18: 八一镇 | F18: 八一镇犏奶牛养殖项目 | G18: 八一镇巴果绕村、巴吉村、多布村、拉丁嘎村、永久村、章麦村、唐地村、尼西村、加乃村 | H18: 购买42头犏奶牛，新建牛舍630㎡。 | I18: 55.68 | J18: 55.68 | K18: 0 | L18: 到户类 | M18: 八一镇永久村1户村民，八一镇拉丁嘎村6户村民，八一镇巴果绕村1户村民，八一镇巴吉村1户村民，八一镇多布村1户村，八一镇加乃村2户村民，八一镇尼西村2户村民，八一镇唐地村5户村民，八一镇章麦村2户村民 | N18: 八一镇永久村1户村民，八一镇拉丁嘎村6户村民，八一镇巴果绕村1户村民，八一镇巴吉村1户村民，八一镇多布村1户村，八一镇加乃村2户村民，八一镇尼西村2户村民，八一镇唐地村5户村民，八一镇章麦村2户村民 | O18: 八一镇永久村1户村民，八一镇拉丁嘎村6户村民，八一镇巴果绕村1户村民，八一镇巴吉村1户村民，八一镇多布村1户村，八一镇加乃村2户村民，八一镇尼西村2户村民，八一镇唐地村5户村民，八一镇章麦村2户村民 | P18: 八一镇永久村1户村民，八一镇拉丁嘎村6户村民，八一镇巴果绕村1户村民，八一镇巴吉村1户村民，八一镇多布村1户村，八一镇加乃村2户村民，八一镇尼西村2户村民，八一镇唐地村5户村民，八一镇章麦村2户村民 | Q18: （八一镇永久村、八一镇拉丁嘎村、八一镇巴果绕村、八一镇巴吉村、八一镇多布村、八一镇加乃村、八一镇尼西村、八一镇唐地村、八一镇章麦村）村民委员会 | R18: -
A19: 15 | B19: 100 | C19: 2016 | D19: 统筹整合涉农资金 | E19: 八一镇 | F19: 八一镇藏香猪项目 | G19: 八一镇巴果绕村、公众村、加当嘎村、拉丁嘎村、章麦村、尼西村 | H19: 购买510头藏香猪猪仔，新建猪舍340㎡。 | I19: 50.6 | J19: 50.6 | K19: 0 | L19: 到户类 | M19: 八一镇拉丁嘎村5户村民，八一镇加当嘎村2户村民，八一镇公众村1户村民，八一镇巴果绕村2户村民，八一镇尼西村1户村民，八一镇唐地村1户村民，八一镇章麦村3户村民 | N19: 八一镇拉丁嘎村5户村民，八一镇加当嘎村2户村民，八一镇公众村1户村民，八一镇巴果绕村2户村民，八一镇尼西村1户村民，八一镇唐地村1户村民，八一镇章麦村3户村民 | O19: 八一镇拉丁嘎村5户村民，八一镇加当嘎村2户村民，八一镇公众村1户村民，八一镇巴果绕村2户村民，八一镇尼西村1户村民，八一镇唐地村1户村民，八一镇章麦村3户村民 | P19: 八一镇拉丁嘎村5户村民，八一镇加当嘎村2户村民，八一镇公众村1户村民，八一镇巴果绕村2户村民，八一镇尼西村1户村民，八一镇唐地村1户村民，八一镇章麦村3户村民 | Q19: （八一镇拉丁嘎、八一镇加当嘎村、八一镇公众村、八一镇巴果绕村、八一镇尼西村、八一镇唐地村、八一镇章麦村）村民委员会 | R19: -
A20: 16 | B20: 101 | C20: 2016 | D20: 统筹整合涉农资金 | E20: 八一镇 | F20: 八一镇藏鸡养殖 | G20: 八一镇永久村、尼西村 | H20: 购买藏鸡鸡苗200只。新建鸡舍90㎡。 | I20: 10.08 | J20: 10.08 | K20: 0 | L20: 到户类 | M20: 八一镇永久村1户村民，八一镇尼西村1户村民 | N20: 八一镇永久村1户村民，八一镇尼西村1户村民 | O20: 八一镇永久村1户村民，八一镇尼西村1户村民 | P20: 八一镇永久村1户村民，八一镇尼西村1户村民 | Q20: 八一镇永久村、尼西村村民委员会 | R20: -
A21: 17 | B21: 113 | C21: 2016 | D21: 统筹整合涉农资金 | E21: 八一镇 | F21: 八一镇果树种植经济林木种植项目 | G21: 八一镇巴吉村 | H21: 打水井1眼，购买不锈钢高压水泵1台，购买有机肥20吨，购买网纹管PVC软管1070m，购买苹果树苗1000株。 | I21: 13.38 | J21: 13.38 | K21: 0 | L21: 经营类 | M21: 林芝市巴宜区八一镇巴吉村玉米组股份经济合作社 | N21: 林芝市巴宜区八一镇巴吉村玉米组股份经济合作社 | O21: 林芝市巴宜区八一镇巴吉村玉米组股份经济合作社 | P21: 林芝市巴宜区八一镇巴吉村玉米组股份经济合作社 | Q21: 林芝市巴宜区农业农村局、林芝市巴宜区八一镇人民政府 | R21: 巩固
A22: 18 | B22: 114 | C22: 2016 | D22: 统筹整合涉农资金 | E22: 八一镇 | F22: 八一镇蔬菜大棚建设项目 | G22: 八一镇加当嘎村 | H22: 修建8m*40m单拱钢架结构温室1座。 | I22: 5.15 | J22: 5.15 | K22: 0 | L22: 到户类 | M22: 八一镇加当嘎村1户村民 | N22: 八一镇加当嘎村1户村民 | O22: 八一镇加当嘎村1户村民 | P22: 八一镇加当嘎村1户村民 | Q22: 八一镇加当嘎村村民委员会 | R22: -
A23: 19 | B23: 124 | C23: 2016 | D23: 统筹整合涉农资金 | E23: 八一镇 | F23: 八一镇色定村藏香加工厂项目 | G23: 八一镇公众村 | H23: 道路硬化300㎡及厂区绿化。 | I23: 9.54 | J23: 9.54 | K23: 0 | L23: 公益类 | M23: 工布民族手工艺农牧民专业合作社 | N23: 工布民族手工艺农牧民专业合作社 | O23: 工布民族手工艺农牧民专业合作社 | P23: 工布民族手工艺农牧民专业合作社 | Q23: 林芝市巴宜区农业农村局、林芝市巴宜区八一镇人民政府 | R23: - | S23: 农牧民专合社
A24: 20 | B24: 134 | C24: 2016 | D24: 统筹整合涉农资金 | E24: 八一镇 | F24: 八一镇永久村次仁德吉藏家乐扩建项目 | G24: 八一镇永久村 | H24: 购置电视机16台、购置床32张、购置沙发10张。 | I24: 10 | J24: 10 | K24: 0 | L24: 经营类 | M24: 林芝市巴宜区八一镇永久村次仁德吉藏家乐农民专业合作社 | N24: 八一镇永久村次仁德吉藏家乐农民专业合作社 | O24: 林芝市巴宜区八一镇永久村次仁德吉藏家乐农民专业合作社 | P24: 林芝市巴宜区八一镇永久村次仁德吉藏家乐农民专业合作社 | Q24: 林芝市巴宜区农业农村局、林芝市巴宜区八一镇人民政府 | R24: 巩固 | S24: 农牧民专合社（设备已被售卖，用来养猪）
A25: 21 | B25: 135 | C25: 2016 | D25: 统筹整合涉农资金 | E25: 八一镇 | F25: 八一镇巴吉玉米尼玛扎西藏猪养殖基地扩建项目 | G25: 八一镇巴吉村 | H25: 购置藏猪（种）猪20头、购置半成品猪50头、购置玉米30000斤、购置小麦20000斤、购置大豆2500斤、制作广告牌1.5万元。 | I25: 20 | J25: 20 | K25: 0 | L25: 到户类 | M25: 个体户 | N25: 个体户 | O25: 个体户 | P25: 个体户 | Q25: 八一镇巴吉村村民委员会
A26: 22 | B26: 151 | C26: 2017 | D26: 统筹整合涉农资金 | E26: 八一镇 | F26: 八一镇精准扶贫藏猪养殖项目 | G26: 八一镇巴果绕村、唐地村 | H26: 扩建养猪场、购买配套设施、养殖90头藏香猪。 | I26: 15.2 | J26: 15.2 | K26: 0 | L26: 到户类 | M26: 八一镇巴果绕村2户村民，八一镇唐地村1户村民 | N26: 八一镇巴果绕村2户村民，八一镇唐地村1户村民 | O26: 八一镇巴果绕村2户村民，八一镇唐地村1户村民 | P26: 八一镇巴果绕村2户村民，八一镇唐地村1户村民 | Q26: （八一镇巴果绕村、唐地村）村民委员会 | R26: -
A27: 23 | B27: 154 | C27: 2017 | D27: 统筹整合涉农资金 | E27: 八一镇 | F27: 八一镇加乃村多布杰养殖项目 | G27: 八一镇加乃村 | H27: 修建牛棚及配套设施、养殖4头犏奶牛。 | I27: 5.23 | J27: 5.23 | K27: 0 | L27: 到户类 | M27: 八一镇加乃村1户村民 | N27: 八一镇加乃村1户村民 | O27: 八一镇加乃村1户村民 | P27: 八一镇加乃村1户村民 | Q27: 八一镇加乃村村民委员会 | R27: -
A28: 24 | B28: 168 | C28: 2017 | D28: 统筹整合涉农资金 | E28: 八一镇 | F28: 八一镇唐地村葡萄种植项目 | G28: 八一镇唐地村 | H28: 在原有藏药材种植基础上，种植葡萄面积100亩及土地改良，配套相关设施 | I28: 40 | J28: 40 | K28: 0 | L28: 到户类 | M28: 八一镇唐地村72户村民 | N28: 八一镇唐地村72户村民 | O28: 八一镇唐地村72户村民 | P28: 八一镇唐地村72户村民 | Q28: 八一镇唐地村村民委员会 | R28: -
A29: 25 | B29: 180 | C29: 2018 | D29: 统筹整合涉农资金 | E29: 八一镇 | F29: 藏佳香青稞咖啡生产扩建项目 | G29: 八一镇永久村 | H29: 扩建厂房，购买相关设备及原材料 | I29: 30 | J29: 30 | K29: 0 | L29: 经营类 | M29: 西藏林芝藏佳香土特食品有限公司 | N29: 西藏林芝藏佳香土特食品有限公司 | O29: 西藏林芝藏佳香土特食品有限公司 | P29: 西藏林芝藏佳香土特食品有限公司 | Q29: 林芝市巴宜区农业农村局、林芝市巴宜区八一镇人民政府 | R29: 巩固 | S29: 私人企业，原在永久村目前已经搬迁至经开区
A30: 26 | B30: 182 | C30: 2018 | D30: 统筹整合涉农资金 | E30: 八一镇 | F30: 巴宜区八一镇集中安置点 | G30: 八一镇加乃村 | H30: 投资120万元加乃村购买犏奶牛或其他奶牛品种30头，配套购置饲草料，圈舍及相关设施。 | I30: 119.96 | J30: 119.96 | K30: 0 | L30: 到户类 | M30: 八一镇加乃村15户村民 | N30: 八一镇加乃村15户村民 | O30: 八一镇加乃村15户村民 | P30: 八一镇加乃村15户村民 | Q30: 八一镇加乃村村民委员会 | R30: -
A31: 27 | B31: 186 | C31: 2018 | D31: 统筹整合涉农资金 | E31: 八一镇 | F31: 八一镇公众村综合养殖建设项目 | G31: 八一镇公众村 | H31: 发展藏鸡养殖10000只，新建鸡舍2000平米，配套设施。 | I31: 72 | J31: 72 | K31: 0 | L31: 经营类 | M31: 林芝市巴宜区八一镇公众村色定组股份经济合作社 | N31: 西藏润森农牧科技发展有限公司 | O31: 林芝市巴宜区八一镇公众村色定组股份经济合作社 | P31: 林芝市巴宜区八一镇公众村色定组股份经济合作社 | Q31: 林芝市巴宜区农业农村局、林芝市巴宜区八一镇人民政府 | R31: 调整 | S31: 政府投资部分确权到行政村集体（做资产评估）
A32: 28 | B32: 188 | C32: 2018 | D32: 统筹整合涉农资金 | E32: 八一镇 | F32: 八一镇唐地村玉龙山庄农家乐建设项目 | G32: 八一镇唐地村 | H32: 扩建农家乐20间住宿、娱乐厅100㎡及餐饮配套设施。 | I32: 30 | J32: 30 | K32: 0 | L32: 经营类 | M32: 林芝玉龙牧云旅游文化有限公司 | N32: 林芝玉龙牧云旅游文化有限公司 | O32: 林芝玉龙牧云旅游文化有限公司 | P32: 林芝玉龙牧云旅游文化有限公司 | Q32: 林芝市巴宜区农业农村局、林芝市巴宜区八一镇人民政府 | R32: 巩固 | S32: 个体户
A33: 29 | B33: 189 | C33: 2018 | D33: 统筹整合涉农资金 | E33: 八一镇 | F33: 八一镇加定村杰布农家旅馆改造项目 | G33: 八一镇加定村 | H33: 扩大旅游接待中心、改造庭院设计。 | I33: 200.29 | J33: 40 | K33: 160.29 | L33: 经营类 | M33: 巴宜区八一镇公众村杰布农家旅馆 | N33: 巴宜区八一镇公众村杰布农家旅馆 | O33: 巴宜区八一镇公众村杰布农家旅馆 | P33: 巴宜区八一镇公众村杰布农家旅馆 | Q33: 林芝市巴宜区农业农村局、林芝市巴宜区八一镇人民政府 | R33: 巩固 | S33: 个体户
A34: 30 | B34: 194 | C34: 2018 | D34: 统筹整合涉农资金 | E34: 八一镇 | F34: 八一镇拉丁嘎唐绕村比日神山蔬菜种植项目 | G34: 八一镇拉丁嘎唐绕村比日神山 | H34: 扩大蔬菜大棚3座、一座温室大棚面积为320㎡，养殖藏香猪100头。 | I34: 16 | J34: 16 | K34: 0 | L34: 到户类 | M34: 八一镇拉丁嘎村1户村民 | N34: 八一镇拉丁嘎村1户村民 | O34: 八一镇拉丁嘎村1户村民 | P34: 八一镇拉丁嘎村1户村民 | Q34: 八一镇拉丁嘎唐绕村村民委员会 | R34: -
A35: 31 | B35: 197 | C35: 2018 | D35: 统筹整合涉农资金 | E35: 八一镇 | F35: 八一镇唐地村休闲采摘餐饮观光园建设项目 | G35: 八一镇唐地村 | H35: 规划修建蔬菜大棚两座、 配套蓄水池、饮水渠、园区清理整治、道路铺修及雪松种植1000棵，苹果、樱桃、蓝莓采摘园建设。 | I35: 36 | J35: 36 | K35: 0 | L35: 到户类 | M35: 八一镇唐地村1户村民 | N35: 林芝互生生态农业发展有限公司 | O35: 八一镇唐地村1户村民 | P35: 八一镇唐地村1户村民 | Q35: 八一镇唐地村村民委员会 | R35: -
A36: 32 | B36: 201 | C36: 2018 | D36: 统筹整合涉农资金 | E36: 八一镇 | F36: 八一镇公众村格桑养殖项目 | G36: 八一镇公众村 | H36: 修建牛棚及配套设施、养殖4头犏奶牛。 | I36: 5 | J36: 5 | K36: 0 | L36: 到户类 | M36: 八一镇公众村1户村民 | N36: 八一镇公众村1户村民 | O36: 八一镇公众村1户村民 | P36: 八一镇公众村1户村民 | Q36: 八一镇公众村村民委员会 | R36: -
A37: 33 | B37: 202 | C37: 2018 | D37: 统筹整合涉农资金 | E37: 八一镇 | F37: 八一镇加当嘎村边巴次仁奶牛养殖项目 | G37: 八一镇加当嘎村 | H37: 扩建厂房1000㎡。草场围栏1000亩、购买犏奶牛50头。 | I37: 30 | J37: 30 | K37: 0 | L37: 经营类 | M37: 个体户 | N37: 个体户 | O37: 个体户 | P37: 个体户 | Q37: 林芝市巴宜区农业农村局、林芝市巴宜区八一镇人民政府 | R37: 巩固 | S37: 个体户
A38: 34 | B38: 205 | C38: 2018 | D38: 统筹整合涉农资金 | E38: 八一镇 | F38: 八一镇尼西村旺久商店建设项目 | G38: 八一镇尼西村 | H38: 新建80㎡的商店，货架、日常货品。 | I38: 5 | J38: 5 | K38: 0 | L38: 到户类 | M38: 八一镇尼西村1户村民 | N38: 八一镇尼西村1户村民 | O38: 八一镇尼西村1户村民 | P38: 八一镇尼西村1户村民 | Q38: 八一镇尼西村村民委员会 | R38: -
A39: 35 | B39: 209 | C39: 2018 | D39: 统筹整合涉农资金 | E39: 八一镇 | F39: 巴宜区多旺农牧民手工艺糌粑加工厂项目 | G39: 八一镇加定村 | H39: 糌粑加工机器设备、公司道路硬化、其它工艺 | I39: 59 | J39: 59 | K39: 0 | L39: 经营类 | M39: 多旺农牧民手工艺品营销专业合作社 | N39: 多旺农牧民手工艺品营销专业合作社 | O39: 多旺农牧民手工艺品营销专业合作社 | P39: 多旺农牧民手工艺品营销专业合作社 | Q39: 林芝市巴宜区农业农村局、林芝市巴宜区八一镇人民政府 | R39: 巩固 | S39: 农牧民专合社
A40: 36 | B40: 210 | C40: 2018 | D40: 统筹整合涉农资金 | E40: 八一镇 | F40: 林芝市巴宜区八一镇巴吉村措木及林下资源加工厂项目 | G40: 八一镇巴吉村 | H40: 扩建加工厂、购置原材料和精细加工设备 | I40: 40 | J40: 40 | K40: 0 | L40: 经营类 | M40: 林芝市巴宜区八一镇巴吉村措木及林下资源加工农牧民合作社 | N40: 林芝市巴宜区八一镇巴吉村措木及林下资源加工农牧民合作社 | O40: 林芝市巴宜区八一镇巴吉村措木及林下资源加工农牧民合作社 | P40: 林芝市巴宜区八一镇巴吉村措木及林下资源加工农牧民合作社 | Q40: 林芝市巴宜区农业农村局、林芝市巴宜区八一镇人民政府 | R40: 巩固 | S40: 农牧民专合社
A41: 37 | B41: 219 | C41: 2018 | D41: 统筹整合涉农资金 | E41: 八一镇 | F41: 三岩搬迁项目巴宜区八一镇集中安置点大棚建设 | G41: 巴宜区八一镇集中安置点 | H41: 巴宜区八一镇集中安置点：178万用于修建大棚，发展瓜果种植并配套完善相关灌溉设施，土地整治。 | I41: 177.61 | J41: 177.61 | K41: 0 | L41: 经营类 | M41: 林芝市巴宜区八一镇加乃村股份经济合作联合社 | N41: 西藏汇莱农业科技有限公司 | O41: 林芝市巴宜区八一镇加乃村股份经济合作联合社 | P41: 林芝市巴宜区八一镇加乃村股份经济合作联合社 | Q41: 林芝市巴宜区农业农村局、林芝市巴宜区八一镇人民政府 | R41: 升级
...

Sheet 帮扶项目确权表按乡镇
A3: 序号 | B3: 项目 年度 | C3: 资金来源 | D3: 乡镇 | E3: 项目 名称 | F3: 项目实施地点 | G3: 项目主要建设内容 | H3: 计划投资（万元） | K3: 项目 分类情况 | L3: 所有权 | M3: 经营权 | N3: 受益权 | O3: 处置权 | P3: 监督权 | Q3: 经营性项目“四个一批”分类 | R3: 备注
H4: 、 | I4: 政策性资金 | J4: 其他渠道资金
A5: 8 | B5: 2013 | C5: 专项扶贫资金 | D5: 八一镇 | E5: 八一镇公仲村经济林木建设项目 | F5: 八一镇公仲村 | G5: 扶持20户低收入群众发展经济林木种植项目，购置水蜜桃、油桃、梨子、核桃树苗18000株，集中种植300亩，及配套灌溉渠道1500米。 | H5: 40 | I5: 40 | J5: 0 | K5: 到户类 | L5: 八一镇公众村20户村民 | M5: 八一镇公众村20户村民 | N5: 八一镇公众村20户村民 | O5: 八一镇公众村20户村民 | Q5: -
A6: 23 | B6: 2013 | C6: 专项扶贫资金 | D6: 八一镇 | E6: 八一镇尼西村水果蔬菜种植温室项目 | F6: 八一镇尼西村 | G6: 建设规模及内容为修建20米×8米单拱三面砖混温室8座。 | H6: 35 | I6: 35 | J6: 0 | K6: 到户类 | L6: 八一镇尼西村13户村民 | M6: 八一镇尼西村13户村民 | N6: 八一镇尼西村13户村民 | O6: 八一镇尼西村13户村民 | Q6: -
A7: 25 | B7: 2013 | C7: 专项扶贫资金 | D7: 八一镇 | E7: 八一镇色定村阿吉林特色经济发展农牧民专业合作社藏民族手工艺品生产厂区建设项目 | F7: 八一镇色定村 | G7: 建立供销一体化的民族手工艺品生产基地242.25平方米，购买烙画机、毛皮软化机、打磨机、粉碎机、真空包装机、烘干机、缝纫机、打孔机、编织机等机械设备，以及相关人员培训。 | H7: 42 | I7: 42 | J7: 0 | K7: 经营类 | L7: 林芝县八一镇色定村阿吉特色经济发展农牧民专业合作社 | M7: 林芝县八一镇色定村阿吉特色经济发展农牧民专业合作社 | N7: 林芝县八一镇色定村阿吉特色经济发展农牧民专业合作社 | O7: 林芝县八一镇色定村阿吉特色经济发展农牧民专业合作社 | P7: 林芝市巴宜区农业农村局、林芝市巴宜区八一镇人民政府 | Q7: 巩固 | R7: 农牧民专合社
A8: 34 | B8: 2014 | C8: 专项扶贫资金 | D8: 八一镇 | E8: 八一镇永久村农家乐建设项目 | F8: 八一镇永久村 | G8: 建设占地面积1485平米的农家乐，其中包括集住宿饮食一体的接待楼1栋300平米，修建砖混结构围墙59.6米。 | H8: 45 | I8: 45 | J8: 0 | K8: 到户类 | L8: 个体户 | M8: 个体户 | N8: 个体户 | O8: 个体户 | Q8: -
A9: 35 | B9: 2014 | C9: 专项扶贫资金 | D9: 八一镇 | E9: 八一镇加乃村农田灌溉项目 | F9: 八一镇加乃村 | G9: 新修建灌渠两条共计3000m（分别长1600m，1400m），新开荒地132亩，种植核桃102亩。 | H9: 98.41 | I9: 98.41 | J9: 0 | K9: 公益类 | L9: 林芝市巴宜区八一镇加乃村股份经济合作联合社 | M9: 林芝市巴宜区八一镇加乃村股份经济合作联合社 | N9: 林芝市巴宜区八一镇加乃村股份经济合作联合社 | O9: 林芝市巴宜区八一镇加乃村股份经济合作联合社 | P9: 林芝市巴宜区农业农村局、林芝市巴宜区八一镇人民政府 | Q9: -
A10: 36 | B10: 2014 | C10: 专项扶贫资金 | D10: 八一镇 | E10: 八一镇色定村蜜蜂养殖项目 | F10: 八一镇色定村 | G10: 购置中锋220箱、意蜂220箱，购买白糖11吨，购买养蜂专用保温布250平方米。 | H10: 60 | I10: 60 | J10: 0 | K10: 经营类 | L10: 八一镇色定村异彩种养业农牧民专业合作社 | M10: 八一镇色定村异彩种养业农牧民专业合作社 | N10: 八一镇色定村异彩种养业农牧民专业合作社 | O10: 八一镇色定村异彩种养业农牧民专业合作社 | P10: 林芝市巴宜区农业农村局、林芝市巴宜区八一镇人民政府 | Q10: 巩固 | R10: 农牧民专合社
A11: 44 | B11: 2014 | C11: 专项扶贫资金 | D11: 八一镇 | E11: 八一镇加定村藏香及民族服饰加工常建设项目 | F11: 八一镇加定村 | G11: 藏香加工：厂房120平方米，YD不锈钢线香机一台、YD-218高产量木粉加工粉粹机1台及传统加工设备。 民族服饰加工：修建库房80平方米，购置N061缩呢机1台、修建羊毛消毒池1座、清洗池1座、850型羊毛、羊绒梳理机1台，木质织呢机8台。 | H11: 75 | I11: 75 | J11: 0 | K11: 经营类 | L11: 工布民族手工艺农牧民专业合作社 | M11: 工布民族手工艺农牧民专业合作社 | N11: 工布民族手工艺农牧民专业合作社 | O11: 工布民族手工艺农牧民专业合作社 | P11: 林芝市巴宜区农业农村局、林芝市巴宜区八一镇人民政府 | Q11: 巩固 | R11: 农牧民专合社
A12: 49 | B12: 2014 | C12: 专项扶贫资金 | D12: 八一镇 | E12: 八一镇拉丁嘎旅游接待中心建设项目 | F12: 八一镇拉丁嘎村 | G12: 建设占地面积503.82平米的旅游接待点。配套给排水工程及餐桌椅、床、热水器等。 | H12: 120 | I12: 120 | J12: 0 | K12: 经营类 | L12: 林芝市巴宜区八一镇拉丁嘎村股份经济合作联合社 | M12: 林芝市巴宜区创投城市运营管理有限公司 | N12: 林芝市巴宜区八一镇拉丁嘎村股份经济合作联合社 | O12: 林芝市巴宜区八一镇拉丁嘎村股份经济合作联合社 | P12: 林芝市巴宜区农业农村局、林芝市巴宜区八一镇人民政府 | Q12: 巩固
A13: 70 | B13: 2015 | C13: 专项扶贫资金 | D13: 八一镇 | E13: 八一镇拉丁嘎村农田灌溉水渠建设项目 | F13: 八一镇拉丁嘎村 | G13: 新建1500m长PE水管，取水口1座，消力池1座，分水池3座，支渠4条，各100m。 | H13: 50 | I13: 50 | J13: 0 | K13: 公益类 | L13: 林芝市巴宜区八一镇拉丁嘎村股份经济合作联合社 | M13: 林芝市巴宜区八一镇拉丁嘎村股份经济合作联合社 | N13: 林芝市巴宜区八一镇拉丁嘎村股份经济合作联合社 | O13: 林芝市巴宜区八一镇拉丁嘎村股份经济合作联合社 | P13: 林芝市巴宜区农业农村局、林芝市巴宜区八一镇人民政府 | Q13: -
A14: 73 | B14: 2015 | C14: 专项扶贫资金 | D14: 八一镇 | E14: 八一镇永久村牲畜养殖项目 | F14: 八一镇永久村 | G14: 扶持八一镇永久村8户26人建设占地面积1250平米的砖木结构猪舍140平米，砖木结构牛舍210平方米，购买犏奶牛70头，藏香猪仔70头。 | H14: 40 | I14: 40 | J14: 0 | K14: 到户类 | L14: 八一镇永久村8户村民 | M14: 八一镇永久村8户村民 | N14: 八一镇永久村8户村民 | O14: 八一镇永久村8户村民 | Q14: -
A15: 78 | B15: 2015 | C15: 专项扶贫资金 | D15: 八一镇 | E15: 八一镇公众村玫瑰种植项目 | F15: 八一镇公众村 | G15: 扶持八一镇公众村新建砖混结构加工车间240平方米；新建砖混结构办公区域240平方米；新建砖混结构职工住房60平方米；玫瑰种植70亩，配套相关设施设备包括机耕道、引水管道及配件；新购机械设备18台套。 | H15: 270 | I15: 270 | J15: 0 | K15: 经营类 | L15: 林芝市巴宜区八一镇公众村公众组股份经济合作社 | M15: 巴宜区卡丁圣和农业开发有限公司 | N15: 林芝市巴宜区八一镇公众村公众组股份经济合作社 | O15: 林芝市巴宜区八一镇公众村公众组股份经济合作社 | P15: 林芝市巴宜区农业农村局、林芝市巴宜区八一镇人民政府 | Q15: 调整 | R15: 原经营方跑路，所有权确定
A16: 79 | B16: 2015 | C16: 专项扶贫资金 | D16: 八一镇 | E16: 八一镇公众村果树种植项目 | F16: 八一镇公众村 | G16: 建设项目规模：加定村种植苹果、梨、核桃等水果70亩，色定村种植苹果、梨、核桃等水果80亩；配套输水管道6000米，道路整修3000米，相关设备，建设网围栏2000米。 | H16: 130 | I16: 130 | J16: 0 | K16: 经营类 | L16: 林芝市巴宜区八一镇公众村公众组股份经济合作社 | M16: 巴宜区卡丁圣和农业开发有限公司 | N16: 林芝市巴宜区八一镇公众村公众组股份经济合作社 | O16: 林芝市巴宜区八一镇公众村公众组股份经济合作社 | P16: 林芝市巴宜区农业农村局、林芝市巴宜区八一镇人民政府 | Q16: 调整 | R16: 原经营方跑路，所有权确定
A17: 93 | B17: 2015 | C17: 援藏资金 | D17: 八一镇 | E17: 林芝县农家乐家庭旅馆建设 | F17: 八一镇 | G17: 家庭旅馆965.8平方米 | H17: 299.97 | I17: 299.97 | J17: 0 | K17: 经营类 | L17: 林芝市巴宜区八一镇公众村色定组股份经济合作社 | M17: 林芝市巴宜区八一镇公众村色定组股份经济合作社 | N17: 林芝市巴宜区八一镇公众村色定组股份经济合作社 | O17: 林芝市巴宜区八一镇公众村色定组股份经济合作社 | P17: 林芝市巴宜区农业农村局、林芝市巴宜区八一镇人民政府 | Q17: 调整 | R17: 村有多个经济合作社
A18: 99 | B18: 2016 | C18: 统筹整合涉农资金 | D18: 八一镇 | E18: 八一镇犏奶牛养殖项目 | F18: 八一镇巴果绕村、巴吉村、多布村、拉丁嘎村、永久村、章麦村、唐地村、尼西村、加乃村 | G18: 购买42头犏奶牛，新建牛舍630㎡。 | H18: 55.68 | I18: 55.68 | J18: 0 | K18: 到户类 | L18: 八一镇永久村1户村民，八一镇拉丁嘎村6户村民，八一镇巴果绕村1户村民，八一镇巴吉村1户村民，八一镇多布村1户村，八一镇加乃村2户村民，八一镇尼西村2户村民，八一镇唐地村5户村民，八一镇章麦村2户村民 | M18: 八一镇永久村1户村民，八一镇拉丁嘎村6户村民，八一镇巴果绕村1户村民，八一镇巴吉村1户村民，八一镇多布村1户村，八一镇加乃村2户村民，八一镇尼西村2户村民，八一镇唐地村5户村民，八一镇章麦村2户村民 | N18: 八一镇永久村1户村民，八一镇拉丁嘎村6户村民，八一镇巴果绕村1户村民，八一镇巴吉村1户村民，八一镇多布村1户村，八一镇加乃村2户村民，八一镇尼西村2户村民，八一镇唐地村5户村民，八一镇章麦村2户村民 | O18: 八一镇永久村1户村民，八一镇拉丁嘎村6户村民，八一镇巴果绕村1户村民，八一镇巴吉村1户村民，八一镇多布村1户村，八一镇加乃村2户村民，八一镇尼西村2户村民，八一镇唐地村5户村民，八一镇章麦村2户村民 | Q18: -
A19: 100 | B19: 2016 | C19: 统筹整合涉农资金 | D19: 八一镇 | E19: 八一镇藏香猪项目 | F19: 八一镇巴果绕村、公众村、加当嘎村、拉丁嘎村、章麦村、尼西村 | G19: 购买510头藏香猪猪仔，新建猪舍340㎡。 | H19: 50.6 | I19: 50.6 | J19: 0 | K19: 到户类 | L19: 八一镇拉丁嘎村5户村民，八一镇加当嘎村2户村民，八一镇公众村1户村民，八一镇巴果绕村2户村民，八一镇尼西村1户村民，八一镇唐地村1户村民，八一镇章麦村3户村民 | M19: 八一镇拉丁嘎村5户村民，八一镇加当嘎村2户村民，八一镇公众村1户村民，八一镇巴果绕村2户村民，八一镇尼西村1户村民，八一镇唐地村1户村民，八一镇章麦村3户村民 | N19: 八一镇拉丁嘎村5户村民，八一镇加当嘎村2户村民，八一镇公众村1户村民，八一镇巴果绕村2户村民，八一镇尼西村1户村民，八一镇唐地村1户村民，八一镇章麦村3户村民 | O19: 八一镇拉丁嘎村5户村民，八一镇加当嘎村2户村民，八一镇公众村1户村民，八一镇巴果绕村2户村民，八一镇尼西村1户村民，八一镇唐地村1户村民，八一镇章麦村3户村民 | Q19: -
A20: 101 | B20: 2016 | C20: 统筹整合涉农资金 | D20: 八一镇 | E20: 八一镇藏鸡养殖 | F20: 八一镇永久村、尼西村 | G20: 购买藏鸡鸡苗200只。新建鸡舍90㎡。 | H20: 10.08 | I20: 10.08 | J20: 0 | K20: 到户类 | L20: 八一镇永久村1户村民，八一镇尼西村1户村民 | M20: 八一镇永久村1户村民，八一镇尼西村1户村民 | N20: 八一镇永久村1户村民，八一镇尼西村1户村民 | O20: 八一镇永久村1户村民，八一镇尼西村1户村民 | Q20: -
A21: 113 | B21: 2016 | C21: 统筹整合涉农资金 | D21: 八一镇 | E21: 八一镇果树种植经济林木种植项目 | F21: 八一镇巴吉村 | G21: 打水井1眼，购买不锈钢高压水泵1台，购买有机肥20吨，购买网纹管PVC软管1070m，购买苹果树苗1000株。 | H21: 13.38 | I21: 13.38 | J21: 0 | K21: 经营类 | L21: 林芝市巴宜区八一镇巴吉村玉米组股份经济合作社 | M21: 林芝市巴宜区八一镇巴吉村玉米组股份经济合作社 | N21: 林芝市巴宜区八一镇巴吉村玉米组股份经济合作社 | O21: 林芝市巴宜区八一镇巴吉村玉米组股份经济合作社 | P21: 林芝市巴宜区农业农村局、林芝市巴宜区八一镇人民政府 | Q21: 巩固
A22: 114 | B22: 2016 | C22: 统筹整合涉农资金 | D22: 八一镇 | E22: 八一镇蔬菜大棚建设项目 | F22: 八一镇加当嘎村 | G22: 修建8m*40m单拱钢架结构温室1座。 | H22: 5.15 | I22: 5.15 | J22: 0 | K22: 到户类 | L22: 八一镇加当嘎村1户村民 | M22: 八一镇加当嘎村1户村民 | N22: 八一镇加当嘎村1户村民 | O22: 八一镇加当嘎村1户村民 | Q22: -
A23: 124 | B23: 2016 | C23: 统筹整合涉农资金 | D23: 八一镇 | E23: 八一镇色定村藏香加工厂项目 | F23: 八一镇公众村 | G23: 道路硬化300㎡及厂区绿化。 | H23: 9.54 | I23: 9.54 | J23: 0 | K23: 公益类 | L23: 工布民族手工艺农牧民专业合作社 | M23: 工布民族手工艺农牧民专业合作社 | N23: 工布民族手工艺农牧民专业合作社 | O23: 工布民族手工艺农牧民专业合作社 | P23: 林芝市巴宜区农业农村局、林芝市巴宜区八一镇人民政府 | Q23: -
A24: 134 | B24: 2016 | C24: 统筹整合涉农资金 | D24: 八一镇 | E24: 八一镇永久村次仁德吉藏家乐扩建项目 | F24: 八一镇永久村 | G24: 购置电视机16台、购置床32张、购置沙发10张。 | H24: 10 | I24: 10 | J24: 0 | K24: 经营类 | L24: 林芝市巴宜区八一镇永久村次仁德吉藏家乐农民专业合作社 | M24: 八一镇永久村次仁德吉藏家乐农民专业合作社 | N24: 林芝市巴宜区八一镇永久村次仁德吉藏家乐农民专业合作社 | O24: 林芝市巴宜区八一镇永久村次仁德吉藏家乐农民专业合作社 | P24: 林芝市巴宜区农业农村局、林芝市巴宜区八一镇人民政府 | Q24: 巩固 | R24: 农牧民专合社
A25: 135 | B25: 2016 | C25: 统筹整合涉农资金 | D25: 八一镇 | E25: 八一镇巴吉玉米尼玛扎西藏猪养殖基地扩建项目 | F25: 八一镇巴吉村 | G25: 购置藏猪（种）猪20头、购置半成品猪50头、购置玉米30000斤、购置小麦20000斤、购置大豆2500斤、制作广告牌1.5万元。 | H25: 20 | I25: 20 | J25: 0 | K25: 到户类 | L25: 个体户 | M25: 个体户 | N25: 个体户 | O25: 个体户
A26: 151 | B26: 2017 | C26: 统筹整合涉农资金 | D26: 八一镇 | E26: 八一镇精准扶贫藏猪养殖项目 | F26: 八一镇巴果绕村、唐地村 | G26: 扩建养猪场、购买配套设施、养殖90头藏香猪。 | H26: 15.2 | I26: 15.2 | J26: 0 | K26: 到户类 | L26: 八一镇巴果绕村2户村民，八一镇唐地村1户村民 | M26: 八一镇巴果绕村2户村民，八一镇唐地村1户村民 | N26: 八一镇巴果绕村2户村民，八一镇唐地村1户村民 | O26: 八一镇巴果绕村2户村民，八一镇唐地村1户村民 | Q26: -
A27: 154 | B27: 2017 | C27: 统筹整合涉农资金 | D27: 八一镇 | E27: 八一镇加乃村多布杰养殖项目 | F27: 八一镇加乃村 | G27: 修建牛棚及配套设施、养殖4头犏奶牛。 | H27: 5.23 | I27: 5.23 | J27: 0 | K27: 到户类 | L27: 八一镇加乃村1户村民 | M27: 八一镇加乃村1户村民 | N27: 八一镇加乃村1户村民 | O27: 八一镇加乃村1户村民 | Q27: -
A28: 168 | B28: 2017 | C28: 统筹整合涉农资金 | D28: 八一镇 | E28: 八一镇唐地村葡萄种植项目 | F28: 八一镇唐地村 | G28: 在原有藏药材种植基础上，种植葡萄面积100亩及土地改良，配套相关设施 | H28: 40 | I28: 40 | J28: 0 | K28: 到户类 | L28: 八一镇唐地村72户村民 | M28: 八一镇唐地村72户村民 | N28: 八一镇唐地村72户村民 | O28: 八一镇唐地村72户村民 | Q28: -
A29: 180 | B29: 2018 | C29: 统筹整合涉农资金 | D29: 八一镇 | E29: 藏佳香青稞咖啡生产扩建项目 | F29: 八一镇永久村 | G29: 扩建厂房，购买相关设备及原材料 | H29: 30 | I29: 30 | J29: 0 | K29: 经营类 | L29: 西藏林芝藏佳香土特食品有限公司 | M29: 西藏林芝藏佳香土特食品有限公司 | N29: 西藏林芝藏佳香土特食品有限公司 | O29: 西藏林芝藏佳香土特食品有限公司 | P29: 林芝市巴宜区农业农村局、林芝市巴宜区八一镇人民政府 | Q29: 升级 | R29: 私人企业
A30: 182 | B30: 2018 | C30: 统筹整合涉农资金 | D30: 八一镇 | E30: 巴宜区八一镇集中安置点 | F30: 八一镇加乃村 | G30: 投资120万元加乃村购买犏奶牛或其他奶牛品种30头，配套购置饲草料，圈舍及相关设施。 | H30: 119.96 | I30: 119.96 | J30: 0 | K30: 到户类 | L30: 八一镇加乃村15户村民 | M30: 八一镇加乃村15户村民 | N30: 八一镇加乃村15户村民 | O30: 八一镇加乃村15户村民 | Q30: -
A31: 186 | B31: 2018 | C31: 统筹整合涉农资金 | D31: 八一镇 | E31: 八一镇公众村综合养殖建设项目 | F31: 八一镇公众村 | G31: 发展藏鸡养殖10000只，新建鸡舍2000平米，配套设施。 | H31: 72 | I31: 72 | J31: 0 | K31: 经营类 | L31: 林芝市巴宜区八一镇公众村公众组股份经济合作社 | M31: 西藏润森农牧科技发展有限公司 | N31: 林芝市巴宜区八一镇公众村公众组股份经济合作社 | O31: 林芝市巴宜区八一镇公众村公众组股份经济合作社 | P31: 林芝市巴宜区农业农村局、林芝市巴宜区八一镇人民政府 | Q31: 升级 | R31: 私人企业
A32: 188 | B32: 2018 | C32: 统筹整合涉农资金 | D32: 八一镇 | E32: 八一镇唐地村玉龙山庄农家乐建设项目 | F32: 八一镇唐地村 | G32: 扩建农家乐20间住宿、娱乐厅100㎡及餐饮配套设施。 | H32: 30 | I32: 30 | J32: 0 | K32: 经营类 | L32: 杰布 | M32: 杰布 | N32: 杰布 | O32: 杰布 | P32: 林芝市巴宜区农业农村局、林芝市巴宜区八一镇人民政府 | Q32: 巩固 | R32: 个体户
A33: 189 | B33: 2018 | C33: 统筹整合涉农资金 | D33: 八一镇 | E33: 八一镇加定村杰布农家旅馆改造项目 | F33: 八一镇加定村 | G33: 扩大旅游接待中心、改造庭院设计。 | H33: 200.29 | I33: 40 | J33: 160.29 | K33: 经营类 | L33: 杰布庄园 | M33: 杰布庄园 | N33: 杰布庄园 | O33: 杰布庄园 | P33: 林芝市巴宜区农业农村局、林芝市巴宜区八一镇人民政府 | Q33: 巩固 | R33: 个体户
A34: 194 | B34: 2018 | C34: 统筹整合涉农资金 | D34: 八一镇 | E34: 八一镇拉丁嘎唐绕村比日神山蔬菜种植项目 | F34: 八一镇拉丁嘎唐绕村比日神山 | G34: 扩大蔬菜大棚3座、一座温室大棚面积为320㎡，养殖藏香猪100头。 | H34: 16 | I34: 16 | J34: 0 | K34: 到户类 | L34: 八一镇拉丁嘎村1户村民 | M34: 八一镇拉丁嘎村1户村民 | N34: 八一镇拉丁嘎村1户村民 | O34: 八一镇拉丁嘎村1户村民 | Q34: -
A35: 197 | B35: 2018 | C35: 统筹整合涉农资金 | D35: 八一镇 | E35: 八一镇唐地村休闲采摘餐饮观光园建设项目 | F35: 八一镇唐地村 | G35: 规划修建蔬菜大棚两座、 配套蓄水池、饮水渠、园区清理整治、道路铺修及雪松种植1000棵，苹果、樱桃、蓝莓采摘园建设。 | H35: 36 | I35: 36 | J35: 0 | K35: 到户类 | L35: 八一镇唐地村1户村民 | M35: 林芝互生生态农业发展有限公司 | N35: 八一镇唐地村1户村民 | O35: 八一镇唐地村1户村民 | Q35: -
A36: 201 | B36: 2018 | C36: 统筹整合涉农资金 | D36: 八一镇 | E36: 八一镇公众村格桑养殖项目 | F36: 八一镇公众村 | G36: 修建牛棚及配套设施、养殖4头犏奶牛。 | H36: 5 | I36: 5 | J36: 0 | K36: 到户类 | L36: 八一镇公众村1户村民 | M36: 八一镇公众村1户村民 | N36: 八一镇公众村1户村民 | O36: 八一镇公众村1户村民 | Q36: -
A37: 202 | B37: 2018 | C37: 统筹整合涉农资金 | D37: 八一镇 | E37: 八一镇加当嘎村边巴次仁奶牛养殖项目 | F37: 八一镇加当嘎村 | G37: 扩建厂房1000㎡。草场围栏1000亩、购买犏奶牛50头。 | H37: 30 | I37: 30 | J37: 0 | K37: 经营类 | L37: 个体户 | M37: 个体户 | N37: 个体户 | O37: 个体户 | P37: 林芝市巴宜区农业农村局、林芝市巴宜区八一镇人民政府 | Q37: 巩固 | R37: 个体户
A38: 205 | B38: 2018 | C38: 统筹整合涉农资金 | D38: 八一镇 | E38: 八一镇尼西村旺久商店建设项目 | F38: 八一镇尼西村 | G38: 新建80㎡的商店，货架、日常货品。 | H38: 5 | I38: 5 | J38: 0 | K38: 到户类 | L38: 八一镇尼西村1户村民 | M38: 八一镇尼西村1户村民 | N38: 八一镇尼西村1户村民 | O38: 八一镇尼西村1户村民 | Q38: -
A39: 209 | B39: 2018 | C39: 统筹整合涉农资金 | D39: 八一镇 | E39: 巴宜区多旺农牧民手工艺糌粑加工厂项目 | F39: 八一镇加定村 | G39: 糌粑加工机器设备、公司道路硬化、其它工艺 | H39: 59 | I39: 59 | J39: 0 | K39: 经营类 | L39: 多旺农牧民手工艺品营销专业合作社 | M39: 多旺农牧民手工艺品营销专业合作社 | N39: 多旺农牧民手工艺品营销专业合作社 | O39: 多旺农牧民手工艺品营销专业合作社 | P39: 林芝市巴宜区农业农村局、林芝市巴宜区八一镇人民政府 | Q39: 巩固 | R39: 农牧民专合社
A40: 210 | B40: 2018 | C40: 统筹整合涉农资金 | D40: 八一镇 | E40: 林芝市巴宜区八一镇巴吉村措木及林下资源加工厂项目 | F40: 八一镇巴吉村 | G40: 扩建加工厂、购置原材料和精细加工设备 | H40: 40 | I40: 40 | J40: 0 | K40: 经营类 | L40: 林芝市巴宜区八一镇巴吉村措木及林下资源加工农牧民合作社 | M40: 林芝市巴宜区八一镇巴吉村措木及林下资源加工农牧民合作社 | N40: 林芝市巴宜区八一镇巴吉村措木及林下资源加工农牧民合作社 | O40: 林芝市巴宜区八一镇巴吉村措木及林下资源加工农牧民合作社 | P40: 林芝市巴宜区农业农村局、林芝市巴宜区八一镇人民政府 | Q40: 巩固 | R40: 农牧民专合社
A41: 219 | B41: 2018 | C41: 统筹整合涉农资金 | D41: 八一镇 | E41: 三岩搬迁项目巴宜区八一镇集中安置点大棚建设 | F41: 巴宜区八一镇集中安置点 | G41: 巴宜区八一镇集中安置点：178万用于修建大棚，发展瓜果种植并配套完善相关灌溉设施，土地整治。 | H41: 177.61 | I41: 177.61 | J41: 0 | K41: 经营类 | L41: 林芝市巴宜区八一镇加乃村股份经济合作联合社 | M41: 西藏汇莱农业科技有限公司 | N41: 林芝市巴宜区八一镇加乃村股份经济合作联合社 | O41: 林芝市巴宜区八一镇加乃村股份经济合作联合社 | P41: 林芝市巴宜区农业农村局、林芝市巴宜区八一镇人民政府 | Q41: 升级
A42: 219 | B42: 2018 | C42: 统筹整合涉农资金 | D42: 八一镇 | E42: 三岩搬迁项目巴宜区八一镇集中安置点销售中心 | F42: 巴宜区八一镇集中安置点 | G42: 巴宜区八一镇集中安置点：170万用于培育一家现代综合农产品（果蔬）销售中心，通过生产、加工、包装等标准化建设，通过电商及线下销售，实现四个搬迁点共享使用。 | H42: 170 | I42: 170 | J42: 0 | K42: 经营类 | L42: 林芝市巴宜区八一镇加乃村股份经济合作联合社、林芝市巴宜区鲁朗镇明吉村村民委员会、林芝市巴宜区百巴镇强嘎村股份经济合作联合社、林芝市巴宜区更章门巴民族乡娘萨村股份经济合作联合社 | M42: 西藏赤董尼玛事业有限公司 | N42: 林芝市巴宜区八一镇加乃村股份经济合作联合社、林芝市巴宜区鲁朗镇明吉村村民委员会、林芝市巴宜区百巴镇强嘎村股份经济合作联合社、林芝市巴宜区更章门巴民族乡娘萨村股份经济合作联合社 | O42: 林芝市巴宜区八一镇加乃村股份经济合作联合社、林芝市巴宜区鲁朗镇明吉村村民委员会、林芝市巴宜区百巴镇强嘎村股份经济合作联合社、林芝市巴宜区更章门巴民族乡娘萨村股份经济合作联合社 | P42: 林芝市巴宜区农业农村局、林芝市巴宜区八一镇人民政府、林芝市巴宜区百巴镇人民政府、林芝市巴宜区更章乡人民政府、林芝市巴宜区鲁朗镇人民政府 | Q42: 巩固
...

Sheet 八一镇
A1: 巴宜区帮扶产业项目八一镇“四个一批分类及五权确权表
A3: 序号 | B3: 项目编码 | C3: 项目 年度 | D3: 资金来源 | E3: 乡镇 | F3: 项目 名称 | G3: 项目实施地点 | H3: 项目主要建设内容 | I3: 计划投资（万元） | L3: 项目 分类情况 | M3: 所有权 | N3: 经营权 | O3: 受益权 | P3: 处置权 | Q3: 监督权 | R3: 经营性项目“四个一批”分类 | S3: 备注
I4: 合计 | J4: 政策性资金 | K4: 其他渠道资金
A5: 1 | B5: 8 | C5: 2013 | D5: 专项扶贫资金 | E5: 八一镇 | F5: 八一镇公众村经济林木建设项目 | G5: 八一镇公众村 | H5: 扶持20户低收入群众发展经济林木种植项目，购置水蜜桃、油桃、梨子、核桃树苗18000株，集中种植300亩，及配套灌溉渠道1500米。 | I5: 40 | J5: 40 | K5: 0 | L5: 到户类 | M5: 八一镇公众村20户村民 | N5: 八一镇公众村20户村民 | O5: 八一镇公众村20户村民 | P5: 八一镇公众村20户村民 | Q5: 八一镇公众村村民委员会 | R5: -
A6: 2 | B6: 23 | C6: 2013 | D6: 专项扶贫资金 | E6: 八一镇 | F6: 八一镇尼西村水果蔬菜种植温室项目 | G6: 八一镇尼西村 | H6: 建设规模及内容为修建20米×8米单拱三面砖混温室8座。 | I6: 35 | J6: 35 | K6: 0 | L6: 到户类 | M6: 八一镇尼西村13户村民 | N6: 八一镇尼西村13户村民 | O6: 八一镇尼西村13户村民 | P6: 八一镇尼西村13户村民 | Q6: 八一镇尼西村村民委员会 | R6: -
A7: 3 | B7: 25 | C7: 2013 | D7: 专项扶贫资金 | E7: 八一镇 | F7: 八一镇色定村阿吉林特色经济发展农牧民专业合作社藏民族手工艺品生产厂区建设项目 | G7: 八一镇色定村 | H7: 建立供销一体化的民族手工艺品生产基地242.25平方米，购买烙画机、毛皮软化机、打磨机、粉碎机、真空包装机、烘干机、缝纫机、打孔机、编织机等机械设备，以及相关人员培训。 | I7: 42 | J7: 42 | K7: 0 | L7: 经营类 | M7: 林芝市巴宜区八一镇公众村色定组股份经济合作社 | N7: 林芝县八一镇色定村阿吉特色经济发展农牧民专业合作社 | O7: 林芝市巴宜区八一镇公众村色定组股份经济合作社 | P7: 林芝市巴宜区八一镇公众村色定组股份经济合作社 | Q7: 林芝市巴宜区农业农村局、林芝市巴宜区八一镇人民政府 | R7: 巩固 | S7: 农牧民专合社
A8: 4 | B8: 34 | C8: 2014 | D8: 专项扶贫资金 | E8: 八一镇 | F8: 八一镇永久村农家乐建设项目 | G8: 八一镇永久村 | H8: 建设占地面积1485平米的农家乐，其中包括集住宿饮食一体的接待楼1栋300平米，修建砖混结构围墙59.6米。 | I8: 45 | J8: 45 | K8: 0 | L8: 到户类 | M8: 个体户 | N8: 个体户 | O8: 个体户 | P8: 个体户 | Q8: 八一镇永久村村民委员会 | R8: -
A9: 5 | B9: 35 | C9: 2014 | D9: 专项扶贫资金 | E9: 八一镇 | F9: 八一镇加乃村农田灌溉项目 | G9: 八一镇加乃村 | H9: 新修建灌渠两条共计3000m（分别长1600m，1400m），新开荒地132亩，种植核桃102亩。 | I9: 98.41 | J9: 98.41 | K9: 0 | L9: 公益类 | M9: 林芝市巴宜区八一镇加乃村股份经济合作联合社 | N9: 林芝市巴宜区八一镇加乃村股份经济合作联合社 | O9: 林芝市巴宜区八一镇加乃村股份经济合作联合社 | P9: 林芝市巴宜区八一镇加乃村股份经济合作联合社 | Q9: 林芝市巴宜区农业农村局、林芝市巴宜区八一镇人民政府 | R9: -
A10: 6 | B10: 36 | C10: 2014 | D10: 专项扶贫资金 | E10: 八一镇 | F10: 八一镇色定村蜜蜂养殖项目 | G10: 八一镇色定村 | H10: 购置中锋220箱、意蜂220箱，购买白糖11吨，购买养蜂专用保温布250平方米。 | I10: 60 | J10: 60 | K10: 0 | L10: 经营类 | M10: 八一镇色定村异彩种养业农牧民专业合作社 | N10: 八一镇色定村异彩种养业农牧民专业合作社 | O10: 八一镇色定村异彩种养业农牧民专业合作社 | P10: 八一镇色定村异彩种养业农牧民专业合作社 | Q10: 林芝市巴宜区农业农村局、林芝市巴宜区八一镇人民政府 | R10: 巩固 | S10: 农牧民专合社
A11: 7 | B11: 44 | C11: 2014 | D11: 专项扶贫资金 | E11: 八一镇 | F11: 八一镇加定村藏香及民族服饰加工常建设项目 | G11: 八一镇加定村 | H11: 藏香加工：厂房120平方米，YD不锈钢线香机一台、YD-218高产量木粉加工粉粹机1台及传统加工设备。 民族服饰加工：修建库房80平方米，购置N061缩呢机1台、修建羊毛消毒池1座、清洗池1座、850型羊毛、羊绒梳理机1台，木质织呢机8台。 | I11: 75 | J11: 75 | K11: 0 | L11: 经营类 | M11: 工布民族手工艺农牧民专业合作社 | N11: 工布民族手工艺农牧民专业合作社 | O11: 工布民族手工艺农牧民专业合作社 | P11: 工布民族手工艺农牧民专业合作社 | Q11: 林芝市巴宜区农业农村局、林芝市巴宜区八一镇人民政府 | R11: 巩固 | S11: 农牧民专合社
A12: 8 | B12: 49 | C12: 2014 | D12: 专项扶贫资金 | E12: 八一镇 | F12: 八一镇拉丁嘎旅游接待中心建设项目 | G12: 八一镇拉丁嘎村 | H12: 建设占地面积503.82平米的旅游接待点。配套给排水工程及餐桌椅、床、热水器等。 | I12: 120 | J12: 120 | K12: 0 | L12: 经营类 | M12: 林芝市巴宜区八一镇拉丁嘎村股份经济合作联合社 | N12: 林芝市巴宜区城投公司 | O12: 林芝市巴宜区八一镇拉丁嘎村股份经济合作联合社 | P12: 林芝市巴宜区八一镇拉丁嘎村股份经济合作联合社 | Q12: 林芝市巴宜区农业农村局、林芝市巴宜区八一镇人民政府 | R12: 巩固
A13: 9 | B13: 70 | C13: 2015 | D13: 专项扶贫资金 | E13: 八一镇 | F13: 八一镇拉丁嘎村农田灌溉水渠建设项目 | G13: 八一镇拉丁嘎村 | H13: 新建1500m长PE水管，取水口1座，消力池1座，分水池3座，支渠4条，各100m。 | I13: 50 | J13: 50 | K13: 0 | L13: 公益类 | M13: 林芝市巴宜区八一镇拉丁嘎村股份经济合作联合社 | N13: 林芝市巴宜区八一镇拉丁嘎村股份经济合作联合社 | O13: 林芝市巴宜区八一镇拉丁嘎村股份经济合作联合社 | P13: 林芝市巴宜区八一镇拉丁嘎村股份经济合作联合社 | Q13: 林芝市巴宜区农业农村局、林芝市巴宜区八一镇人民政府 | R13: -
A14: 10 | B14: 73 | C14: 2015 | D14: 专项扶贫资金 | E14: 八一镇 | F14: 八一镇永久村牲畜养殖项目 | G14: 八一镇永久村 | H14: 扶持八一镇永久村8户26人建设占地面积1250平米的砖木结构猪舍140平米，砖木结构牛舍210平方米，购买犏奶牛70头，藏香猪仔70头。 | I14: 40 | J14: 40 | K14: 0 | L14: 到户类 | M14: 八一镇永久村8户村民 | N14: 八一镇永久村8户村民 | O14: 八一镇永久村8户村民 | P14: 八一镇永久村8户村民 | Q14: 八一镇永久村村民委员会 | R14: -
A15: 11 | B15: 78 | C15: 2015 | D15: 专项扶贫资金 | E15: 八一镇 | F15: 八一镇公众村玫瑰种植项目 | G15: 八一镇公众村 | H15: 扶持八一镇公众村新建砖混结构加工车间240平方米；新建砖混结构办公区域240平方米；新建砖混结构职工住房60平方米；玫瑰种植70亩，配套相关设施设备包括机耕道、引水管道及配件；新购机械设备18台套。 | I15: 270 | J15: 270 | K15: 0 | L15: 经营类 | M15: 林芝市巴宜区八一镇公众村色定组股份经济合作社 | N15: 巴宜区卡丁圣和农业开发有限公司 | O15: 林芝市巴宜区八一镇公众村色定组股份经济合作社 | P15: 林芝市巴宜区八一镇公众村色定组股份经济合作社 | Q15: 林芝市巴宜区农业农村局、林芝市巴宜区八一镇人民政府 | R15: 调整 | S15: 原经营方跑路，所有权确定给（村集体？）涉及政府拆迁
A16: 12 | B16: 79 | C16: 2015 | D16: 专项扶贫资金 | E16: 八一镇 | F16: 八一镇公众村果树种植项目 | G16: 八一镇公众村 | H16: 建设项目规模：加定村种植苹果、梨、核桃等水果70亩，色定村种植苹果、梨、核桃等水果80亩；配套输水管道6000米，道路整修3000米，相关设备，建设网围栏2000米。 | I16: 130 | J16: 130 | K16: 0 | L16: 经营类 | M16: 林芝市巴宜区八一镇公众村色定、加定组股份经济合作社 | N16: 巴宜区卡丁圣和农业开发有限公司 | O16: 林芝市巴宜区八一镇公众村色定、加定组股份经济合作社 | P16: 林芝市巴宜区八一镇公众村色定、加定组股份经济合作社 | Q16: 林芝市巴宜区农业农村局、林芝市巴宜区八一镇人民政府 | R16: 调整 | S16: 原经营方跑路，所有权确定给（村集体？）
A17: 13 | B17: 93 | C17: 2015 | D17: 援藏资金 | E17: 八一镇 | F17: 林芝县农家乐家庭旅馆建设 | G17: 八一镇 | H17: 家庭旅馆965.8平方米 | I17: 299.97 | J17: 299.97 | K17: 0 | L17: 经营类 | M17: 林芝市巴宜区八一镇公众村色定组股份经济合作社 | N17: 林芝市巴宜区八一镇公众村色定组股份经济合作社 | O17: 林芝市巴宜区八一镇公众村色定组股份经济合作社 | P17: 林芝市巴宜区八一镇公众村色定组股份经济合作社 | Q17: 林芝市巴宜区农业农村局、林芝市巴宜区八一镇人民政府 | R17: 调整 | S17: (涉及征地拆迁）资产处置需与援藏对接
A18: 14 | B18: 99 | C18: 2016 | D18: 统筹整合涉农资金 | E18: 八一镇 | F18: 八一镇犏奶牛养殖项目 | G18: 八一镇巴果绕村、巴吉村、多布村、拉丁嘎村、永久村、章麦村、唐地村、尼西村、加乃村 | H18: 购买42头犏奶牛，新建牛舍630㎡。 | I18: 55.68 | J18: 55.68 | K18: 0 | L18: 到户类 | M18: 八一镇永久村1户村民，八一镇拉丁嘎村6户村民，八一镇巴果绕村1户村民，八一镇巴吉村1户村民，八一镇多布村1户村，八一镇加乃村2户村民，八一镇尼西村2户村民，八一镇唐地村5户村民，八一镇章麦村2户村民 | N18: 八一镇永久村1户村民，八一镇拉丁嘎村6户村民，八一镇巴果绕村1户村民，八一镇巴吉村1户村民，八一镇多布村1户村，八一镇加乃村2户村民，八一镇尼西村2户村民，八一镇唐地村5户村民，八一镇章麦村2户村民 | O18: 八一镇永久村1户村民，八一镇拉丁嘎村6户村民，八一镇巴果绕村1户村民，八一镇巴吉村1户村民，八一镇多布村1户村，八一镇加乃村2户村民，八一镇尼西村2户村民，八一镇唐地村5户村民，八一镇章麦村2户村民 | P18: 八一镇永久村1户村民，八一镇拉丁嘎村6户村民，八一镇巴果绕村1户村民，八一镇巴吉村1户村民，八一镇多布村1户村，八一镇加乃村2户村民，八一镇尼西村2户村民，八一镇唐地村5户村民，八一镇章麦村2户村民 | Q18: （八一镇永久村、八一镇拉丁嘎村、八一镇巴果绕村、八一镇巴吉村、八一镇多布村、八一镇加乃村、八一镇尼西村、八一镇唐地村、八一镇章麦村）村民委员会 | R18: -
A19: 15 | B19: 100 | C19: 2016 | D19: 统筹整合涉农资金 | E19: 八一镇 | F19: 八一镇藏香猪项目 | G19: 八一镇巴果绕村、公众村、加当嘎村、拉丁嘎村、章麦村、尼西村 | H19: 购买510头藏香猪猪仔，新建猪舍340㎡。 | I19: 50.6 | J19: 50.6 | K19: 0 | L19: 到户类 | M19: 八一镇拉丁嘎村5户村民，八一镇加当嘎村2户村民，八一镇公众村1户村民，八一镇巴果绕村2户村民，八一镇尼西村1户村民，八一镇唐地村1户村民，八一镇章麦村3户村民 | N19: 八一镇拉丁嘎村5户村民，八一镇加当嘎村2户村民，八一镇公众村1户村民，八一镇巴果绕村2户村民，八一镇尼西村1户村民，八一镇唐地村1户村民，八一镇章麦村3户村民 | O19: 八一镇拉丁嘎村5户村民，八一镇加当嘎村2户村民，八一镇公众村1户村民，八一镇巴果绕村2户村民，八一镇尼西村1户村民，八一镇唐地村1户村民，八一镇章麦村3户村民 | P19: 八一镇拉丁嘎村5户村民，八一镇加当嘎村2户村民，八一镇公众村1户村民，八一镇巴果绕村2户村民，八一镇尼西村1户村民，八一镇唐地村1户村民，八一镇章麦村3户村民 | Q19: （八一镇拉丁嘎、八一镇加当嘎村、八一镇公众村、八一镇巴果绕村、八一镇尼西村、八一镇唐地村、八一镇章麦村）村民委员会 | R19: -
A20: 16 | B20: 101 | C20: 2016 | D20: 统筹整合涉农资金 | E20: 八一镇 | F20: 八一镇藏鸡养殖 | G20: 八一镇永久村、尼西村 | H20: 购买藏鸡鸡苗200只。新建鸡舍90㎡。 | I20: 10.08 | J20: 10.08 | K20: 0 | L20: 到户类 | M20: 八一镇永久村1户村民，八一镇尼西村1户村民 | N20: 八一镇永久村1户村民，八一镇尼西村1户村民 | O20: 八一镇永久村1户村民，八一镇尼西村1户村民 | P20: 八一镇永久村1户村民，八一镇尼西村1户村民 | Q20: 八一镇永久村、尼西村村民委员会 | R20: -
A21: 17 | B21: 113 | C21: 2016 | D21: 统筹整合涉农资金 | E21: 八一镇 | F21: 八一镇果树种植经济林木种植项目 | G21: 八一镇巴吉村 | H21: 打水井1眼，购买不锈钢高压水泵1台，购买有机肥20吨，购买网纹管PVC软管1070m，购买苹果树苗1000株。 | I21: 13.38 | J21: 13.38 | K21: 0 | L21: 经营类 | M21: 林芝市巴宜区八一镇巴吉村玉米组股份经济合作社 | N21: 林芝市巴宜区八一镇巴吉村玉米组股份经济合作社 | O21: 林芝市巴宜区八一镇巴吉村玉米组股份经济合作社 | P21: 林芝市巴宜区八一镇巴吉村玉米组股份经济合作社 | Q21: 林芝市巴宜区农业农村局、林芝市巴宜区八一镇人民政府 | R21: 巩固
A22: 18 | B22: 114 | C22: 2016 | D22: 统筹整合涉农资金 | E22: 八一镇 | F22: 八一镇蔬菜大棚建设项目 | G22: 八一镇加当嘎村 | H22: 修建8m*40m单拱钢架结构温室1座。 | I22: 5.15 | J22: 5.15 | K22: 0 | L22: 到户类 | M22: 八一镇加当嘎村1户村民 | N22: 八一镇加当嘎村1户村民 | O22: 八一镇加当嘎村1户村民 | P22: 八一镇加当嘎村1户村民 | Q22: 八一镇加当嘎村村民委员会 | R22: -
A23: 19 | B23: 124 | C23: 2016 | D23: 统筹整合涉农资金 | E23: 八一镇 | F23: 八一镇色定村藏香加工厂项目 | G23: 八一镇公众村 | H23: 道路硬化300㎡及厂区绿化。 | I23: 9.54 | J23: 9.54 | K23: 0 | L23: 公益类 | M23: 工布民族手工艺农牧民专业合作社 | N23: 工布民族手工艺农牧民专业合作社 | O23: 工布民族手工艺农牧民专业合作社 | P23: 工布民族手工艺农牧民专业合作社 | Q23: 林芝市巴宜区农业农村局、林芝市巴宜区八一镇人民政府 | R23: - | S23: 农牧民专合社
A24: 20 | B24: 134 | C24: 2016 | D24: 统筹整合涉农资金 | E24: 八一镇 | F24: 八一镇永久村次仁德吉藏家乐扩建项目 | G24: 八一镇永久村 | H24: 购置电视机16台、购置床32张、购置沙发10张。 | I24: 10 | J24: 10 | K24: 0 | L24: 经营类 | M24: 林芝市巴宜区八一镇永久村次仁德吉藏家乐农民专业合作社 | N24: 八一镇永久村次仁德吉藏家乐农民专业合作社 | O24: 林芝市巴宜区八一镇永久村次仁德吉藏家乐农民专业合作社 | P24: 林芝市巴宜区八一镇永久村次仁德吉藏家乐农民专业合作社 | Q24: 林芝市巴宜区农业农村局、林芝市巴宜区八一镇人民政府 | R24: 巩固 | S24: 农牧民专合社（设备已被售卖，用来养猪）
A25: 21 | B25: 135 | C25: 2016 | D25: 统筹整合涉农资金 | E25: 八一镇 | F25: 八一镇巴吉玉米尼玛扎西藏猪养殖基地扩建项目 | G25: 八一镇巴吉村 | H25: 购置藏猪（种）猪20头、购置半成品猪50头、购置玉米30000斤、购置小麦20000斤、购置大豆2500斤、制作广告牌1.5万元。 | I25: 20 | J25: 20 | K25: 0 | L25: 到户类 | M25: 个体户 | N25: 个体户 | O25: 个体户 | P25: 个体户 | Q25: 八一镇巴吉村村民委员会
A26: 22 | B26: 151 | C26: 2017 | D26: 统筹整合涉农资金 | E26: 八一镇 | F26: 八一镇精准扶贫藏猪养殖项目 | G26: 八一镇巴果绕村、唐地村 | H26: 扩建养猪场、购买配套设施、养殖90头藏香猪。 | I26: 15.2 | J26: 15.2 | K26: 0 | L26: 到户类 | M26: 八一镇巴果绕村2户村民，八一镇唐地村1户村民 | N26: 八一镇巴果绕村2户村民，八一镇唐地村1户村民 | O26: 八一镇巴果绕村2户村民，八一镇唐地村1户村民 | P26: 八一镇巴果绕村2户村民，八一镇唐地村1户村民 | Q26: （八一镇巴果绕村、唐地村）村民委员会 | R26: -
A27: 23 | B27: 154 | C27: 2017 | D27: 统筹整合涉农资金 | E27: 八一镇 | F27: 八一镇加乃村多布杰养殖项目 | G27: 八一镇加乃村 | H27: 修建牛棚及配套设施、养殖4头犏奶牛。 | I27: 5.23 | J27: 5.23 | K27: 0 | L27: 到户类 | M27: 八一镇加乃村1户村民 | N27: 八一镇加乃村1户村民 | O27: 八一镇加乃村1户村民 | P27: 八一镇加乃村1户村民 | Q27: 八一镇加乃村村民委员会 | R27: -
A28: 24 | B28: 168 | C28: 2017 | D28: 统筹整合涉农资金 | E28: 八一镇 | F28: 八一镇唐地村葡萄种植项目 | G28: 八一镇唐地村 | H28: 在原有藏药材种植基础上，种植葡萄面积100亩及土地改良，配套相关设施 | I28: 40 | J28: 40 | K28: 0 | L28: 到户类 | M28: 八一镇唐地村72户村民 | N28: 八一镇唐地村72户村民 | O28: 八一镇唐地村72户村民 | P28: 八一镇唐地村72户村民 | Q28: 八一镇唐地村村民委员会 | R28: -
A29: 25 | B29: 180 | C29: 2018 | D29: 统筹整合涉农资金 | E29: 八一镇 | F29: 藏佳香青稞咖啡生产扩建项目 | G29: 八一镇永久村 | H29: 扩建厂房，购买相关设备及原材料 | I29: 30 | J29: 30 | K29: 0 | L29: 经营类 | M29: 西藏林芝藏佳香土特食品有限公司 | N29: 西藏林芝藏佳香土特食品有限公司 | O29: 西藏林芝藏佳香土特食品有限公司 | P29: 西藏林芝藏佳香土特食品有限公司 | Q29: 林芝市巴宜区农业农村局、林芝市巴宜区八一镇人民政府 | R29: 升级 | S29: 私人企业，原在永久村目前已经搬迁至经开区
A30: 26 | B30: 182 | C30: 2018 | D30: 统筹整合涉农资金 | E30: 八一镇 | F30: 巴宜区八一镇集中安置点 | G30: 八一镇加乃村 | H30: 投资120万元加乃村购买犏奶牛或其他奶牛品种30头，配套购置饲草料，圈舍及相关设施。 | I30: 119.96 | J30: 119.96 | K30: 0 | L30: 到户类 | M30: 八一镇加乃村15户村民 | N30: 八一镇加乃村15户村民 | O30: 八一镇加乃村15户村民 | P30: 八一镇加乃村15户村民 | Q30: 八一镇加乃村村民委员会 | R30: -
A31: 27 | B31: 186 | C31: 2018 | D31: 统筹整合涉农资金 | E31: 八一镇 | F31: 八一镇公众村综合养殖建设项目 | G31: 八一镇公众村 | H31: 发展藏鸡养殖10000只，新建鸡舍2000平米，配套设施。 | I31: 72 | J31: 72 | K31: 0 | L31: 经营类 | M31: 林芝市巴宜区八一镇公众村色定组股份经济合作社 | N31: 西藏润森农牧科技发展有限公司 | O31: 林芝市巴宜区八一镇公众村色定组股份经济合作社 | P31: 林芝市巴宜区八一镇公众村色定组股份经济合作社 | Q31: 林芝市巴宜区农业农村局、林芝市巴宜区八一镇人民政府 | R31: 调整 | S31: 政府投资部分确权到行政村集体（做资产评估）
A32: 28 | B32: 188 | C32: 2018 | D32: 统筹整合涉农资金 | E32: 八一镇 | F32: 八一镇唐地村玉龙山庄农家乐建设项目 | G32: 八一镇唐地村 | H32: 扩建农家乐20间住宿、娱乐厅100㎡及餐饮配套设施。 | I32: 30 | J32: 30 | K32: 0 | L32: 经营类 | M32: 林芝玉龙牧云旅游文化有限公司 | N32: 林芝玉龙牧云旅游文化有限公司 | O32: 林芝玉龙牧云旅游文化有限公司 | P32: 林芝玉龙牧云旅游文化有限公司 | Q32: 林芝市巴宜区农业农村局、林芝市巴宜区八一镇人民政府 | R32: 巩固 | S32: 个体户
A33: 29 | B33: 189 | C33: 2018 | D33: 统筹整合涉农资金 | E33: 八一镇 | F33: 八一镇加定村杰布农家旅馆改造项目 | G33: 八一镇加定村 | H33: 扩大旅游接待中心、改造庭院设计。 | I33: 200.29 | J33: 40 | K33: 160.29 | L33: 经营类 | M33: 巴宜区八一镇公众村杰布农家旅馆 | N33: 巴宜区八一镇公众村杰布农家旅馆 | O33: 巴宜区八一镇公众村杰布农家旅馆 | P33: 巴宜区八一镇公众村杰布农家旅馆 | Q33: 林芝市巴宜区农业农村局、林芝市巴宜区八一镇人民政府 | R33: 巩固 | S33: 个体户
A34: 30 | B34: 194 | C34: 2018 | D34: 统筹整合涉农资金 | E34: 八一镇 | F34: 八一镇拉丁嘎唐绕村比日神山蔬菜种植项目 | G34: 八一镇拉丁嘎唐绕村比日神山 | H34: 扩大蔬菜大棚3座、一座温室大棚面积为320㎡，养殖藏香猪100头。 | I34: 16 | J34: 16 | K34: 0 | L34: 到户类 | M34: 八一镇拉丁嘎村1户村民 | N34: 八一镇拉丁嘎村1户村民 | O34: 八一镇拉丁嘎村1户村民 | P34: 八一镇拉丁嘎村1户村民 | Q34: 八一镇拉丁嘎唐绕村村民委员会 | R34: -
A35: 31 | B35: 197 | C35: 2018 | D35: 统筹整合涉农资金 | E35: 八一镇 | F35: 八一镇唐地村休闲采摘餐饮观光园建设项目 | G35: 八一镇唐地村 | H35: 规划修建蔬菜大棚两座、 配套蓄水池、饮水渠、园区清理整治、道路铺修及雪松种植1000棵，苹果、樱桃、蓝莓采摘园建设。 | I35: 36 | J35: 36 | K35: 0 | L35: 到户类 | M35: 八一镇唐地村1户村民 | N35: 林芝互生生态农业发展有限公司 | O35: 八一镇唐地村1户村民 | P35: 八一镇唐地村1户村民 | Q35: 八一镇唐地村村民委员会 | R35: -
A36: 32 | B36: 201 | C36: 2018 | D36: 统筹整合涉农资金 | E36: 八一镇 | F36: 八一镇公众村格桑养殖项目 | G36: 八一镇公众村 | H36: 修建牛棚及配套设施、养殖4头犏奶牛。 | I36: 5 | J36: 5 | K36: 0 | L36: 到户类 | M36: 八一镇公众村1户村民 | N36: 八一镇公众村1户村民 | O36: 八一镇公众村1户村民 | P36: 八一镇公众村1户村民 | Q36: 八一镇公众村村民委员会 | R36: -
A37: 33 | B37: 202 | C37: 2018 | D37: 统筹整合涉农资金 | E37: 八一镇 | F37: 八一镇加当嘎村边巴次仁奶牛养殖项目 | G37: 八一镇加当嘎村 | H37: 扩建厂房1000㎡。草场围栏1000亩、购买犏奶牛50头。 | I37: 30 | J37: 30 | K37: 0 | L37: 经营类 | M37: 个体户 | N37: 个体户 | O37: 个体户 | P37: 个体户 | Q37: 林芝市巴宜区农业农村局、林芝市巴宜区八一镇人民政府 | R37: 巩固 | S37: 个体户
A38: 34 | B38: 205 | C38: 2018 | D38: 统筹整合涉农资金 | E38: 八一镇 | F38: 八一镇尼西村旺久商店建设项目 | G38: 八一镇尼西村 | H38: 新建80㎡的商店，货架、日常货品。 | I38: 5 | J38: 5 | K38: 0 | L38: 到户类 | M38: 八一镇尼西村1户村民 | N38: 八一镇尼西村1户村民 | O38: 八一镇尼西村1户村民 | P38: 八一镇尼西村1户村民 | Q38: 八一镇尼西村村民委员会 | R38: -
A39: 35 | B39: 209 | C39: 2018 | D39: 统筹整合涉农资金 | E39: 八一镇 | F39: 巴宜区多旺农牧民手工艺糌粑加工厂项目 | G39: 八一镇加定村 | H39: 糌粑加工机器设备、公司道路硬化、其它工艺 | I39: 59 | J39: 59 | K39: 0 | L39: 经营类 | M39: 多旺农牧民手工艺品营销专业合作社 | N39: 多旺农牧民手工艺品营销专业合作社 | O39: 多旺农牧民手工艺品营销专业合作社 | P39: 多旺农牧民手工艺品营销专业合作社 | Q39: 林芝市巴宜区农业农村局、林芝市巴宜区八一镇人民政府 | R39: 巩固 | S39: 农牧民专合社
A40: 36 | B40: 210 | C40: 2018 | D40: 统筹整合涉农资金 | E40: 八一镇 | F40: 林芝市巴宜区八一镇巴吉村措木及林下资源加工厂项目 | G40: 八一镇巴吉村 | H40: 扩建加工厂、购置原材料和精细加工设备 | I40: 40 | J40: 40 | K40: 0 | L40: 经营类 | M40: 林芝市巴宜区八一镇巴吉村措木及林下资源加工农牧民合作社 | N40: 林芝市巴宜区八一镇巴吉村措木及林下资源加工农牧民合作社 | O40: 林芝市巴宜区八一镇巴吉村措木及林下资源加工农牧民合作社 | P40: 林芝市巴宜区八一镇巴吉村措木及林下资源加工农牧民合作社 | Q40: 林芝市巴宜区农业农村局、林芝市巴宜区八一镇人民政府 | R40: 巩固 | S40: 农牧民专合社
A41: 37 | B41: 219 | C41: 2018 | D41: 统筹整合涉农资金 | E41: 八一镇 | F41: 三岩搬迁项目巴宜区八一镇集中安置点大棚建设 | G41: 巴宜区八一镇集中安置点 | H41: 巴宜区八一镇集中安置点：178万用于修建大棚，发展瓜果种植并配套完善相关灌溉设施，土地整治。 | I41: 177.61 | J41: 177.61 | K41: 0 | L41: 经营类 | M41: 林芝市巴宜区八一镇加乃村股份经济合作联合社 | N41: 西藏汇莱农业科技有限公司 | O41: 林芝市巴宜区八一镇加乃村股份经济合作联合社 | P41: 林芝市巴宜区八一镇加乃村股份经济合作联合社 | Q41: 林芝市巴宜区农业农村局、林芝市巴宜区八一镇人民政府 | R41: 升级
...

Sheet 百巴镇
A1: 巴宜区帮扶产业项目百巴镇“四个一批分类及五权确权表
A3: 序号 | B3: 项目编码 | C3: 项目 年度 | D3: 资金来源 | E3: 乡镇 | F3: 项目 名称 | G3: 项目实施地点 | H3: 项目主要建设内容 | I3: 计划投资（万元） | L3: 项目 分类情况 | M3: 所有权 | N3: 经营权 | O3: 受益权 | P3: 处置权 | Q3: 监督权 | R3: 经营性项目“四个一批”分类 | S3: 备注
I4: 合计 | J4: 政策性资金 | K4: 其他渠道资金
A5: 1 | B5: 12 | C5: 2013 | D5: 专项扶贫资金 | E5: 百巴镇 | F5: 百巴镇折巴村粮油加工厂项目 | G5: 百巴镇折巴村 | H5: 新建厂房120平方米，购置设备一套。 | I5: 30 | J5: 30 | K5: 0 | L5: 公益类 | M5: 林芝市巴宜区百巴镇折巴村折巴组股份经济合作社 | N5: 林芝市巴宜区百巴镇折巴村折巴组股份经济合作社 | O5: 林芝市巴宜区百巴镇折巴村折巴组股份经济合作社 | P5: 林芝市巴宜区百巴镇折巴村折巴组股份经济合作社 | Q5: 林芝市巴宜区农业农村局、林芝市巴宜区百巴镇人民政府 | R5: -
A6: 2 | B6: 13 | C6: 2013 | D6: 专项扶贫资金 | E6: 百巴镇 | F6: 百巴镇折巴村“优菜”水渠建设项目 | G6: 百巴镇折巴村 | H6: 新建c20钢筋砼1600米(规格:0.4MX0.35M)，4米农用桥一座，配套完善分水口等设施。 | I6: 46 | J6: 46 | K6: 0 | L6: 公益类 | M6: 林芝市巴宜区百巴镇折巴村折巴组股份经济合作社 | N6: 林芝市巴宜区百巴镇折巴村折巴组股份经济合作社 | O6: 林芝市巴宜区百巴镇折巴村折巴组股份经济合作社 | P6: 林芝市巴宜区百巴镇折巴村折巴组股份经济合作社 | Q6: 林芝市巴宜区农业农村局、林芝市巴宜区百巴镇人民政府 | R6: -
A7: 3 | B7: 16 | C7: 2013 | D7: 专项扶贫资金 | E7: 百巴镇 | F7: 百巴镇拉格村农田灌溉水渠 | G7: 百巴镇拉格村 | H7: 修建砼矩形引水主渠1000米，及分水口、农用桥等渠系配套交叉建筑物。 | I7: 39 | J7: 39 | K7: 0 | L7: 公益类 | M7: 林芝市巴宜区百巴镇拉格村股份经济合作联合社 | N7: 林芝市巴宜区百巴镇拉格村股份经济合作联合社 | O7: 林芝市巴宜区百巴镇拉格村股份经济合作联合社 | P7: 林芝市巴宜区百巴镇拉格村股份经济合作联合社 | Q7: 林芝市巴宜区农业农村局、林芝市巴宜区百巴镇人民政府 | R7: -
A8: 4 | B8: 17 | C8: 2013 | D8: 专项扶贫资金 | E8: 百巴镇 | F8: 百巴镇折巴村核桃种植项目 | G8: 百巴镇折巴村 | H8: 开垦山坡地200亩；种植核桃200亩。 | I8: 50 | J8: 50 | K8: 0 | L8: 到户类 | M8: 百巴镇折巴村51户村民 | N8: 百巴镇折巴村51户村民 | O8: 百巴镇折巴村51户村民 | P8: 百巴镇折巴村51户村民 | Q8: 百巴镇折巴村村民委员会 | R8: -
A9: 5 | B9: 18 | C9: 2013 | D9: 专项扶贫资金 | E9: 百巴镇 | F9: 百巴镇强嘎村工布赛马休闲旅游山庄建设项目 | G9: 百巴镇强嘎村 | H9: 建设民俗演艺厅、藏餐厅、射箭场，购置马匹10匹，配套马具、音响设备、射箭用具、餐饮厨具等配套设备。 | I9: 60 | J9: 60 | K9: 0 | L9: 经营类 | M9: 林芝市巴宜区百巴镇强嘎村股份经济合作联合社 | N9: 个体户 | O9: 林芝市巴宜区百巴镇强嘎村股份经济合作联合社 | P9: 林芝市巴宜区百巴镇强嘎村股份经济合作联合社 | Q9: 林芝市巴宜区农业农村局、林芝市巴宜区百巴镇人民政府 | R9: 升级
A10: 6 | B10: 30 | C10: 2013 | D10: 专项扶贫资金 | E10: 百巴镇 | F10: 百巴镇大坝村温室供水项目 | G10: 百巴镇大坝村 | H10: 主渠dn110管2270米，dn90管2060米，新修17条支管，dn管3950米，渠系配套建筑物蓄水池1座。 | I10: 110 | J10: 110 | K10: 0 | L10: 公益类 | M10: 林芝市巴宜区百巴镇大坝村经济联合社 | N10: 林芝市巴宜区百巴镇大坝村经济联合社 | O10: 林芝市巴宜区百巴镇大坝村经济联合社 | P10: 林芝市巴宜区百巴镇大坝村经济联合社 | Q10: 林芝市巴宜区农业农村局、林芝市巴宜区百巴镇人民政府 | R10: -
A11: 7 | B11: 37 | C11: 2014 | D11: 专项扶贫资金 | E11: 百巴镇 | F11: 百巴镇伍巴村旅游接待点项目 | G11: 百巴镇伍巴村 | H11: 建设占地面积600平米的旅游接待点，其中修建两层自驾游旅馆500㎡。配套水电、围墙、洗车设备。 | I11: 135 | J11: 135 | K11: 0 | L11: 经营类 | M11: 林芝市巴宜区百巴镇折巴村伍巴组股份经济合作社 | N11: 林芝市巴宜区伍巴高原红艺术品加工农牧民专业合作社 | O11: 林芝市巴宜区百巴镇折巴村伍巴组股份经济合作社 | P11: 林芝市巴宜区百巴镇折巴村伍巴组股份经济合作社 | Q11: 林芝市巴宜区农业农村局、林芝市巴宜区百巴镇人民政府 | R11: 巩固
A12: 8 | B12: 38 | C12: 2014 | D12: 专项扶贫资金 | E12: 百巴镇 | F12: 百巴镇扎地村天麻种植项目 | G12: 百巴镇扎地村 | H12: 扶持73户农牧民群众355人，开发7亩土地种植天麻。 | I12: 31 | J12: 31 | K12: 0 | L12: 到户类 | M12: 百巴镇扎地村73户村民 | N12: 百巴镇扎地村73户村民 | O12: 百巴镇扎地村73户村民 | P12: 百巴镇扎地村73户村民 | Q12: 百巴镇扎地村村民委员会 | R12: -
A13: 9 | B13: 55 | C13: 2014 | D13: 专项扶贫资金 | E13: 百巴镇 | F13: 百巴镇伍巴村旅游接待点项目 | G13: 百巴镇伍巴村 | H13: 增加了外墙装饰（整体贴片石），变更了屋顶结构及外观等。工程量及人工费用的增加。 | I13: 16.79 | J13: 16.79 | K13: 0 | L13: 公益类 | M13: 林芝市巴宜区百巴镇折巴村伍巴组股份经济合作社 | N13: 林芝市巴宜区伍巴高原红艺术品加工农牧民专业合作社 | O13: 林芝市巴宜区百巴镇折巴村伍巴组股份经济合作社 | P13: 林芝市巴宜区伍巴高原红艺术品加工农牧民专业合作社 | Q13: 林芝市巴宜区农业农村局、林芝市巴宜区百巴镇人民政府 | R13: -
A14: 10 | B14: 56 | C14: 2014 | D14: 专项扶贫资金 | E14: 百巴镇 | F14: 百巴镇增巴村莫坝沟复垦地灌溉工程 | G14: 百巴镇增巴村 | H14: 新建灌溉水渠1510米，排水渠1600米，解决新开垦的940亩耕地灌溉和排涝问题。 | I14: 133.06 | J14: 133.06 | K14: 0 | L14: 公益类 | M14: 林芝市巴宜区百巴镇增巴村股份经济合作联合社 | N14: 林芝市巴宜区百巴镇增巴村股份经济合作联合社 | O14: 林芝市巴宜区百巴镇增巴村股份经济合作联合社 | P14: 林芝市巴宜区百巴镇增巴村股份经济合作联合社 | Q14: 林芝市巴宜区农业农村局、林芝市巴宜区百巴镇人民政府 | R14: -
A15: 11 | B15: 66 | C15: 2015 | D15: 专项扶贫资金 | E15: 百巴镇 | F15: 百巴镇、米瑞乡蔬菜大棚建设项目 | G15: 百巴镇拉格村、米瑞乡吉定村 | H15: 拉格村新建8米×40米的单拱钢管塑料大棚26座，为满足种植过程中作物对灌溉的需求，配套相应灌溉设施；吉定村新建8米×20米的单拱钢管塑料大棚32座。 | I15: 226 | J15: 226 | K15: 0 | L15: 经营类 | M15: 林芝市巴宜区百巴镇拉格村股份经济合作联合社、米瑞乡吉定村32户村民 | N15: 林芝市巴宜区百巴镇拉格村股份经济合作联合社、米瑞乡吉定村32户村民 | O15: 林芝市巴宜区百巴镇拉格村股份经济合作联合社、米瑞乡吉定村32户村民 | P15: 林芝市巴宜区百巴镇拉格村股份经济合作联合社、米瑞乡吉定村32户村民 | Q15: 林芝市巴宜区农业农村局、林芝市巴宜区百巴镇人民政府、林芝市巴宜区米瑞乡人民政府 | R15: 盘活
A16: 12 | B16: 85 | C16: 2015 | D16: 专项扶贫资金 | E16: 百巴镇 | F16: 百巴镇连别村精准扶贫项目 | G16: 百巴镇连别村 | H16: 修建砖砌围墙4105米，建8米×40米钢架大棚8栋 | I16: 155 | J16: 155 | K16: 0 | L16: 到户类 | M16: 百巴镇连别村8户村民 | N16: 百巴镇连别村8户村民 | O16: 百巴镇连别村8户村民 | P16: 百巴镇连别村8户村民 | Q16: 百巴镇连别村村民委员会 | R16: -
... A23: 19 | B23: 127 | C23: 2016 | D23: 统筹整合涉农资金 | E23: 百巴镇 | F23: 百巴镇灵芝种植项目 | G23: 百巴镇连别村 | H23: 4座温室种植灵芝需要购买8000袋菌包。 | I23: 14.8 | J23: 14.8 | K23: 0 | L23: 经营类 | M23: 林芝市巴宜区百巴镇连别村股份经济合作联合社 | N23: 林芝市巴宜区百巴镇连别村股份经济合作联合社 | O23: 林芝市巴宜区百巴镇连别村股份经济合作联合社 | P23: 林芝市巴宜区百巴镇连别村股份经济合作联合社 | Q23: 林芝市巴宜区农业农村局、林芝市巴宜区百巴镇人民政府 | R23: 调整
A24: 20 | B24: 146 | C24: 2017 | D24: 统筹整合涉农资金 | E24: 百巴镇 | F24: 巴宜区百巴镇银丰生态养殖场建设项目 | G24: 百巴镇堆龙村 | H24: 一期主要建设种猪繁育中心、扩繁场、两个散养区；二期建设育肥中心、检疫、检测中心；三期扩大规模4至6个散养场。 | I24: 400 | J24: 400 | K24: 0 | L24: 经营类 | M24: 林芝市巴宜区百巴镇扎地村堆龙组股份经济合作社 | N24: 林芝市巴宜区银丰农牧科技有限公司 | O24: 林芝市巴宜区百巴镇扎地村堆龙组股份经济合作社 | P24: 林芝市巴宜区百巴镇扎地村堆龙组股份经济合作社 | Q24: 林芝市巴宜区农业农村局、林芝市巴宜区百巴镇人民政府 | R24: 巩固 | S24: 银丰农业
A25: 21 | B25: 148 | C25: 2017 | D25: 统筹整合涉农资金 | E25: 百巴镇 | F25: 百巴镇强嘎村波棱瓜种植项目 | G25: 百巴镇强嘎村 | H25: 种植面积22亩。种子40斤（需资金40斤*140元/斤=5600元），围栏铁丝825米、柱子120根（需资金12540元），黑塑料膜（需资金666平方米/亩*22亩*3元/平方米=43956元），化肥（需资金30斤/亩*22亩*1.28元/斤=884.8元），细铁丝（需资金1000元），竹竿子（需资金200根/亩*22亩*3元/根=22000元），人工费（需资金15天*10人*100元/人=15000元） | I25: 9.6 | J25: 9.6 | K25: 0 | L25: 到户类 | M25: 百巴镇强嘎村7户村民 | N25: 百巴镇强嘎村7户村民 | O25: 百巴镇强嘎村7户村民 | P25: 百巴镇强嘎村7户村民 | Q25: 百巴镇强嘎村村民委员会 | R25: -
A26: 22 | B26: 160 | C26: 2017 | D26: 统筹整合涉农资金 | E26: 百巴镇 | F26: 百巴镇章巴村生态园林建设项目 | G26: 百巴镇章巴村 | H26: 百巴镇章巴村生态园林果树等其他设施。 | I26: 120 | J26: 120 | K26: 0 | L26: 经营类 | M26: 林芝市巴宜区百巴镇章巴村股份经济合作联合社 | N26: 林芝市巴宜区百巴镇章巴村股份经济合作联合社 | O26: 林芝市巴宜区百巴镇章巴村股份经济合作联合社 | P26: 林芝市巴宜区百巴镇章巴村股份经济合作联合社 | Q26: 林芝市巴宜区农业农村局、林芝市巴宜区百巴镇人民政府 | R26: 巩固
A27: 23 | B27: 161 | C27: 2017 | D27: 统筹整合涉农资金 | E27: 百巴镇 | F27: 百巴镇强嘎村犏奶牛养殖项目 | G27: 百巴镇强嘎村 | H27: 犏奶牛养殖项目，新建牛舍300平方米（牛舍顶部使用树脂瓦）平整院子200平方米，网围栏500米，犏奶牛30头（1年生长期犏奶牛）、购置送牛奶车子1台。 | I27: 35 | J27: 35 | K27: 0 | L27: 经营类 | M27: 林芝市巴宜区百巴镇强嘎村股份经济合作联合社 | N27: 西藏合胜生态农牧科技有限公司 | O27: 林芝市巴宜区百巴镇强嘎村股份经济合作联合社 | P27: 林芝市巴宜区百巴镇强嘎村股份经济合作联合社 | Q27: 林芝市巴宜区农业农村局、林芝市巴宜区百巴镇人民政府 | R27: 巩固
A28: 24 | B28: 184 | C28: 2018 | D28: 统筹整合涉农资金 | E28: 百巴镇 | F28: 银丰农牧堆龙村有机肥厂配套建设项目 | G28: 百巴镇扎地村 | H28: 建设占地约15亩的有机肥厂一座，年产有机肥5万至8万吨，配套相关设施设备 | I28: 1760 | J28: 1760 | K28: 0 | L28: 经营类 | M28: 林芝市巴宜区创投城市运营管理有限公司 | N28: 林芝市巴宜区银丰农牧科技有限公司 | O28: 林芝市巴宜区创投城市运营管理有限公司 | P28: 林芝市巴宜区创投城市运营管理有限公司 | Q28: 林芝市巴宜区国资委、林芝市巴宜区百巴镇人民政府 | R28: 巩固
A29: 25 | B29: 187 | C29: 2018 | D29: 统筹整合涉农资金 | E29: 百巴镇 | F29: 巴宜区百巴镇百亚吉林藏家乐扩建项目 | G29: 百巴镇人民政府 | H29: 修缮茶馆射箭场120平方米，可容纳22人射箭、若干人观看，扩建藏餐馆、射箭场面积280平方米，可容纳200多人就餐、饮茶。 | I29: 24 | J29: 24 | K29: 0 | L29: 经营类 | M29: 林芝市巴宜区百巴镇百巴村股份经济合作联合社 | N29: 林芝市巴宜区百巴镇百巴村股份经济合作联合社 | O29: 林芝市巴宜区百巴镇百巴村股份经济合作联合社 | P29: 林芝市巴宜区百巴镇百巴村股份经济合作联合社 | Q29: 林芝市巴宜区农业农村局、林芝市巴宜区百巴镇人民政府 | R29: 调整
A30: 26 | B30: 192 | C30: 2018 | D30: 统筹整合涉农资金 | E30: 百巴镇 | F30: 折巴村（伍巴自然村）苗圃基地建设项目 | G30: 百巴镇折巴村 | H30: 建设苗木基地300亩，配套基础设施，引进花卉苗木。 | I30: 599.55 | J30: 599.55 | K30: 0 | L30: 经营类 | M30: 林芝市巴宜区百巴镇折巴村伍巴组股份经济合作社 | N30: 林芝市宏鑫农业发展有限公司 | O30: 林芝市巴宜区百巴镇折巴村伍巴组股份经济合作社 | P30: 林芝市巴宜区百巴镇折巴村伍巴组股份经济合作社 | Q30: 林芝市巴宜区农业农村局、林芝市巴宜区百巴镇人民政府 | R30: 盘活
A31: 27 | B31: 204 | C31: 2018 | D31: 统筹整合涉农资金 | E31: 百巴镇 | F31: 百巴镇色贡村拉姆洗车场扩建项目 | G31: 百巴镇色贡村 | H31: 1、洗车场地扩建、路面硬化、修建排水渠； 2、购买洗车设备 | I31: 5 | J31: 5 | K31: 0 | L31: 到户类 | M31: 百巴镇色贡村1户村民 | N31: 百巴镇色贡村1户村民 | O31: 百巴镇色贡村1户村民 | P31: 百巴镇色贡村1户村民 | Q31: 百巴镇色贡村村民委员会 | R31: -
A32: 28 | B32: 206 | C32: 2018 | D32: 统筹整合涉农资金 | E32: 百巴镇 | F32: 百巴镇色贡村商店建设项目 | G32: 百巴镇色贡村 | H32: 1、在小集镇上为仓决、格松卓嘎家租赁2间商铺及装修；2、为色贡自然村嘎仁家修建30平方米的商店一个。3、购买3家的货架、商品等 | I32: 15 | J32: 15 | K32: 0 | L32: 到户类 | M32: 百巴镇色贡村3户村民 | N32: 百巴镇色贡村3户村民 | O32: 百巴镇色贡村3户村民 | P32: 百巴镇色贡村3户村民 | Q32: 百巴镇色贡村村民委员会 | R32: -
A33: 29 | B33: 211 | C33: 2018 | D33: 统筹整合涉农资金 | E33: 百巴镇 | F33: 拉格村藏香猪养殖项目 | G33: 百巴镇拉格村仲尼组 | H33: 购买猪苗350头，铁丝网围栏2500米 | I33: 50 | J33: 50 | K33: 0 | L33: 经营类 | M33: 林芝市巴宜区百巴镇拉格村股份经济合作联合社 | N33: 林芝市巴宜区百巴镇拉格村工布纳聚藏猪养殖农牧民专业合作社 | O33: 林芝市巴宜区百巴镇拉格村股份经济合作联合社 | P33: 林芝市巴宜区百巴镇拉格村股份经济合作联合社 | Q33: 林芝市巴宜区农业农村局、林芝市巴宜区百巴镇人民政府 | R33: 巩固
A34: 30 | B34: 219-1 | C34: 2018 | D34: 统筹整合涉农资金 | E34: 百巴镇 | F34: 三岩搬迁项目巴宜区百巴镇集中安置点苗木基地 | G34: 巴宜区百巴镇集中安置点 | H34: 巴宜区百巴镇集中安置点：300万用于修建130亩苗木基地，苗木培育，并配套完善相关灌溉设施，土地整治。 | I34: 299.68 | J34: 299.68 | K34: 0 | L34: 经营类 | M34: 林芝市巴宜区百巴镇强嘎村股份经济合作联合社 | N34: 林芝市宏鑫农业发展有限公司 | O34: 林芝市巴宜区百巴镇强嘎村股份经济合作联合社 | P34: 林芝市巴宜区百巴镇强嘎村股份经济合作联合社 | Q34: 林芝市巴宜区农业农村局、林芝市巴宜区百巴镇人民政府 | R34: 升级
A35: 31 | B35: 219-2 | C35: 2018 | D35: 统筹整合涉农资金 | E35: 百巴镇 | F35: 三岩搬迁项目巴宜区百巴镇集中安置点藏猪繁育基地 | G35: 巴宜区百巴镇集中安置点 | H35: 巴宜区百巴镇集中安置点：600万用于新建折巴村藏猪养殖繁育基地一座，猪圈8栋、饲养1000头藏香猪，配套附属设施。 | I35: 594.09 | J35: 594.09 | K35: 0 | L35: 经营类 | M35: 林芝市巴宜区百巴镇强嘎村股份经济合作联合社 | N35: 林芝鸿泰农牧有限公司 | O35: 林芝市巴宜区百巴镇强嘎村股份经济合作联合社 | P35: 林芝市巴宜区百巴镇强嘎村股份经济合作联合社 | Q35: 林芝市巴宜区农业农村局、林芝市巴宜区百巴镇人民政府 | R35: 巩固
A36: 32 | B36: 225 | C36: 2019 | D36: 统筹整合涉农资金 | E36: 百巴镇 | F36: 巴宜区百巴镇强嘎村索果自然村玉米种植项目 | G36: 百巴镇强嘎村索果自然村 | H36: 种植玉米500亩，包括购买玉米种子、肥料地膜，播种机等配套设备； | I36: 26.65 | J36: 26.65 | K36: 0 | L36: 公益类 | M36: 百巴镇强嘎村40户村民 | N36: 百巴镇强嘎村40户村民 | O36: 百巴镇强嘎村40户村民 | P36: 百巴镇强嘎村40户村民 | Q36: 林芝市巴宜区农业农村局、林芝市巴宜区百巴镇人民政府 | R36: -
A37: 33 | B37: 229 | C37: 2019 | D37: 统筹整合涉农资金 | E37: 百巴镇 | F37: 百巴镇开朗村奶牛养殖项目 | G37: 百巴镇开朗村 | H37: 购置相关饲草料及相关配套设施 | I37: 41.02 | J37: 41.02 | K37: 0 | L37: 到户类 | M37: 百巴镇开朗村75户村民 | N37: 百巴镇开朗村75户村民 | O37: 百巴镇开朗村75户村民 | P37: 百巴镇开朗村75户村民 | Q37: 百巴镇开朗村村民委员会 | R37: -
A38: 34 | B38: 237 | C38: 2020 | D38: 统筹整合涉农资金 | E38: 百巴镇 | F38: 百巴镇增巴村果树种植项目 | G38: 百巴镇增巴村 | H38: 扩建种植100亩，品种改良300亩。 | I38: 127.07 | J38: 127.07 | K38: 0 | L38: 经营类 | M38: 林芝市巴宜区百巴镇增巴村股份经济合作联合社 | N38: 百巴镇增巴村阿玛嘛杰合作社 | O38: 林芝市巴宜区百巴镇增巴村股份经济合作联合社 | P38: 林芝市巴宜区百巴镇增巴村股份经济合作联合社 | Q38: 林芝市巴宜区农业农村局、林芝市巴宜区百巴镇人民政府 | R38: 调整
