Workbook

Sheet 附件1
A1: 西藏自治区林芝市帮扶资金统计及使用情况汇总表
A2: 序号 | B2: 地市名称 | C2: 县区名称 | D2: 帮扶资金使用情况（万元） （保留小数点后面2位）
D3: 合计 | E3: 第一阶段 （包括2013年至2015年使用的各级财政专项扶贫资金、援藏资金、定点帮扶资金、地方政府债券资金、社会捐赠资金） | H3: 第二阶段 （包括2016年至2020年使用的各级财政涉农统筹整合资金（专项扶贫资金）、援藏资金、定点帮扶资金、地方政府债券资金、社会捐赠资金） | K3: 第三阶段 （包括2021年至2023年使用的各级财政衔接推进乡村振兴补助资金、涉农统筹整合资金（县级）、援藏资金、定点帮扶资金、地方政府债券资金、社会捐赠资金）
E4: 小计 | F4: 形成资产类 | G4: 未形成资产类 | H4: 小计 | I4: 形成资产类 | J4: 未形成资产类 | K4: 小计 | L4: 形成资产类 | M4: 未形成资产类
A5: 填表说明： | D5: 应为该县（区）所有帮扶资金总数 | E5: 应为该县（区）2013年至2015年帮扶资金小计数 | F5: 帮扶资金在使用过程中形成固定资产、权益类资产、生物性资产、低值易耗品、无形资产等的所有项目实际投入资金总数 | G5: 帮扶资金在使用过程中未形成资产的所有项目实际投入资金总数 | H5: 应为该县（区）2016年至2020年帮扶资金小计数 | I5: 帮扶资金在使用过程中形成固定资产、权益类资产、生物性资产、低值易耗品、无形资产等的所有项目实际投入资金总数 | J5: 帮扶资金在使用过程中未形成资产的所有项目实际投入资金总数 | K5: 应为该县（区）2021年至2023年帮扶资金小计数 | L5: 帮扶资金在使用过程中形成固定资产、权益类资产、生物性资产、低值易耗品、无形资产等的所有项目实际投入资金总数 | M5: 帮扶资金在使用过程中未形成资产的所有项目实际投入资金总数
B6: 林芝市 | C6: 巴宜区 | D6: =E6+H6+K6 -> 301763.03 | E6: =F6+G6 -> 29913.563 | F6: =291135629.33/10000 -> 29113.563 | G6: =8000000/10000 -> 800 | H6: =I6+J6 -> 174643.08 | I6: =1634805359.84809/10000 -> 163480.54 | J6: =111625400/10000 -> 11162.54 | K6: =L6+M6 -> 97206.392 | L6: =904366562.65403/10000 -> 90436.656 | M6: =67697356.9/10000 -> 6769.7357

Sheet 附件2
A1: 附件2
A2: 西藏自治区林芝市巴宜区帮扶项目清单
A3: 序号 | B3: 地市名称 | C3: 县区名称 | D3: 项目年度 | E3: 项目名称 | F3: 项目是否形成资产 | G3: 是否为帮扶产业项目 | H3: 帮扶项目资金批复情况（元） | AG3: 帮扶项目资金使用情况（元）
H4: 合计 | I4: 政策性资金 | AF4: 其他渠道资金（如企业自筹、信贷资金等非政策性资金） | AG4: 合计 | AH4: 政策性资金 | BE4: 其他渠道资金（如企业自筹、信贷资金等非政策性资金）
I5: 政策性资金小计 | J5: 专项扶贫资金 | O5: 统筹整合涉农资金 | T5: 财政衔接推进乡村振兴 补助资金 | Y5: 援藏资金 | AC5: 定点帮扶资金 | AD5: 地方政府债劵资金 | AE5: 社会捐赠（财政入账） | AH5: 政策性资金小计 | AI5: 专项扶贫资金 | AN5: 统筹整合涉农资金 | AS5: 财政衔接推进乡村振兴 补助资金 | AX5: 援藏资金 | BB5: 定点帮扶资金 | BC5: 地方政府债劵资金 | BD5: 社会捐赠（财政入账）
J6: 小计 | K6: 中央 | L6: 省级 | M6: 市级 | N6: 县级 | O6: 小计 | P6: 中央 | Q6: 省级 | R6: 市级 | S6: 县级 | T6: 小计 | U6: 中央 | V6: 省级 | W6: 市级 | X6: 县级 | Y6: 小计 | Z6: 省级 | AA6: 市级 | AB6: 县级 | AI6: 小计 | AJ6: 中央 | AK6: 省级 | AL6: 市级 | AM6: 县级 | AN6: 小计 | AO6: 中央 | AP6: 省级 | AQ6: 市级 | AR6: 县级 | AS6: 小计 | AT6: 中央 | AU6: 省级 | AV6: 市级 | AW6: 县级 | AX6: 小计 | AY6: 省级 | AZ6: 市级 | BA6: 县级
A7: 填表说明： | D7: 以项目批复中批复年度为准 | E7: 以项目批复中项目名称为准 | F7: 在“是/否”中选择 | G7: 在“是/否”中选择 | J7: 以项目批复中项目计划投资总金额为准 （保留小数点后面2位） | AH7: 该数据与附表1合计数据一致 | AI7: 以项目竣工决算中核算实际投资金额为准 （保留小数点后面2位）
A8: 合计 | H8: =SUM(H9:H559) -> 3.0895588e+09 | I8: =SUM(I9:I559) -> 2.5347937e+09 | J8: =SUM(J9:J559) -> 94715900 | K8: =SUM(K9:K559) -> 56390000 | L8: =SUM(L9:L559) -> 21990200 | M8: =SUM(M9:M559) -> 1700000 | N8: =SUM(N9:N559) -> 14635700 | O8: =SUM(O9:O559) -> 7.7515071e+08 | ... BE8: =SUM(BE9:BE559) -> 5.4959436e+08 | BG8: =BE8-AF8 -> -5170665.5
A9: 1 | B9: 林芝市 | C9: 巴宜区 | D9: 2013 | E9: 鲁朗镇扎西岗旅游合作社接待中心建设项目 | F9: 是 | G9: 是 | H9: =I9+AF9 -> 900000 | I9: =O9+J9+T9+Y9+AE9+AC9+AD9 -> 900000 | J9: =N9+M9+L9+K9 -> 900000 | K9: 900000 | O9: =S9+R9+Q9+P9 -> 0 | T9: =X9+W9+V9+U9 -> 0 | Y9: =AA9+Z9+AB9 -> 0 | AG9: =AH9+BE9 -> 891867.58 | AH9: =AN9+AI9+AS9+AX9+BD9+BB9+BC9 -> 891867.58 | AI9: =AM9+AL9+AK9+AJ9 -> 891867.58 | AJ9: 891867.58 | AK9: 0 | AL9: 0 | AM9: 0 | AN9: =AR9+AQ9+AP9+AO9 -> 0 | AO9: 0 | AP9: 0 | AQ9: 0 | AR9: 0 | AS9: =AW9+AV9+AU9+AT9 -> 0 | AT9: 0 | AU9: 0 | AV9: 0 | AW9: 0 | AX9: =AZ9+AY9+BA9 -> 0 | AY9: 0 | AZ9: 0 | BA9: 0 | BB9: =AC9 -> 0 | BC9: 0 | BD9: =AE9 -> 0 | BG9: =BE9-AF9 -> 0
A10: 2 | B10: 林芝市 | C10: 巴宜区 | D10: 2013 | E10: 林芝镇卡斯木村旅游接待点建设项目 | F10: 是 | G10: 是 | H10: =I10+AF10 -> 800000 | I10: =O10+J10+T10+Y10+AE10+AC10+AD10 -> 800000 | J10: =N10+M10+L10+K10 -> 800000 | K10: 800000 | O10: =S10+R10+Q10+P10 -> 0 | T10: =X10+W10+V10+U10 -> 0 | Y10: =AA10+Z10+AB10 -> 0 | AG10: =AH10+BE10 -> 798858.32 | AH10: =AN10+AI10+AS10+AX10+BD10+BB10+BC10 -> 798858.32 | AI10: =AM10+AL10+AK10+AJ10 -> 798858.32 | AJ10: 798858.32 | AK10: 0 | AL10: 0 | AM10: 0 | AN10: =AR10+AQ10+AP10+AO10 -> 0 | AO10: 0 | AP10: 0 | AQ10: 0 | AR10: 0 | AS10: =AW10+AV10+AU10+AT10 -> 0 | AT10: 0 | AU10: 0 | AV10: 0 | AW10: 0 | AX10: =AZ10+AY10+BA10 -> 0 | AY10: 0 | AZ10: 0 | BA10: 0 | BB10: =AC10 -> 0 | BC10: 0 | BD10: =AE10 -> 0 | BG10: =BE10-AF10 -> 0
A11: 3 | B11: 林芝市 | C11: 巴宜区 | D11: 2013 | E11: 林芝镇朗欧村旅游接待点建设项目 | F11: 是 | G11: 是 | H11: =I11+AF11 -> 800000 | I11: =O11+J11+T11+Y11+AE11+AC11+AD11 -> 800000 | J11: =N11+M11+L11+K11 -> 800000 | K11: 800000 | O11: =S11+R11+Q11+P11 -> 0 | T11: =X11+W11+V11+U11 -> 0 | Y11: =AA11+Z11+AB11 -> 0 | AG11: =AH11+BE11 -> 800000 | AH11: =AN11+AI11+AS11+AX11+BD11+BB11+BC11 -> 800000 | AI11: =AM11+AL11+AK11+AJ11 -> 800000 | AJ11: 800000 | AK11: 0 | AL11: 0 | AM11: 0 | AN11: =AR11+AQ11+AP11+AO11 -> 0 | AO11: 0 | AP11: 0 | AQ11: 0 | AR11: 0 | AS11: =AW11+AV11+AU11+AT11 -> 0 | AT11: 0 | AU11: 0 | AV11: 0 | AW11: 0 | AX11: =AZ11+AY11+BA11 -> 0 | AY11: 0 | AZ11: 0 | BA11: 0 | BB11: =AC11 -> 0 | BC11: 0 | BD11: =AE11 -> 0 | BG11: =BE11-AF11 -> 0
A12: 4 | B12: 林芝市 | C12: 巴宜区 | D12: 2013 | E12: 林芝镇尼池村糌粑面粉加工场项目 | F12: 是 | G12: 是 | H12: =I12+AF12 -> 220000 | I12: =O12+J12+T12+Y12+AE12+AC12+AD12 -> 220000 | J12: =N12+M12+L12+K12 -> 220000 | K12: 220000 | O12: =S12+R12+Q12+P12 -> 0 | T12: =X12+W12+V12+U12 -> 0 | Y12: =AA12+Z12+AB12 -> 0 | AG12: =AH12+BE12 -> 220000 | AH12: =AN12+AI12+AS12+AX12+BD12+BB12+BC12 -> 220000 | AI12: =AM12+AL12+AK12+AJ12 -> 220000 | AJ12: 220000 | AK12: 0 | AL12: 0 | AM12: 0 | AN12: =AR12+AQ12+AP12+AO12 -> 0 | AO12: 0 | AP12: 0 | AQ12: 0 | AR12: 0 | AS12: =AW12+AV12+AU12+AT12 -> 0 | AT12: 0 | AU12: 0 | AV12: 0 | AW12: 0 | AX12: =AZ12+AY12+BA12 -> 0 | AY12: 0 | AZ12: 0 | BA12: 0 | BB12: =AC12 -> 0 | BC12: 0 | BD12: =AE12 -> 0 | BG12: =BE12-AF12 -> 0
A13: 5 | B13: 林芝市 | C13: 巴宜区 | D13: 2013 | E13: 林芝县鲁朗镇东久村、林芝镇邦纳村、米瑞乡泽列村犏奶牛养殖项目 | F13: 是 | G13: 是 | H13: =I13+AF13 -> 670000 | I13: =O13+J13+T13+Y13+AE13+AC13+AD13 -> 670000 | J13: =N13+M13+L13+K13 -> 670000 | K13: 670000 | O13: =S13+R13+Q13+P13 -> 0 | T13: =X13+W13+V13+U13 -> 0 | Y13: =AA13+Z13+AB13 -> 0 | AG13: =AH13+BE13 -> 670000 | AH13: =AN13+AI13+AS13+AX13+BD13+BB13+BC13 -> 670000 | AI13: =AM13+AL13+AK13+AJ13 -> 670000 | AJ13: 670000 | AK13: 0 | AL13: 0 | AM13: 0 | AN13: =AR13+AQ13+AP13+AO13 -> 0 | AO13: 0 | AP13: 0 | AQ13: 0 | AR13: 0 | AS13: =AW13+AV13+AU13+AT13 -> 0 | AT13: 0 | AU13: 0 | AV13: 0 | AW13: 0 | AX13: =AZ13+AY13+BA13 -> 0 | AY13: 0 | AZ13: 0 | BA13: 0 | BB13: =AC13 -> 0 | BC13: 0 | BD13: =AE13 -> 0 | BG13: =BE13-AF13 -> 0
A14: 6 | B14: 林芝市 | C14: 巴宜区 | D14: 2013 | E14: 米瑞乡通麦村养羊项目 | F14: 是 | G14: 是 | H14: =I14+AF14 -> 140000 | I14: =O14+J14+T14+Y14+AE14+AC14+AD14 -> 140000 | J14: =N14+M14+L14+K14 -> 140000 | K14: 140000 | O14: =S14+R14+Q14+P14 -> 0 | T14: =X14+W14+V14+U14 -> 0 | Y14: =AA14+Z14+AB14 -> 0 | AG14: =AH14+BE14 -> 140000 | AH14: =AN14+AI14+AS14+AX14+BD14+BB14+BC14 -> 140000 | AI14: =AM14+AL14+AK14+AJ14 -> 140000 | AJ14: 140000 | AK14: 0 | AL14: 0 | AM14: 0 | AN14: =AR14+AQ14+AP14+AO14 -> 0 | AO14: 0 | AP14: 0 | AQ14: 0 | AR14: 0 | AS14: =AW14+AV14+AU14+AT14 -> 0 | AT14: 0 | AU14: 0 | AV14: 0 | AW14: 0 | AX14: =AZ14+AY14+BA14 -> 0 | AY14: 0 | AZ14: 0 | BA14: 0 | BB14: =AC14 -> 0 | BC14: 0 | BD14: =AE14 -> 0 | BG14: =BE14-AF14 -> 0
A15: 7 | B15: 林芝市 | C15: 巴宜区 | D15: 2013 | E15: 布久乡麦巴村经济林木建设项目 | F15: 是 | G15: 是 | H15: =I15+AF15 -> 180000 | I15: =O15+J15+T15+Y15+AE15+AC15+AD15 -> 180000 | J15: =N15+M15+L15+K15 -> 180000 | K15: 180000 | O15: =S15+R15+Q15+P15 -> 0 | T15: =X15+W15+V15+U15 -> 0 | Y15: =AA15+Z15+AB15 -> 0 | AG15: =AH15+BE15 -> 180000 | AH15: =AN15+AI15+AS15+AX15+BD15+BB15+BC15 -> 180000 | AI15: =AM15+AL15+AK15+AJ15 -> 180000 | AJ15: 180000 | AK15: 0 | AL15: 0 | AM15: 0 | AN15: =AR15+AQ15+AP15+AO15 -> 0 | AO15: 0 | AP15: 0 | AQ15: 0 | AR15: 0 | AS15: =AW15+AV15+AU15+AT15 -> 0 | AT15: 0 | AU15: 0 | AV15: 0 | AW15: 0 | AX15: =AZ15+AY15+BA15 -> 0 | AY15: 0 | AZ15: 0 | BA15: 0 | BB15: =AC15 -> 0 | BC15: 0 | BD15: =AE15 -> 0 | BG15: =BE15-AF15 -> 0
A16: 8 | B16: 林芝市 | C16: 巴宜区 | D16: 2013 | E16: 八一镇公仲村经济林木建设项目 | F16: 是 | G16: 是 | H16: =I16+AF16 -> 400000 | I16: =O16+J16+T16+Y16+AE16+AC16+AD16 -> 400000 | J16: =N16+M16+L16+K16 -> 400000 | K16: 400000 | O16: =S16+R16+Q16+P16 -> 0 | T16: =X16+W16+V16+U16 -> 0 | Y16: =AA16+Z16+AB16 -> 0 | AG16: =AH16+BE16 -> 400000 | AH16: =AN16+AI16+AS16+AX16+BD16+BB16+BC16 -> 400000 | AI16: =AM16+AL16+AK16+AJ16 -> 400000 | AJ16: 400000 | AK16: 0 | AL16: 0 | AM16: 0 | AN16: =AR16+AQ16+AP16+AO16 -> 0 | AO16: 0 | AP16: 0 | AQ16: 0 | AR16: 0 | AS16: =AW16+AV16+AU16+AT16 -> 0 | AT16: 0 | AU16: 0 | AV16: 0 | AW16: 0 | AX16: =AZ16+AY16+BA16 -> 0 | AY16: 0 | AZ16: 0 | BA16: 0 | BB16: =AC16 -> 0 | BC16: 0 | BD16: =AE16 -> 0 | BG16: =BE16-AF16 -> 0
A17: 9 | B17: 林芝市 | C17: 巴宜区 | D17: 2013 | E17: 米瑞乡色果拉藏鸡养殖基地建设项目 | F17: 是 | G17: 是 | H17: =I17+AF17 -> 500000 | I17: =O17+J17+T17+Y17+AE17+AC17+AD17 -> 500000 | J17: =N17+M17+L17+K17 -> 500000 | K17: 500000 | O17: =S17+R17+Q17+P17 -> 0 | T17: =X17+W17+V17+U17 -> 0 | Y17: =AA17+Z17+AB17 -> 0 | AG17: =AH17+BE17 -> 500000 | AH17: =AN17+AI17+AS17+AX17+BD17+BB17+BC17 -> 500000 | AI17: =AM17+AL17+AK17+AJ17 -> 500000 | AJ17: 500000 | AK17: 0 | AL17: 0 | AM17: 0 | AN17: =AR17+AQ17+AP17+AO17 -> 0 | AO17: 0 | AP17: 0 | AQ17: 0 | AR17: 0 | AS17: =AW17+AV17+AU17+AT17 -> 0 | AT17: 0 | AU17: 0 | AV17: 0 | AW17: 0 | AX17: =AZ17+AY17+BA17 -> 0 | AY17: 0 | AZ17: 0 | BA17: 0 | BB17: =AC17 -> 0 | BC17: 0 | BD17: =AE17 -> 0 | BG17: =BE17-AF17 -> 0
A18: 10 | B18: 林芝市 | C18: 巴宜区 | D18: 2013 | E18: 米瑞乡麦娘麦村蔬菜大棚建设项目 | F18: 是 | G18: 是 | H18: =I18+AF18 -> 760000 | I18: =O18+J18+T18+Y18+AE18+AC18+AD18 -> 760000 | J18: =N18+M18+L18+K18 -> 760000 | K18: 760000 | O18: =S18+R18+Q18+P18 -> 0 | T18: =X18+W18+V18+U18 -> 0 | Y18: =AA18+Z18+AB18 -> 0 | AG18: =AH18+BE18 -> 760000 | AH18: =AN18+AI18+AS18+AX18+BD18+BB18+BC18 -> 760000 | AI18: =AM18+AL18+AK18+AJ18 -> 760000 | AJ18: 760000 | AK18: 0 | AL18: 0 | AM18: 0 | AN18: =AR18+AQ18+AP18+AO18 -> 0 | AO18: 0 | AP18: 0 | AQ18: 0 | AR18: 0 | AS18: =AW18+AV18+AU18+AT18 -> 0 | AT18: 0 | AU18: 0 | AV18: 0 | AW18: 0 | AX18: =AZ18+AY18+BA18 -> 0 | AY18: 0 | AZ18: 0 | BA18: 0 | BB18: =AC18 -> 0 | BC18: 0 | BD18: =AE18 -> 0 | BG18: =BE18-AF18 -> 0
A19: 11 | B19: 林芝市 | C19: 巴宜区 | D19: 2013 | E19: 米瑞乡嘎萨村土豆、苜蓿草种植项目 | F19: 是 | G19: 是 | H19: =I19+AF19 -> 180000 | I19: =O19+J19+T19+Y19+AE19+AC19+AD19 -> 180000 | J19: =N19+M19+L19+K19 -> 180000 | K19: 180000 | O19: =S19+R19+Q19+P19 -> 0 | T19: =X19+W19+V19+U19 -> 0 | Y19: =AA19+Z19+AB19 -> 0 | AG19: =AH19+BE19 -> 180000 | AH19: =AN19+AI19+AS19+AX19+BD19+BB19+BC19 -> 180000 | AI19: =AM19+AL19+AK19+AJ19 -> 180000 | AJ19: 180000 | AK19: 0 | AL19: 0 | AM19: 0 | AN19: =AR19+AQ19+AP19+AO19 -> 0 | AO19: 0 | AP19: 0 | AQ19: 0 | AR19: 0 | AS19: =AW19+AV19+AU19+AT19 -> 0 | AT19: 0 | AU19: 0 | AV19: 0 | AW19: 0 | AX19: =AZ19+AY19+BA19 -> 0 | AY19: 0 | AZ19: 0 | BA19: 0 | BB19: =AC19 -> 0 | BC19: 0 | BD19: =AE19 -> 0 | BF19: 调整5-2增加9.3万元，客土改良费 | BG19: =BE19-AF19 -> 0
A20: 12 | B20: 林芝市 | C20: 巴宜区 | D20: 2013 | E20: 百巴镇折巴村粮油加工厂项目 | F20: 是 | G20: 是 | H20: =I20+AF20 -> 300000 | I20: =O20+J20+T20+Y20+AE20+AC20+AD20 -> 300000 | J20: =N20+M20+L20+K20 -> 300000 | K20: 300000 | O20: =S20+R20+Q20+P20 -> 0 | T20: =X20+W20+V20+U20 -> 0 | Y20: =AA20+Z20+AB20 -> 0 | AG20: =AH20+BE20 -> 300000 | AH20: =AN20+AI20+AS20+AX20+BD20+BB20+BC20 -> 300000 | AI20: =AM20+AL20+AK20+AJ20 -> 300000 | AJ20: 300000 | AK20: 0 | AL20: 0 | AM20: 0 | AN20: =AR20+AQ20+AP20+AO20 -> 0 | AO20: 0 | AP20: 0 | AQ20: 0 | AR20: 0 | AS20: =AW20+AV20+AU20+AT20 -> 0 | AT20: 0 | AU20: 0 | AV20: 0 | AW20: 0 | AX20: =AZ20+AY20+BA20 -> 0 | AY20: 0 | AZ20: 0 | BA20: 0 | BB20: =AC20 -> 0 | BC20: 0 | BD20: =AE20 -> 0 | BG20: =BE20-AF20 -> 0
A21: 13 | B21: 林芝市 | C21: 巴宜区 | D21: 2013 | E21: 百巴镇折巴村“优菜”水渠建设项目 | F21: 是 | G21: 是 | H21: =I21+AF21 -> 460000 | I21: =O21+J21+T21+Y21+AE21+AC21+AD21 -> 460000 | J21: =N21+M21+L21+K21 -> 460000 | K21: 460000 | O21: =S21+R21+Q21+P21 -> 0 | T21: =X21+W21+V21+U21 -> 0 | Y21: =AA21+Z21+AB21 -> 0 | AG21: =AH21+BE21 -> 460000 | AH21: =AN21+AI21+AS21+AX21+BD21+BB21+BC21 -> 460000 | AI21: =AM21+AL21+AK21+AJ21 -> 460000 | AJ21: 460000 | AK21: 0 | AL21: 0 | AM21: 0 | AN21: =AR21+AQ21+AP21+AO21 -> 0 | AO21: 0 | AP21: 0 | AQ21: 0 | AR21: 0 | AS21: =AW21+AV21+AU21+AT21 -> 0 | AT21: 0 | AU21: 0 | AV21: 0 | AW21: 0 | AX21: =AZ21+AY21+BA21 -> 0 | AY21: 0 | AZ21: 0 | BA21: 0 | BB21: =AC21 -> 0 | BC21: 0 | BD21: =AE21 -> 0 | BG21: =BE21-AF21 -> 0
A22: 14 | B22: 林芝市 | C22: 巴宜区 | D22: 2013 | E22: 米瑞乡通麦村农田灌溉水渠 | F22: 是 | G22: 是 | H22: =I22+AF22 -> 510000 | I22: =O22+J22+T22+Y22+AE22+AC22+AD22 -> 510000 | J22: =N22+M22+L22+K22 -> 510000 | K22: 510000 | O22: =S22+R22+Q22+P22 -> 0 | T22: =X22+W22+V22+U22 -> 0 | Y22: =AA22+Z22+AB22 -> 0 | AG22: =AH22+BE22 -> 510000 | AH22: =AN22+AI22+AS22+AX22+BD22+BB22+BC22 -> 510000 | AI22: =AM22+AL22+AK22+AJ22 -> 510000 | AJ22: 510000 | AK22: 0 | AL22: 0 | AM22: 0 | AN22: =AR22+AQ22+AP22+AO22 -> 0 | AO22: 0 | AP22: 0 | AQ22: 0 | AR22: 0 | AS22: =AW22+AV22+AU22+AT22 -> 0 | AT22: 0 | AU22: 0 | AV22: 0 | AW22: 0 | AX22: =AZ22+AY22+BA22 -> 0 | AY22: 0 | AZ22: 0 | BA22: 0 | BB22: =AC22 -> 0 | BC22: 0 | BD22: =AE22 -> 0 | BG22: =BE22-AF22 -> 0
A23: 15 | B23: 林芝市 | C23: 巴宜区 | D23: 2013 | E23: 鲁朗镇东久村瓜果采摘园项目 | F23: 是 | G23: 是 | H23: =I23+AF23 -> 590000 | I23: =O23+J23+T23+Y23+AE23+AC23+AD23 -> 590000 | J23: =N23+M23+L23+K23 -> 590000 | K23: 520000 | N23: 70000 | O23: =S23+R23+Q23+P23 -> 0 | T23: =X23+W23+V23+U23 -> 0 | Y23: =AA23+Z23+AB23 -> 0 | AG23: =AH23+BE23 -> 590000 | AH23: =AN23+AI23+AS23+AX23+BD23+BB23+BC23 -> 590000 | AI23: =AM23+AL23+AK23+AJ23 -> 590000 | AJ23: 520000 | AK23: 0 | AL23: 0 | AM23: 70000 | AN23: =AR23+AQ23+AP23+AO23 -> 0 | AO23: 0 | AP23: 0 | AQ23: 0 | AR23: 0 | AS23: =AW23+AV23+AU23+AT23 -> 0 | AT23: 0 | AU23: 0 | AV23: 0 | AW23: 0 | AX23: =AZ23+AY23+BA23 -> 0 | AY23: 0 | AZ23: 0 | BA23: 0 | BB23: =AC23 -> 0 | BC23: 0 | BD23: =AE23 -> 0 | BG23: =BE23-AF23 -> 0
A24: 16 | B24: 林芝市 | C24: 巴宜区 | D24: 2013 | E24: 百巴镇拉格村农田灌溉水渠 | F24: 是 | G24: 是 | H24: =I24+AF24 -> 390000 | I24: =O24+J24+T24+Y24+AE24+AC24+AD24 -> 390000 | J24: =N24+M24+L24+K24 -> 390000 | K24: 390000 | O24: =S24+R24+Q24+P24 -> 0 | T24: =X24+W24+V24+U24 -> 0 | Y24: =AA24+Z24+AB24 -> 0 | AG24: =AH24+BE24 -> 390000 | AH24: =AN24+AI24+AS24+AX24+BD24+BB24+BC24 -> 390000 | AI24: =AM24+AL24+AK24+AJ24 -> 390000 | AJ24: 390000 | AK24: 0 | AL24: 0 | AM24: 0 | AN24: =AR24+AQ24+AP24+AO24 -> 0 | AO24: 0 | AP24: 0 | AQ24: 0 | AR24: 0 | AS24: =AW24+AV24+AU24+AT24 -> 0 | AT24: 0 | AU24: 0 | AV24: 0 | AW24: 0 | AX24: =AZ24+AY24+BA24 -> 0 | AY24: 0 | AZ24: 0 | BA24: 0 | BB24: =AC24 -> 0 | BC24: 0 | BD24: =AE24 -> 0 | BG24: =BE24-AF24 -> 0
A25: 17 | B25: 林芝市 | C25: 巴宜区 | D25: 2013 | E25: 百巴镇折巴村核桃种植项目 | F25: 是 | G25: 是 | H25: =I25+AF25 -> 500000 | I25: =O25+J25+T25+Y25+AE25+AC25+AD25 -> 500000 | J25: =N25+M25+L25+K25 -> 500000 | K25: 500000 | O25: =S25+R25+Q25+P25 -> 0 | T25: =X25+W25+V25+U25 -> 0 | Y25: =AA25+Z25+AB25 -> 0 | AG25: =AH25+BE25 -> 500000 | AH25: =AN25+AI25+AS25+AX25+BD25+BB25+BC25 -> 500000 | AI25: =AM25+AL25+AK25+AJ25 -> 500000 | AJ25: 500000 | AK25: 0 | AL25: 0 | AM25: 0 | AN25: =AR25+AQ25+AP25+AO25 -> 0 | AO25: 0 | AP25: 0 | AQ25: 0 | AR25: 0 | AS25: =AW25+AV25+AU25+AT25 -> 0 | AT25: 0 | AU25: 0 | AV25: 0 | AW25: 0 | AX25: =AZ25+AY25+BA25 -> 0 | AY25: 0 | AZ25: 0 | BA25: 0 | BB25: =AC25 -> 0 | BC25: 0 | BD25: =AE25 -> 0 | BG25: =BE25-AF25 -> 0
A26: 18 | B26: 林芝市 | C26: 巴宜区 | D26: 2013 | E26: 百巴镇强嘎村工布赛马休闲旅游山庄建设项目 | F26: 是 | G26: 是 | H26: =I26+AF26 -> 600000 | I26: =O26+J26+T26+Y26+AE26+AC26+AD26 -> 600000 | J26: =N26+M26+L26+K26 -> 600000 | K26: 600000 | O26: =S26+R26+Q26+P26 -> 0 | T26: =X26+W26+V26+U26 -> 0 | Y26: =AA26+Z26+AB26 -> 0 | AG26: =AH26+BE26 -> 600000 | AH26: =AN26+AI26+AS26+AX26+BD26+BB26+BC26 -> 600000 | AI26: =AM26+AL26+AK26+AJ26 -> 600000 | AJ26: 600000 | AK26: 0 | AL26: 0 | AM26: 0 | AN26: =AR26+AQ26+AP26+AO26 -> 0 | AO26: 0 | AP26: 0 | AQ26: 0 | AR26: 0 | AS26: =AW26+AV26+AU26+AT26 -> 0 | AT26: 0 | AU26: 0 | AV26: 0 | AW26: 0 | AX26: =AZ26+AY26+BA26 -> 0 | AY26: 0 | AZ26: 0 | BA26: 0 | BB26: =AC26 -> 0 | BC26: 0 | BD26: =AE26 -> 0 | BG26: =BE26-AF26 -> 0
A27: 19 | B27: 林芝市 | C27: 巴宜区 | D27: 2013 | E27: 林芝镇立定村果园建设项目 | F27: 是 | G27: 是 | H27: =I27+AF27 -> 400000 | I27: =O27+J27+T27+Y27+AE27+AC27+AD27 -> 400000 | J27: =N27+M27+L27+K27 -> 400000 | K27: 400000 | O27: =S27+R27+Q27+P27 -> 0 | T27: =X27+W27+V27+U27 -> 0 | Y27: =AA27+Z27+AB27 -> 0 | AG27: =AH27+BE27 -> 400000 | AH27: =AN27+AI27+AS27+AX27+BD27+BB27+BC27 -> 400000 | AI27: =AM27+AL27+AK27+AJ27 -> 400000 | AJ27: 400000 | AK27: 0 | AL27: 0 | AM27: 0 | AN27: =AR27+AQ27+AP27+AO27 -> 0 | AO27: 0 | AP27: 0 | AQ27: 0 | AR27: 0 | AS27: =AW27+AV27+AU27+AT27 -> 0 | AT27: 0 | AU27: 0 | AV27: 0 | AW27: 0 | AX27: =AZ27+AY27+BA27 -> 0 | AY27: 0 | AZ27: 0 | BA27: 0 | BB27: =AC27 -> 0 | BC27: 0 | BD27: =AE27 -> 0 | BG27: =BE27-AF27 -> 0
A28: 20 | B28: 林芝市 | C28: 巴宜区 | D28: 2013 | E28: 米瑞乡吉定村藏香猪养殖项目 | F28: 是 | G28: 是 | H28: =I28+AF28 -> 400000 | I28: =O28+J28+T28+Y28+AE28+AC28+AD28 -> 400000 | J28: =N28+M28+L28+K28 -> 400000 | K28: 400000 | O28: =S28+R28+Q28+P28 -> 0 | T28: =X28+W28+V28+U28 -> 0 | Y28: =AA28+Z28+AB28 -> 0 | AG28: =AH28+BE28 -> 400000 | AH28: =AN28+AI28+AS28+AX28+BD28+BB28+BC28 -> 400000 | AI28: =AM28+AL28+AK28+AJ28 -> 400000 | AJ28: 400000 | AK28: 0 | AL28: 0 | AM28: 0 | AN28: =AR28+AQ28+AP28+AO28 -> 0 | AO28: 0 | AP28: 0 | AQ28: 0 | AR28: 0 | AS28: =AW28+AV28+AU28+AT28 -> 0 | AT28: 0 | AU28: 0 | AV28: 0 | AW28: 0 | AX28: =AZ28+AY28+BA28 -> 0 | AY28: 0 | AZ28: 0 | BA28: 0 | BB28: =AC28 -> 0 | BC28: 0 | BD28: =AE28 -> 0 | BG28: =BE28-AF28 -> 0
A29: 21 | B29: 林芝市 | C29: 巴宜区 | D29: 2013 | E29: 米瑞乡德木达嘎鲁丁糌粑加工厂建设项目 | F29: 是 | G29: 是 | H29: =I29+AF29 -> 800000 | I29: =O29+J29+T29+Y29+AE29+AC29+AD29 -> 800000 | J29: =N29+M29+L29+K29 -> 800000 | K29: 800000 | O29: =S29+R29+Q29+P29 -> 0 | T29: =X29+W29+V29+U29 -> 0 | Y29: =AA29+Z29+AB29 -> 0 | AG29: =AH29+BE29 -> 800000 | AH29: =AN29+AI29+AS29+AX29+BD29+BB29+BC29 -> 800000 | AI29: =AM29+AL29+AK29+AJ29 -> 800000 | AJ29: 800000 | AK29: 0 | AL29: 0 | AM29: 0 | AN29: =AR29+AQ29+AP29+AO29 -> 0 | AO29: 0 | AP29: 0 | AQ29: 0 | AR29: 0 | AS29: =AW29+AV29+AU29+AT29 -> 0 | AT29: 0 | AU29: 0 | AV29: 0 | AW29: 0 | AX29: =AZ29+AY29+BA29 -> 0 | AY29: 0 | AZ29: 0 | BA29: 0 | BB29: =AC29 -> 0 | BC29: 0 | BD29: =AE29 -> 0 | BG29: =BE29-AF29 -> 0
A30: 22 | B30: 林芝市 | C30: 巴宜区 | D30: 2013 | E30: 米瑞乡曲尼贡嘎村藏香猪养殖项目 | F30: 是 | G30: 是 | H30: =I30+AF30 -> 790000 | I30: =O30+J30+T30+Y30+AE30+AC30+AD30 -> 790000 | J30: =N30+M30+L30+K30 -> 790000 | K30: 790000 | O30: =S30+R30+Q30+P30 -> 0 | T30: =X30+W30+V30+U30 -> 0 | Y30: =AA30+Z30+AB30 -> 0 | AG30: =AH30+BE30 -> 790000 | AH30: =AN30+AI30+AS30+AX30+BD30+BB30+BC30 -> 790000 | AI30: =AM30+AL30+AK30+AJ30 -> 790000 | AJ30: 790000 | AK30: 0 | AL30: 0 | AM30: 0 | AN30: =AR30+AQ30+AP30+AO30 -> 0 | AO30: 0 | AP30: 0 | AQ30: 0 | AR30: 0 | AS30: =AW30+AV30+AU30+AT30 -> 0 | AT30: 0 | AU30: 0 | AV30: 0 | AW30: 0 | AX30: =AZ30+AY30+BA30 -> 0 | AY30: 0 | AZ30: 0 | BA30: 0 | BB30: =AC30 -> 0 | BC30: 0 | BD30: =AE30 -> 0 | BG30: =BE30-AF30 -> 0
A31: 23 | B31: 林芝市 | C31: 巴宜区 | D31: 2013 | E31: 八一镇尼西村水果蔬菜种植温室项目 | F31: 是 | G31: 是 | H31: =I31+AF31 -> 350000 | I31: =O31+J31+T31+Y31+AE31+AC31+AD31 -> 350000 | J31: =N31+M31+L31+K31 -> 350000 | K31: 350000 | O31: =S31+R31+Q31+P31 -> 0 | T31: =X31+W31+V31+U31 -> 0 | Y31: =AA31+Z31+AB31 -> 0 | AG31: =AH31+BE31 -> 350000 | AH31: =AN31+AI31+AS31+AX31+BD31+BB31+BC31 -> 350000 | AI31: =AM31+AL31+AK31+AJ31 -> 350000 | AJ31: 350000 | AK31: 0 | AL31: 0 | AM31: 0 | AN31: =AR31+AQ31+AP31+AO31 -> 0 | AO31: 0 | AP31: 0 | AQ31: 0 | AR31: 0 | AS31: =AW31+AV31+AU31+AT31 -> 0 | AT31: 0 | AU31: 0 | AV31: 0 | AW31: 0 | AX31: =AZ31+AY31+BA31 -> 0 | AY31: 0 | AZ31: 0 | BA31: 0 | BB31: =AC31 -> 0 | BC31: 0 | BD31: =AE31 -> 0 | BG31: =BE31-AF31 -> 0
A32: 24 | B32: 林芝市 | C32: 巴宜区 | D32: 2013 | E32: 更张乡白玛店村和扎曲村钢架大棚灵芝菌种植项目 | F32: 是 | G32: 是 | H32: =I32+AF32 -> 1790000 | I32: =O32+J32+T32+Y32+AE32+AC32+AD32 -> 1790000 | J32: =N32+M32+L32+K32 -> 1790000 | K32: 1790000 | O32: =S32+R32+Q32+P32 -> 0 | T32: =X32+W32+V32+U32 -> 0 | Y32: =AA32+Z32+AB32 -> 0 | AG32: =AH32+BE32 -> 1790000 | AH32: =AN32+AI32+AS32+AX32+BD32+BB32+BC32 -> 1790000 | AI32: =AM32+AL32+AK32+AJ32 -> 1790000 | AJ32: 1790000 | AK32: 0 | AL32: 0 | AM32: 0 | AN32: =AR32+AQ32+AP32+AO32 -> 0 | AO32: 0 | AP32: 0 | AQ32: 0 | AR32: 0 | AS32: =AW32+AV32+AU32+AT32 -> 0 | AT32: 0 | AU32: 0 | AV32: 0 | AW32: 0 | AX32: =AZ32+AY32+BA32 -> 0 | AY32: 0 | AZ32: 0 | BA32: 0 | BB32: =AC32 -> 0 | BC32: 0 | BD32: =AE32 -> 0 | BG32: =BE32-AF32 -> 0
A33: 25 | B33: 林芝市 | C33: 巴宜区 | D33: 2013 | E33: 八一镇色定村阿吉林特色经济发展农牧民专业合作社藏民族手工艺品生产厂区建设项目 | F33: 是 | G33: 是 | H33: =I33+AF33 -> 420000 | I33: =O33+J33+T33+Y33+AE33+AC33+AD33 -> 420000 | J33: =N33+M33+L33+K33 -> 420000 | K33: 420000 | O33: =S33+R33+Q33+P33 -> 0 | T33: =X33+W33+V33+U33 -> 0 | Y33: =AA33+Z33+AB33 -> 0 | AG33: =AH33+BE33 -> 420000 | AH33: =AN33+AI33+AS33+AX33+BD33+BB33+BC33 -> 420000 | AI33: =AM33+AL33+AK33+AJ33 -> 420000 | AJ33: 420000 | AK33: 0 | AL33: 0 | AM33: 0 | AN33: =AR33+AQ33+AP33+AO33 -> 0 | AO33: 0 | AP33: 0 | AQ33: 0 | AR33: 0 | AS33: =AW33+AV33+AU33+AT33 -> 0 | AT33: 0 | AU33: 0 | AV33: 0 | AW33: 0 | AX33: =AZ33+AY33+BA33 -> 0 | AY33: 0 | AZ33: 0 | BA33: 0 | BB33: =AC33 -> 0 | BC33: 0 | BD33: =AE33 -> 0 | BG33: =BE33-AF33 -> 0
A34: 26 | B34: 林芝市 | C34: 巴宜区 | D34: 2013 | E34: 林芝镇康扎村旅游接待住宿项目 | F34: 是 | G34: 是 | H34: =I34+AF34 -> 3000000 | I34: =O34+J34+T34+Y34+AE34+AC34+AD34 -> 1500000 | J34: =N34+M34+L34+K34 -> 1500000 | K34: 1500000 | O34: =S34+R34+Q34+P34 -> 0 | T34: =X34+W34+V34+U34 -> 0 | Y34: =AA34+Z34+AB34 -> 0 | AF34: 1500000 | AG34: =AH34+BE34 -> 3000000 | AH34: =AN34+AI34+AS34+AX34+BD34+BB34+BC34 -> 1500000 | AI34: =AM34+AL34+AK34+AJ34 -> 1500000 | AJ34: 1500000 | AK34: 0 | AL34: 0 | AM34: 0 | AN34: =AR34+AQ34+AP34+AO34 -> 0 | AO34: 0 | AP34: 0 | AQ34: 0 | AR34: 0 | AS34: =AW34+AV34+AU34+AT34 -> 0 | AT34: 0 | AU34: 0 | AV34: 0 | AW34: 0 | AX34: =AZ34+AY34+BA34 -> 0 | AY34: 0 | AZ34: 0 | BA34: 0 | BB34: =AC34 -> 0 | BC34: 0 | BD34: =AE34 -> 0 | BE34: 1500000 | BF34: 与决算不匹配 | BG34: =BE34-AF34 -> 0
A35: 27 | B35: 林芝市 | C35: 巴宜区 | D35: 2013 | E35: 更章门巴民族乡门仲村、扎曲村骡马驿道修护项目 | F35: 是 | G35: 否 | H35: =I35+AF35 -> 100000 | I35: =O35+J35+T35+Y35+AE35+AC35+AD35 -> 100000 | J35: =N35+M35+L35+K35 -> 100000 | M35: 100000 | O35: =S35+R35+Q35+P35 -> 0 | T35: =X35+W35+V35+U35 -> 0 | Y35: =AA35+Z35+AB35 -> 0 | AG35: =AH35+BE35 -> 100000 | AH35: =AN35+AI35+AS35+AX35+BD35+BB35+BC35 -> 100000 | AI35: =AM35+AL35+AK35+AJ35 -> 100000 | AJ35: 0 | AK35: 0 | AL35: 100000 | AM35: 0 | AN35: =AR35+AQ35+AP35+AO35 -> 0 | AO35: 0 | AP35: 0 | AQ35: 0 | AR35: 0 | AS35: =AW35+AV35+AU35+AT35 -> 0 | AT35: 0 | AU35: 0 | AV35: 0 | AW35: 0 | AX35: =AZ35+AY35+BA35 -> 0 | AY35: 0 | AZ35: 0 | BA35: 0 | BB35: =AC35 -> 0 | BC35: 0 | BD35: =AE35 -> 0 | BG35: =BE35-AF35 -> 0
A36: 28 | B36: 林芝市 | C36: 巴宜区 | D36: 2013 | E36: 米瑞乡色果拉村农田灌溉水渠修护项目 | F36: 是 | G36: 是 | H36: =I36+AF36 -> 100000 | I36: =O36+J36+T36+Y36+AE36+AC36+AD36 -> 100000 | J36: =N36+M36+L36+K36 -> 100000 | M36: 100000 | O36: =S36+R36+Q36+P36 -> 0 | T36: =X36+W36+V36+U36 -> 0 | Y36: =AA36+Z36+AB36 -> 0 | AG36: =AH36+BE36 -> 100000 | AH36: =AN36+AI36+AS36+AX36+BD36+BB36+BC36 -> 100000 | AI36: =AM36+AL36+AK36+AJ36 -> 100000 | AJ36: 0 | AK36: 0 | AL36: 100000 | AM36: 0 | AN36: =AR36+AQ36+AP36+AO36 -> 0 | AO36: 0 | AP36: 0 | AQ36: 0 | AR36: 0 | AS36: =AW36+AV36+AU36+AT36 -> 0 | AT36: 0 | AU36: 0 | AV36: 0 | AW36: 0 | AX36: =AZ36+AY36+BA36 -> 0 | AY36: 0 | AZ36: 0 | BA36: 0 | BB36: =AC36 -> 0 | BC36: 0 | BD36: =AE36 -> 0 | BG36: =BE36-AF36 -> 0
A37: 29 | B37: 林芝市 | C37: 巴宜区 | D37: 2013 | E37: 布久乡孜热村水渠维修 | F37: 是 | G37: 是 | H37: =I37+AF37 -> 103500 | I37: =O37+J37+T37+Y37+AE37+AC37+AD37 -> 103500 | J37: =N37+M37+L37+K37 -> 103500 | N37: 103500 | O37: =S37+R37+Q37+P37 -> 0 | T37: =X37+W37+V37+U37 -> 0 | Y37: =AA37+Z37+AB37 -> 0 | AG37: =AH37+BE37 -> 103500 | AH37: =AN37+AI37+AS37+AX37+BD37+BB37+BC37 -> 103500 | AI37: =AM37+AL37+AK37+AJ37 -> 103500 | AJ37: 0 | AK37: 0 | AL37: 0 | AM37: 103500 | AN37: =AR37+AQ37+AP37+AO37 -> 0 | AO37: 0 | AP37: 0 | AQ37: 0 | AR37: 0 | AS37: =AW37+AV37+AU37+AT37 -> 0 | AT37: 0 | AU37: 0 | AV37: 0 | AW37: 0 | AX37: =AZ37+AY37+BA37 -> 0 | AY37: 0 | AZ37: 0 | BA37: 0 | BB37: =AC37 -> 0 | BC37: 0 | BD37: =AE37 -> 0 | BG37: =BE37-AF37 -> 0
A38: 30 | B38: 林芝市 | C38: 巴宜区 | D38: 2013 | E38: 百巴镇大坝村温室供水 | F38: 是 | G38: 是 | H38: =I38+AF38 -> 1100000 | I38: =O38+J38+T38+Y38+AE38+AC38+AD38 -> 1100000 | J38: =N38+M38+L38+K38 -> 1100000 | N38: 1100000 | O38: =S38+R38+Q38+P38 -> 0 | T38: =X38+W38+V38+U38 -> 0 | Y38: =AA38+Z38+AB38 -> 0 | AG38: =AH38+BE38 -> 1100000 | AH38: =AN38+AI38+AS38+AX38+BD38+BB38+BC38 -> 1100000 | AI38: =AM38+AL38+AK38+AJ38 -> 1100000 | AJ38: 0 | AK38: 0 | AL38: 0 | AM38: 1100000 | AN38: =AR38+AQ38+AP38+AO38 -> 0 | AO38: 0 | AP38: 0 | AQ38: 0 | AR38: 0 | AS38: =AW38+AV38+AU38+AT38 -> 0 | AT38: 0 | AU38: 0 | AV38: 0 | AW38: 0 | AX38: =AZ38+AY38+BA38 -> 0 | AY38: 0 | AZ38: 0 | BA38: 0 | BB38: =AC38 -> 0 | BC38: 0 | BD38: =AE38 -> 0 | BG38: =BE38-AF38 -> 0
A39: 31 | B39: 林芝市 | C39: 巴宜区 | D39: 2013 | E39: 百巴镇大坝村蔬菜温室工程缺口资金 | F39: 是 | G39: 是 | H39: =I39+AF39 -> 430600 | I39: =O39+J39+T39+Y39+AE39+AC39+AD39 -> 430600 | J39: =N39+M39+L39+K39 -> 430600 | N39: 430600 | O39: =S39+R39+Q39+P39 -> 0 | T39: =X39+W39+V39+U39 -> 0 | Y39: =AA39+Z39+AB39 -> 0 | AG39: =AH39+BE39 -> 430600 | AH39: =AN39+AI39+AS39+AX39+BD39+BB39+BC39 -> 430600 | AI39: =AM39+AL39+AK39+AJ39 -> 430600 | AJ39: 0 | AK39: 0 | AL39: 0 | AM39: 430600 | AN39: =AR39+AQ39+AP39+AO39 -> 0 | AO39: 0 | AP39: 0 | AQ39: 0 | AR39: 0 | AS39: =AW39+AV39+AU39+AT39 -> 0 | AT39: 0 | AU39: 0 | AV39: 0 | AW39: 0 | AX39: =AZ39+AY39+BA39 -> 0 | AY39: 0 | AZ39: 0 | BA39: 0 | BB39: =AC39 -> 0 | BC39: 0 | BD39: =AE39 -> 0 | BG39: =BE39-AF39 -> 0
A40: 32 | B40: 林芝市 | C40: 巴宜区 | D40: 2013 | E40: 林芝县偏远寺庙硬化路 | F40: 是 | G40: 否 | H40: =I40+AF40 -> 1800000 | I40: =O40+J40+T40+Y40+AE40+AC40+AD40 -> 1800000 | J40: =N40+M40+L40+K40 -> 0 | O40: =S40+R40+Q40+P40 -> 0 | T40: =X40+W40+V40+U40 -> 0 | Y40: =AA40+Z40+AB40 -> 1800000 | Z40: 1800000 | AG40: =AH40+BE40 -> 1800000 | AH40: =AN40+AI40+AS40+AX40+BD40+BB40+BC40 -> 1800000 | AI40: =AM40+AL40+AK40+AJ40 -> 0 | AJ40: 0 | AK40: 0 | AL40: 0 | AM40: 0 | AN40: =AR40+AQ40+AP40+AO40 -> 0 | AO40: 0 | AP40: 0 | AQ40: 0 | AR40: 0 | AS40: =AW40+AV40+AU40+AT40 -> 0 | AT40: 0 | AU40: 0 | AV40: 0 | AW40: 0 | AX40: =AZ40+AY40+BA40 -> 1800000 | AY40: 1800000 | AZ40: 0 | BA40: 0 | BB40: =AC40 -> 0 | BC40: 0 | BD40: =AE40 -> 0 | BG40: =BE40-AF40 -> 0
...

Sheet 附件3
A1: 西藏自治区林芝市帮扶产业项目总台账
A2: 项目 编号 | B2: 项目 地市 | C2: 项目 县区 | D2: 项目 年度 | E2: 项目 名称 | F2: 项目申报主体 | G2: 项目实施地点 | H2: 项目主要建设内容 | J2: 计划投资（万元） | M2: 实际投资（万元） | P2: 项目 分类情况 | Q2: 项目所属产业分类 | R2: 产业“四个一批”分类 | S2: 经营性项目“四个一批”分类 | T2: 项目运营情况 | U2: 项目运营模式 | V2: 项目经营主体 | X2: 项目联农带农协议签订情况 | Y2: 项目联农带农协议签订时间 | Z2: 项目联农带农协议签订年限 | AA2: 项目联农带农协议主要内容 | AB2: 项目累计分红金额 （元） | AC2: 项目累计带动就业人数 （人） | AD2: 项目归口行业单位名称 | AE2: 备注
J3: 合计 | K3: 政策性资金 （同表2政策性资金合计数） | L3: 其他渠道资金 （如企业自筹、信贷资金等非政策性资金，同表2） | M3: 合计 | N3: 政策性资金 （同表2政策性资金合计数） | O3: 其他渠道资金 （如企业自筹、信贷资金等非政策性资金，同表2） | V3: 经营主体类别 | W3: 名称
A4: 填表说明：根据指南编码规则编号 | D4: 以项目批复中对应内容为准 | G4: 以项目批复中项目实施地点为准，例：XX乡（镇）XX 村（居） | H4: 以项目竣工决算中项目主要建设内容为准 | J4: 与表2数据一致 （保留小数点后面2位） | M4: 与表2数据一致 （保留小数点后面2位） | P4: 在“经营类、公益类、到户类“中选择 | Q4: 在“青稞、小麦、饲料、牦牛、乳、羊、猪、鸡、蜂、鱼虾、藏药、茶、葡萄、苹果、猕猴桃、设施农业、乡村旅游、商贸流通、其他”中选择 | R4: 在“巩固、升级、盘活、调整”中选择 | S4: 在“巩固、升级、盘活、调整”中选择，仅经营类项目填写 | T4: 根据实际情况填写“是/否” | U4: 在“自主运营、合作运营、委托运营“中选择 | V4: 在“农村集体经济组织、农牧民专业合作社、农户、国企、私企、个体工商户、其他”中选择 | X4: 根据实际情况填写“是/否” | Y4: 例：2022.09 | Z4: 例：10年 | AA4: 例：该项目带动建档立卡群众不低于23户79人增收，分红金额不低于500元/人/年 | AD4: 以项目实施内容对应行业单位为准 | AG4: 经营主体 | AH4: 经营权主体 | AI4: 备注
A5: 540624201317001 | B5: 林芝市 | C5: 巴宜区 | D5: 2013 | E5: 鲁朗镇扎西岗旅游合作社接待中心建设项目 | F5: 巴宜区扶贫办 | G5: 鲁朗镇扎西岗村 | H5: 建设一个占地面积270平米集办公、接待、就餐、洗浴为一体的旅游接待中心,配套家庭旅馆消毒设备。 | J5: 90 | K5: 90 | L5: 0 | M5: 89.186758 | N5: 89.186758 | O5: 0 | P5: 经营类 | Q5: 乡村旅游 | R5: 巩固 | S5: 盘活 | T5: 否 | U5: 自主运营 | V5: 农村集体经济组织 | W5: 林芝市巴宜区鲁朗镇扎西岗村股份经济合作联合社 | X5: 否 | Y5: - | Z5: - | AA5: - | AB5: 80000 | AC5: 2 | AD5: 巴宜区农业农村局 | AG5: 林芝市巴宜区鲁朗镇扎西岗村股份经济合作联合社 | AH5: 林芝市巴宜区鲁朗镇扎西岗村股份经济合作联合社
A6: 540624201317002 | B6: 林芝市 | C6: 巴宜区 | D6: 2013 | E6: 林芝镇卡斯木村旅游接待点建设项目 | F6: 巴宜区扶贫办 | G6: 林芝镇卡斯木村 | H6: 建设占地面积600平米的旅游接待点，其中、接待楼1栋400平米，伙房及储物间200平米，修建砖混结构围墙59.6米。 | J6: 80 | K6: 80 | L6: 0 | M6: 79.885832 | N6: 79.885832 | O6: 0 | P6: 公益类 | Q6: 乡村旅游 | R6: - | S6: - | T6: 是 | U6: 自主运营 | V6: 农村集体经济组织 | W6: 林芝市巴宜区林芝镇卡斯木村股份经济合作联合社 | X6: 否 | Y6: - | Z6: - | AA6: - | AB6: 10000 | AC6: - | AD6: 巴宜区农业农村局 | AG6: 林芝市巴宜区林芝镇卡斯木村股份经济合作联合社 | AH6: 林芝市巴宜区林芝镇卡斯木村股份经济合作联合社
A7: 540624201317003 | B7: 林芝市 | C7: 巴宜区 | D7: 2013 | E7: 林芝镇朗欧村旅游接待点建设项目 | F7: 巴宜区扶贫办 | G7: 林芝镇朗欧村 | H7: 建设占地面积600平米的旅游接待点，其中、接待楼1栋400平米，伙房及储物间200平米，修建砖混结构围墙59.6米。 | J7: 80 | K7: 80 | L7: 0 | M7: 80 | N7: 80 | O7: 0 | P7: 经营类 | Q7: 乡村旅游 | R7: 巩固 | S7: 巩固 | T7: 是 | U7: 委托运营 | V7: 农村集体经济组织 | W7: 林芝市巴宜区林芝镇朗欧村股份经济合作联合社 | X7: 否 | Y7: - | Z7: - | AA7: - | AB7: - | AC7: - | AD7: 巴宜区农业农村局 | AE7: 本项目与53号项目一体 | AG7: 林芝市巴宜区林芝镇朗欧村股份经济合作联合社 | AH7: 王辉
A8: 540624201319001 | B8: 林芝市 | C8: 巴宜区 | D8: 2013 | E8: 林芝镇尼池村糌粑面粉加工场项目 | F8: 巴宜区扶贫办 | G8: 林芝镇尼池村 | H8: 修建砖混结构厂房及仓库86.4㎡，水泥砖围墙79.4m，购置Ф100型电动石磨、阁润100型自动青稞翻炒机各1台（套），配套大门1座及水电等附属设施。 | J8: 22 | K8: 22 | L8: 0 | M8: 22 | N8: 22 | O8: 0 | P8: 经营类 | Q8: 其他 | R8: 巩固 | S8: 巩固 | T8: 是 | U8: 自主运营 | V8: 农村集体经济组织 | W8: 林芝市巴宜区林芝镇尼池村尼池组股份经济合作社 | X8: 否 | Y8: - | Z8: - | AA8: - | AB8: - | AC8: 5-6 | AD8: 巴宜区农业农村局 | AE8: 盘活 | AG8: 林芝市巴宜区林芝镇尼池村尼池组股份经济合作社 | AH8: 林芝市巴宜区林芝镇尼池村尼池组股份经济合作社 | AI8: 原经营主体为金宗后转入给康扎村个人不知名字
A9: 540624201304001 | B9: 林芝市 | C9: 巴宜区 | D9: 2013 | E9: 林芝县鲁朗镇东久村、林芝镇邦纳村、米瑞乡泽列村犏奶牛养殖项目 | F9: 巴宜区扶贫办 | G9: 鲁朗镇东久村、邦纳村，米瑞乡泽列村 | H9: 购置犏奶牛130头，种植草地100亩；新建砖木结构牛舍65座； | J9: 67 | K9: 67 | L9: 0 | M9: 67 | N9: 67 | O9: 0 | P9: 到户类 | Q9: 牦牛 | R9: - | S9: - | T9: 是 | U9: 自主运营 | V9: 农户 | W9: 米瑞乡泽列村27户；鲁朗镇东久村18户，林芝镇帮纳村20户村民 | X9: 否 | Y9: - | Z9: - | AA9: - | AB9: - | AC9: - | AD9: 巴宜区农业农村局 | AG9: 米瑞乡泽列村27户；鲁朗镇东久村18户，林芝镇帮纳村20户村民 | AH9: 米瑞乡泽列村27户；鲁朗镇东久村18户，林芝镇帮纳村20户村民
A10: 540624201306001 | B10: 林芝市 | C10: 巴宜区 | D10: 2013 | E10: 米瑞乡通麦村养羊项目 | F10: 巴宜区扶贫办 | G10: 米瑞乡通麦村 | H10: 购置绵羊200头，苜蓿草种植100亩，新建砖木结构50平米羊舍10栋 | J10: 14 | K10: 14 | L10: 0 | M10: 14 | N10: 14 | O10: 0 | P10: 经营类 | Q10: 羊 | R10: 巩固 | S10: 巩固 | T10: 是 | U10: 委托运营 | V10: 农牧民专业合作社 | W10: 林芝市巴宜区米瑞通麦绵羊养殖农牧民专业合作社 | X10: 是 | Y10: - | Z10: - | AA10: - | AB10: 45000 | AC10: 15户 | AD10: 巴宜区农业农村局 | AG10: 林芝市巴宜区米瑞乡通麦村股份经济合作联合社 | AH10: 林芝市巴宜区米瑞通麦绵羊养殖农牧民专业合作社 | AI10: 个人合作社
A11: 540624201319002 | B11: 林芝市 | C11: 巴宜区 | D11: 2013 | E11: 布久乡麦巴村经济林木建设项目 | F11: 巴宜区扶贫办 | G11: 布久乡麦巴村 | H11: 扶持15户低收入群众发展经济林木种植项目，购置核桃树苗7200株，集中连片种植180亩核桃。 | J11: 18 | K11: 18 | L11: 0 | M11: 18 | N11: 18 | O11: 0 | P11: 到户类 | Q11: 其他 | R11: - | S11: - | T11: 是 | U11: 自主运营 | V11: 农户 | W11: 布久项目麦巴村15户村民 | X11: 否 | Y11: - | Z11: - | AA11: - | AB11: - | AC11: - | AD11: 巴宜区农业农村局 | AG11: 布久项目麦巴村15户村民 | AH11: 布久项目麦巴村15户村民
A12: 540624201319003 | B12: 林芝市 | C12: 巴宜区 | D12: 2013 | E12: 八一镇公仲村经济林木建设项目 | F12: 巴宜区扶贫办 | G12: 八一镇公仲村 | H12: 扶持20户低收入群众发展经济林木种植项目，购置水蜜桃、油桃、梨子、核桃树苗18000株，集中种植300亩，及配套灌溉渠道1500米。 | J12: 40 | K12: 40 | L12: 0 | M12: 40 | N12: 40 | O12: 0 | P12: 到户类 | Q12: 其他 | R12: - | S12: - | T12: 是 | U12: 自主运营 | V12: 农户 | W12: 八一镇公众村20户村民 | X12: 否 | Y12: - | Z12: - | AA12: - | AB12: 144000 | AC12: 31 | AD12: 巴宜区农业农村局 | AG12: 八一镇公众村20户村民 | AH12: 八一镇公众村20户村民
A13: 540624201308001 | B13: 林芝市 | C13: 巴宜区 | D13: 2013 | E13: 米瑞乡色果拉藏鸡养殖基地建设项目 | F13: 巴宜区扶贫办 | G13: 米瑞乡色果拉 | H13: 建设一个6000平方米的集中养殖点，其中包括鸡舍240平方米、活动场2400平方米、仓库及住宿房104平方米，以31户入社群众为主体，带动全村共46户群众（其中20户104名群众为扶贫对象）发展藏鸡养殖5000只，并配套修建大门及围墙等设施。包括培训经费2万元。 | J13: 50 | K13: 50 | L13: 0 | M13: 50 | N13: 50 | O13: 0 | P13: 经营类 | Q13: 鸡 | R13: 巩固 | S13: 盘活 | T13: 否 | U13: 自主运营 | V13: 农村集体经济组织 | W13: 林芝市巴宜区米瑞乡色果拉村股份经济合作联合社 | X13: 否 | Y13: - | Z13: - | AA13: - | AB13: 144000 | AC13: 31户 | AD13: 巴宜区农业农村局 | AE13: 盘活 | AG13: 林芝市巴宜区米瑞乡色果拉村股份经济合作联合社 | AH13: 林芝市巴宜区米瑞乡色果拉村祥和种植养殖农牧民合作社
A14: 540624201316001 | B14: 林芝市 | C14: 巴宜区 | D14: 2013 | E14: 米瑞乡麦娘麦村蔬菜大棚建设项目 | F14: 巴宜区扶贫办 | G14: 米瑞乡麦娘麦村 | H14: 扶持米瑞乡麦娘麦村38户农牧民群众（其中扶贫对象22户，辐射带动户16户）共196人，发展蔬菜种植产业。按平均每1户一座共38座，共建设8×30m的单拱钢管插棚38座，每座面积为240m2；配套完善大棚灌溉土渠450米。 | J14: 76 | K14: 76 | L14: 0 | M14: 76 | N14: 76 | O14: 0 | P14: 到户类 | Q14: 设施农业 | R14: - | S14: - | T14: 是 | U14: 自主运营 | V14: 农户 | W14: 米瑞乡麦娘麦村（仲萨村）33户村民 | X14: 否 | Y14: - | Z14: - | AA14: - | AB14: - | AC14: - | AD14: 巴宜区农业农村局 | AG14: 米瑞乡麦娘麦村（仲萨村）33户村民 | AH14: 米瑞乡麦娘麦村（仲萨村）33户村民
A15: 540624201319004 | B15: 林芝市 | C15: 巴宜区 | D15: 2013 | E15: 米瑞乡嘎萨村土豆、苜蓿草种植项目 | F15: 巴宜区扶贫办 | G15: 米瑞乡嘎萨村 | H15: 扶持米瑞乡嘎萨村16户108人治理撂荒地200亩，种植土豆50亩、紫花苜蓿草150亩。 | J15: 18 | K15: 18 | L15: 0 | M15: 18 | N15: 18 | O15: 0 | P15: 到户类 | Q15: 其他 | R15: - | S15: - | T15: 否 | U15: 自主运营 | V15: 农户 | W15: 米瑞乡嘎萨村16户村民 | X15: 否 | Y15: - | Z15: - | AA15: - | AB15: - | AC15: - | AD15: 巴宜区农业农村局 | AG15: 米瑞乡嘎萨村16户村民 | AH15: 米瑞乡嘎萨村16户村民
A16: 540624201319005 | B16: 林芝市 | C16: 巴宜区 | D16: 2013 | E16: 百巴镇折巴村粮油加工厂项目 | F16: 巴宜区扶贫办 | G16: 百巴镇折巴村 | H16: 新建厂房120平方米，购置设备一套。 | J16: 30 | K16: 30 | L16: 0 | M16: 30 | N16: 30 | O16: 0 | P16: 公益类 | Q16: 其他 | R16: - | S16: - | T16: 否 | U16: 自主运营 | V16: 农村集体经济组织 | W16: 林芝市巴宜区百巴镇折巴村折巴组股份经济合作社 | X16: 否 | Y16: - | Z16: - | AA16: - | AB16: - | AC16: - | AD16: 巴宜区农业农村局 | AG16: 林芝市巴宜区百巴镇折巴村折巴组股份经济合作社 | AH16: 林芝市巴宜区百巴镇折巴村折巴组股份经济合作社
A17: 540624201316002 | B17: 林芝市 | C17: 巴宜区 | D17: 2013 | E17: 百巴镇折巴村“优菜”水渠建设项目 | F17: 巴宜区扶贫办 | G17: 百巴镇折巴村 | H17: 新建c20钢筋砼1600米(规格:0.4MX0.35M)，4米农用桥一座，配套完善分水口等设施。 | J17: 46 | K17: 46 | L17: 0 | M17: 46 | N17: 46 | O17: 0 | P17: 公益类 | Q17: 设施农业 | R17: - | S17: - | T17: 是 | U17: 自主运营 | V17: 农村集体经济组织 | W17: 林芝市巴宜区百巴镇折巴村折巴组股份经济合作社 | X17: 否 | Y17: - | Z17: - | AA17: - | AB17: - | AC17: - | AD17: 巴宜区农业农村局 | AG17: 林芝市巴宜区百巴镇折巴村折巴组股份经济合作社 | AH17: 林芝市巴宜区百巴镇折巴村折巴组股份经济合作社
A18: 540624201316003 | B18: 林芝市 | C18: 巴宜区 | D18: 2013 | E18: 米瑞乡通麦村农田灌溉水渠 | F18: 巴宜区扶贫办 | G18: 米瑞乡通麦村 | H18: 新建引水渠道1400米，及分水口农用桥等渠系配套建筑物。 | J18: 51 | K18: 51 | L18: 0 | M18: 51 | N18: 51 | O18: 0 | P18: 公益类 | Q18: 设施农业 | R18: - | S18: - | T18: 是 | U18: 自主运营 | V18: 农村集体经济组织 | W18: 林芝市巴宜区米瑞乡通麦村股份经济合作联合社 | X18: 否 | Y18: - | Z18: - | AA18: - | AB18: - | AC18: - | AD18: 巴宜区农业农村局 | AG18: 林芝市巴宜区米瑞乡通麦村股份经济合作联合社 | AH18: 林芝市巴宜区米瑞乡通麦村股份经济合作联合社
A19: 540624201317004 | B19: 林芝市 | C19: 巴宜区 | D19: 2013 | E19: 鲁朗镇东久村瓜果采摘园项目 | F19: 巴宜区扶贫办 | G19: 鲁朗镇东久村 | H19: 开垦80亩撂荒地；购置种植木瓜10亩；种植苹果30亩；种植桃树20亩；种植李子20亩；修建游客接待中心；安装网围栏1300米。 | J19: 59 | K19: 59 | L19: 0 | M19: 59 | N19: 59 | O19: 0 | P19: 经营类 | Q19: 乡村旅游 | R19: 巩固 | S19: 巩固 | T19: 是 | U19: 委托运营 | V19: 个体工商户 | W19: 林芝市巴宜区鲁朗镇东久村股份经济合作联合社 | X19: 否 | Y19: - | Z19: - | AA19: - | AB19: 360000 | AC19: - | AD19: 巴宜区农业农村局 | AE19: 盘活 | AG19: 林芝市巴宜区鲁朗镇东久村股份经济合作联合社 | AH19: 林芝市巴宜区鲁朗镇东久村股份经济合作联合社
A20: 540624201316004 | B20: 林芝市 | C20: 巴宜区 | D20: 2013 | E20: 百巴镇拉格村农田灌溉水渠 | F20: 巴宜区扶贫办 | G20: 百巴镇拉格村 | H20: 修建砼矩形引水主渠1000米，及分水口、农用桥等渠系配套交叉建筑物。 | J20: 39 | K20: 39 | L20: 0 | M20: 39 | N20: 39 | O20: 0 | P20: 公益类 | Q20: 设施农业 | R20: - | S20: - | T20: 是 | U20: 自主运营 | V20: 农村集体经济组织 | W20: 林芝市巴宜区百巴镇拉格村股份经济合作联合社 | X20: - | Y20: - | Z20: - | AA20: - | AB20: - | AC20: - | AD20: 巴宜区农业农村局 | AG20: 林芝市巴宜区百巴镇拉格村股份经济合作联合社 | AH20: 林芝市巴宜区百巴镇拉格村股份经济合作联合社
A21: 540624201319006 | B21: 林芝市 | C21: 巴宜区 | D21: 2013 | E21: 百巴镇折巴村核桃种植项目 | F21: 巴宜区扶贫办 | G21: 百巴镇折巴村 | H21: 开垦山坡地200亩；种植核桃200亩。 | J21: 50 | K21: 50 | L21: 0 | M21: 50 | N21: 50 | O21: 0 | P21: 到户类 | Q21: 其他 | R21: - | S21: - | T21: 否 | U21: 自主运营 | V21: 农户 | W21: 百巴镇折巴村51户村民 | X21: 否 | Y21: - | Z21: - | AA21: - | AB21: - | AC21: - | AD21: 巴宜区农业农村局 | AG21: 百巴镇折巴村51户村民 | AH21: 百巴镇折巴村51户村民
A22: 540624201317005 | B22: 林芝市 | C22: 巴宜区 | D22: 2013 | E22: 百巴镇强嘎村工布赛马休闲旅游山庄建设项目 | F22: 巴宜区扶贫办 | G22: 百巴镇强嘎村 | H22: 建设民俗演艺厅、藏餐厅、射箭场，购置马匹10匹，配套马具、音响设备、射箭用具、餐饮厨具等配套设备。 | J22: 60 | K22: 60 | L22: 0 | M22: 60 | N22: 60 | O22: 0 | P22: 经营类 | Q22: 乡村旅游 | R22: 巩固 | S22: 升级 | T22: 是 | U22: 委托运营 | V22: 农村集体经济组织 | W22: 林芝市巴宜区百巴镇强嘎村股份经济合作联合社 | X22: 否 | Y22: - | Z22: - | AA22: - | AB22: 950000 | AC22: 5-6户 | AD22: 巴宜区农业农村局 | AG22: 林芝市巴宜区百巴镇强嘎村股份经济合作联合社 | AH22: 吕建国
A23: 540624201319007 | B23: 林芝市 | C23: 巴宜区 | D23: 2013 | E23: 林芝镇立定村果园建设项目 | F23: 巴宜区扶贫办 | G23: 林芝镇立定村 | H23: 种植核桃树苗200亩；苹果树苗100亩；李子树苗、苹果树苗共100亩。 | J23: 40 | K23: 40 | L23: 0 | M23: 40 | N23: 40 | O23: 0 | P23: 到户类 | Q23: 其他 | R23: - | S23: - | T23: 是 | U23: 自主运营 | V23: 农户 | W23: 林芝镇立定村25户村、榜纳村13户村、娘峨村22户村民 | X23: 否 | Y23: - | Z23: - | AA23: - | AB23: - | AC23: - | AD23: 巴宜区农业农村局 | AE23: 盘活 | AG23: 林芝镇立定村25户村、榜纳村13户村、娘峨村22户村民 | AH23: 林芝镇立定村25户村、榜纳村13户村、娘峨村22户村民
A24: 540624201307001 | B24: 林芝市 | C24: 巴宜区 | D24: 2013 | E24: 米瑞乡吉定村藏香猪养殖项目 | F24: 巴宜区扶贫办 | G24: 米瑞乡吉定村 | H24: 购置藏香猪1166头；修建猪圈53座。 | J24: 40 | K24: 40 | L24: 0 | M24: 40 | N24: 40 | O24: 0 | P24: 到户类 | Q24: 猪 | R24: - | S24: - | T24: 否 | U24: 自主运营 | V24: 农户 | W24: 米瑞乡吉定村32户村民 | X24: 否 | Y24: - | Z24: - | AA24: - | AB24: - | AC24: - | AD24: 巴宜区农业农村局 | AG24: 米瑞乡吉定村32户村民 | AH24: 米瑞乡吉定村32户村民
A25: 540624201319008 | B25: 林芝市 | C25: 巴宜区 | D25: 2013 | E25: 米瑞乡德木达嘎鲁丁糌粑加工厂建设项目 | F25: 巴宜区扶贫办 | G25: 米瑞乡曲尼贡嘎村 | H25: 新建加工厂房2栋（一栋130㎡，另一栋170㎡）共300㎡；购置6FP2550型磨面机1台、6ZQ28A清粮机1台，YZYX120-8型螺旋榨油机1台、YBLL320X14板框滤油机1台；购置100型电动石磨4台（套）、阁润自动青稞翻炒机各3台（套）、电动缝口机1台；配套修建场区围墙260米、大门1座及水电线路等设施。 | J25: 80 | K25: 80 | L25: 0 | M25: 80 | N25: 80 | O25: 0 | P25: 经营类 | Q25: 其他 | R25: 巩固 | S25: 巩固 | T25: 是 | U25: 委托运营 | V25: 农牧民专业合作社 | W25: 米瑞乡德木康桑水磨糌粑面粉农民专业合作社 | X25: 否 | Y25: - | Z25: - | AA25: - | AB25: - | AC25: 5-10人 | AD25: 巴宜区农业农村局 | AG25: 林芝市巴宜区米瑞乡曲尼贡嘎村经济联合社 | AH25: 米瑞乡德木康桑水磨糌粑面粉农民专业合作社 | AI25: 个人合作社
A26: 540624201307002 | B26: 林芝市 | C26: 巴宜区 | D26: 2013 | E26: 米瑞乡曲尼贡嘎村藏香猪养殖项目 | F26: 巴宜区扶贫办 | G26: 米瑞乡曲尼贡嘎村 | H26: 建造4800平方米藏猪养殖基地;购置藏香仔猪1000头,母猪300头,种公猪20头；购置防疫\防病设备一套。 | J26: 79 | K26: 79 | L26: 0 | M26: 79 | N26: 79 | O26: 0 | P26: 经营类 | Q26: 猪 | R26: 巩固 | S26: 巩固 | T26: 是 | U26: 委托运营 | V26: 农牧民专业合作社 | W26: 林芝市米瑞乡曲尼贡嘎村达白养殖农牧民专业合作社 | X26: 否 | Y26: - | Z26: - | AA26: - | AB26: 35800 | AC26: - | AD26: 巴宜区农业农村局 | AG26: 林芝市巴宜区米瑞乡曲尼贡嘎村经济联合社 | AH26: 林芝市米瑞乡曲尼贡嘎村达白养殖农牧民专业合作社 | AI26: 个人合作社（达白、巴桑罗布）
A27: 540624201316005 | B27: 林芝市 | C27: 巴宜区 | D27: 2013 | E27: 八一镇尼西村水果蔬菜种植温室项目 | F27: 巴宜区扶贫办 | G27: 八一镇尼西村 | H27: 建设规模及内容为修建20米×8米单拱三面砖混温室8座。 | J27: 35 | K27: 35 | L27: 0 | M27: 35 | N27: 35 | O27: 0 | P27: 到户类 | Q27: 设施农业 | R27: - | S27: - | T27: 否 | U27: 自主运营 | V27: 农户 | W27: 八一镇尼西村13户村民 | X27: 否 | Y27: - | Z27: - | AA27: - | AB27: 20000 | AC27: 100 | AD27: 巴宜区农业农村局 | AG27: 八一镇尼西村13户村民 | AH27: 八一镇尼西村13户村民
A28: 540624201316006 | B28: 林芝市 | C28: 巴宜区 | D28: 2013 | E28: 更张乡白玛店村和扎曲村钢架大棚灵芝菌种植项目 | F28: 巴宜区扶贫办 | G28: 更张乡白玛店村、扎曲村 | H28: 修建35座钢架大棚，8米*30米＝240平米，种植灵芝菌项目；扎曲村修建20座两连栋大棚温室（面积320平米），配套水渠700米，围墙800米。 | J28: 179 | K28: 179 | L28: 0 | M28: 179 | N28: 179 | O28: 0 | P28: 经营类 | Q28: 设施农业 | R28: 巩固 | S28: 调整 | T28: 否 | U28: 自主运营 | V28: 农村集体经济组织 | W28: 林芝市巴宜区更章门巴民族乡扎曲村股份经济合作联合社、林芝市巴宜区更章门巴民族乡白玛店社区股份经济合作联合社 | X28: 否 | Y28: - | Z28: - | AA28: - | AB28: - | AC28: - | AD28: 巴宜区农业农村局 | AG28: 林芝市巴宜区更章门巴民族乡扎曲村股份经济合作联合社、林芝市巴宜区更章门巴民族乡白玛店社区股份经济合作联合社 | AH28: 林芝市巴宜区更章门巴民族乡扎曲村股份经济合作联合社、林芝市巴宜区更章门巴民族乡白玛店社区股份经济合作联合社
A29: 540624201319009 | B29: 林芝市 | C29: 巴宜区 | D29: 2013 | E29: 八一镇色定村阿吉林特色经济发展农牧民专业合作社藏民族手工艺品生产厂区建设项目 | F29: 巴宜区扶贫办 | G29: 八一镇色定村 | H29: 建立供销一体化的民族手工艺品生产基地242.25平方米，购买烙画机、毛皮软化机、打磨机、粉碎机、真空包装机、烘干机、缝纫机、打孔机、编织机等机械设备，以及相关人员培训。 | J29: 42 | K29: 42 | L29: 0 | M29: 42 | N29: 42 | O29: 0 | P29: 经营类 | Q29: 其他 | R29: 巩固 | S29: 调整 | T29: 是 | U29: 委托运营 | V29: 农牧民专业合作社 | W29: 林芝县八一镇色定村阿吉特色经济发展农牧民专业合作社 | X29: 否 | Y29: - | Z29: - | AA29: - | AB29: - | AC29: 395 | AD29: 巴宜区农业农村局 | AG29: 林芝市巴宜区八一镇公众村色定组经济合作社 | AH29: 林芝县八一镇色丁村阿吉特色经济发展农牧民专业合作社 | AI29: 个人合作社
A30: 540624201317006 | B30: 林芝市 | C30: 巴宜区 | D30: 2013 | E30: 林芝镇康扎村旅游接待住宿项目 | F30: 巴宜区扶贫办 | G30: 林芝镇康扎村 | H30: 建一栋占地面积641.83平米（含伙房及储物间100平米）集住宿餐饮为一体的接待点，购置76套床，156套床单及被套、配备餐桌等相应设备，配套建设大门1座等 | J30: 300 | K30: 150 | L30: 150 | M30: 300 | N30: 150 | O30: 150 | P30: 公益类 | Q30: 乡村旅游 | R30: - | S30: - | T30: 是 | U30: 自主运营 | V30: 农村集体经济组织 | W30: 林芝市巴宜区林芝镇康扎村股份经济合作联合社 | X30: 否 | Y30: - | Z30: - | AA30: - | AB30: - | AC30: - | AD30: 巴宜区农业农村局 | AE30: 本项目与52号项目一体 | AG30: 林芝市巴宜区林芝镇康扎村股份经济合作联合社 | AH30: 林芝市巴宜区林芝镇康扎村股份经济合作联合社
A31: 540624201316007 | B31: 林芝市 | C31: 巴宜区 | D31: 2013 | E31: 米瑞乡色果拉村农田灌溉水渠修护项目 | F31: 巴宜区扶贫办 | G31: 米瑞乡色果拉村 | H31: 色果拉村3000米主渠和2800米支渠的修护 | J31: 10 | K31: 10 | L31: 0 | M31: 10 | N31: 10 | O31: 0 | P31: 公益类 | Q31: 设施农业 | R31: - | S31: - | T31: 是 | U31: 自主运营 | V31: 农村集体经济组织 | W31: 林芝市巴宜区米瑞乡色果拉村股份经济合作联合社 | X31: - | Y31: - | Z31: - | AA31: - | AB31: - | AC31: - | AD31: 巴宜区农业农村局 | AG31: 林芝市巴宜区米瑞乡色果拉村股份经济合作联合社 | AH31: 林芝市巴宜区米瑞乡色果拉村股份经济合作联合社
A32: 540624201316008 | B32: 林芝市 | C32: 巴宜区 | D32: 2013 | E32: 布久乡孜热村水渠维修 | F32: 巴宜区扶贫办 | G32: 布久乡孜热村 | H32: 维修桥梁1座，填埋过水管等 | J32: 10.35 | K32: 10.35 | L32: 0 | M32: 10.35 | N32: 10.35 | O32: 0 | P32: 公益类 | Q32: 设施农业 | R32: - | S32: - | T32: 是 | U32: 自主运营 | V32: 农村集体经济组织 | W32: 林芝市巴宜区布久乡孜热村股份经济合作联合社 | X32: - | Y32: - | Z32: - | AA32: - | AB32: - | AC32: - | AD32: 巴宜区农业农村局 | AG32: 林芝市巴宜区布久乡孜热村股份经济合作联合社 | AH32: 林芝市巴宜区布久乡孜热村股份经济合作联合社
A33: 540624201316009 | B33: 林芝市 | C33: 巴宜区 | D33: 2013 | E33: 百巴镇大坝村温室供水 | F33: 巴宜区扶贫办 | G33: 百巴镇大坝村 | H33: 主渠dn110管2270米，dn90管2060米，新修17条支管，dn管3950米，渠系配套建筑物蓄水池1座。 | J33: 110 | K33: 110 | L33: 0 | M33: 110 | N33: 110 | O33: 0 | P33: 公益类 | Q33: 设施农业 | R33: - | S33: - | T33: 是 | U33: 自主运营 | V33: 农村集体经济组织 | W33: 林芝市巴宜区百巴镇大坝村经济联合社 | X33: - | Y33: - | Z33: - | AA33: - | AB33: - | AC33: - | AD33: 巴宜区农业农村局 | AG33: 林芝市巴宜区百巴镇大坝村经济联合社 | AH33: 林芝市巴宜区百巴镇大坝村经济联合社
A34: 540624201316010 | B34: 林芝市 | C34: 巴宜区 | D34: 2013 | E34: 百巴镇大坝村蔬菜温室工程缺口资金 | F34: 巴宜区扶贫办 | G34: 百巴镇大坝村 | H34: 蔬菜温室配套工程 | J34: 43.06 | K34: 43.06 | L34: 0 | M34: 43.06 | N34: 43.06 | O34: 0 | P34: 公益类 | Q34: 设施农业 | R34: - | S34: - | T34: 是 | U34: 自主运营 | V34: 农村集体经济组织 | W34: 林芝市巴宜区百巴镇大坝村经济联合社 | X34: - | Y34: - | Z34: - | AA34: - | AB34: - | AC34: - | AD34: 巴宜区农业农村局 | AG34: 林芝市巴宜区八一镇永久村股份经济合作联合社 | AH34: 林芝市巴宜区八一镇永久村股份经济合作联合社 | AI34: 已经冲毁
A35: 540624201417001 | B35: 林芝市 | C35: 巴宜区 | D35: 2014 | E35: 八一镇永久村农家乐建设项目 | F35: 巴宜区扶贫办 | G35: 八一镇永久村 | H35: 建设占地面积1485平米的农家乐，其中包括集住宿饮食一体的接待楼1栋300平米，修建砖混结构围墙59.6米。 | J35: 45 | K35: 45 | L35: 0 | M35: 45 | N35: 45 | O35: 0 | P35: 到户类 | Q35: 乡村旅游 | R35: - | S35: - | T35: 否 | U35: 自主运营 | V35: 农户 | W35: 个体户 | X35: 否 | Y35: - | Z35: - | AA35: - | AB35: - | AC35: - | AD35: 巴宜区农业农村局 | AG35: 林芝市巴宜区八一镇加乃村股份经济合作联合社 | AH35: 林芝市巴宜区八一镇加乃村股份经济合作联合社
A36: 540624201416001 | B36: 林芝市 | C36: 巴宜区 | D36: 2014 | E36: 八一镇加乃村农田灌溉项目 | F36: 巴宜区扶贫办 | G36: 八一镇加乃村 | H36: 新修建灌渠两条共计3000m（分别长1600m，1400m），新开荒地132亩，种植核桃102亩。 | J36: 98.41 | K36: 98.41 | L36: 0 | M36: 98.41 | N36: 98.41 | O36: 0 | P36: 公益类 | Q36: 设施农业 | R36: - | S36: - | T36: 是 | U36: 自主运营 | V36: 农村集体经济组织 | W36: 林芝市巴宜区八一镇加乃村股份经济合作联合社 | X36: - | Y36: - | Z36: - | AA36: - | AB36: - | AC36: - | AD36: 巴宜区农业农村局 | AG36: 林芝市巴宜区八一镇公众村色定组经济合作社 | AH36: 八一镇色定村异彩种养业农牧民专业合作社 | AI36: 个人合作社
A37: 540624201409001 | B37: 林芝市 | C37: 巴宜区 | D37: 2014 | E37: 八一镇色定村蜜蜂养殖项目 | F37: 巴宜区扶贫办 | G37: 八一镇色定村 | H37: 购置中锋220箱、意蜂220箱，购买白糖11吨，购买养蜂专用保温布250平方米。 | J37: 60 | K37: 60 | L37: 0 | M37: 60 | N37: 60 | O37: 0 | P37: 经营类 | Q37: 蜂 | R37: 巩固 | S37: 巩固 | T37: 是 | U37: 委托运营 | V37: 农牧民专业合作社 | W37: 八一镇色定村异彩种养业农牧民专业合作社 | X37: 否 | Y37: - | Z37: - | AA37: - | AB37: - | AC37: - | AD37: 巴宜区农业农村局 | AG37: 林芝市巴宜区百巴镇折巴村伍巴组股份经济合作社 | AH37: 林芝市巴宜区伍巴高原红艺术品加工农牧民专业合作社
A38: 540624201417002 | B38: 林芝市 | C38: 巴宜区 | D38: 2014 | E38: 百巴镇伍巴村旅游接待点项目 | F38: 巴宜区扶贫办 | G38: 百巴镇伍巴村 | H38: 建设占地面积600平米的旅游接待点，其中修建两层自驾游旅馆500㎡。配套水电、围墙、洗车设备。 | J38: 135 | K38: 135 | L38: 0 | M38: 135 | N38: 135 | O38: 0 | P38: 经营类 | Q38: 乡村旅游 | R38: 巩固 | S38: 巩固 | T38: 是 | U38: 委托运营 | V38: 农村集体经济组织 | W38: 林芝市巴宜区百巴镇折巴村伍巴组股份经济合作社 | X38: 否 | Y38: - | Z38: - | AA38: - | AB38: - | AC38: - | AD38: 巴宜区农业农村局 | AE38: 本项目与55号一体 | AG38: 百巴镇扎地村73户村民 | AH38: 百巴镇扎地村73户村民
A39: 540624201411001 | B39: 林芝市 | C39: 巴宜区 | D39: 2014 | E39: 百巴镇扎地村天麻种植项目 | F39: 巴宜区扶贫办 | G39: 百巴镇扎地村 | H39: 扶持73户农牧民群众355人，开发7亩土地种植天麻。 | J39: 31 | K39: 31 | L39: 0 | M39: 30.9995 | N39: 30.9995 | O39: 0 | P39: 到户类 | Q39: 藏药 | R39: - | S39: - | T39: 否 | U39: 自主运营 | V39: 农户 | W39: 百巴镇扎地村73户村民 | X39: 否 | Y39: - | Z39: - | AA39: - | AB39: - | AC39: - | AD39: 巴宜区农业农村局 | AG39: 布久乡孜热村55户村民 | AH39: 布久乡孜热村55户村民
A40: 540624201406001 | B40: 林芝市 | C40: 巴宜区 | D40: 2014 | E40: 布久乡孜热村绵羊养殖项目 | F40: 巴宜区扶贫办 | G40: 布久乡孜热村 | H40: 购置绵羊养殖750只，配套修建砖木结构羊圈400平方米，苜蓿草种植100亩，网围栏1500米。 | J40: 45 | K40: 45 | L40: 0 | M40: 45 | N40: 45 | O40: 0 | P40: 到户类 | Q40: 羊 | R40: - | S40: - | T40: 否 | U40: 自主运营 | V40: 农户 | W40: 布久乡孜热村55户村民 | X40: 否 | Y40: - | Z40: - | AA40: - | AB40: - | AC40: - | AD40: 巴宜区农业农村局 | AG40: 林芝市巴宜区米瑞乡增巴村经济联合社 | AH40: 次仁旺堆 | AI40: 租赁了一间房
...

Sheet 附件5-1
A1: 西藏自治区林芝市帮扶产业项目资产总台账
A2: 项目 编号 | B2: 项目县区 | C2: 项目年度 | E2: 项目名称 | F2: 项目实际投入金额 （万元） | G2: 资产 个数 | H2: 资产原值总金额（万元） | I2: 资产净值总金额 （万元） | J2: 资产属性 | K2: 资产“五权”确权主体 | Q2: 备注
K3: 所有权 | M3: 经营权主体名称 | N3: 收益权主体名称 | O3: 监督权主体名称（镇人民政府、农业农村局） | P3: 处置权主体名称
K4: 主体类别 | L4: 名称
A5: 填表说明：与表3项目编号一致 | E5: 一个项目仅填写一行 | F5: 与表2项目实际投资金额合计数一致 | G5: 应为项目实际形成资产个数合计数 | H5: 应为项目实际形成资产总数 （保留小数点后面2位） | I5: 统计时间为截止2024年12月31日 | J5: 在“国有资产、集体资产、到户资产”中选择 | K5: 在“农村集体经济组织、农户、国企、乡（镇）人民政府”中选择
A6: 540624201317001 | B6: 巴宜区 | C6: 2013 | E6: 鲁朗镇扎西岗旅游合作社接待中心建设项目 | F6: 89.186758 | G6: 105 | H6: 89.186758 | I6: 29.03456 | J6: 集体资产 | K6: 农村集体经济组织 | L6: 林芝市巴宜区鲁朗镇扎西岗村股份经济合作联合社 | M6: 林芝市巴宜区鲁朗镇扎西岗村股份经济合作联合社 | N6: 林芝市巴宜区鲁朗镇扎西岗村股份经济合作联合社 | O6: 林芝市巴宜区农业农村局、林芝市巴宜区鲁朗镇人民政府 | P6: 林芝市巴宜区鲁朗镇扎西岗村股份经济合作联合社 | R6: 盘活 | S6: 已完成
A7: 540624201317002 | B7: 巴宜区 | C7: 2013 | E7: 林芝镇卡斯木村旅游接待点建设项目 | F7: 79.885832 | G7: 90 | H7: 79.885832 | I7: 29.402893 | J7: 集体资产 | K7: 农村集体经济组织 | L7: 林芝市巴宜区林芝镇卡斯木村股份经济合作联合社 | M7: 林芝市巴宜区林芝镇卡斯木村股份经济合作联合社 | N7: 林芝市巴宜区林芝镇卡斯木村股份经济合作联合社 | O7: 林芝市巴宜区农业农村局、林芝市巴宜区林芝镇人民政府 | P7: 林芝市巴宜区林芝镇卡斯木村股份经济合作联合社 | R7: -
A8: 540624201317003 | B8: 巴宜区 | C8: 2013 | E8: 林芝镇朗欧村旅游接待点建设项目 | F8: 80 | G8: 1 | H8: 80 | I8: 40.416667 | J8: 集体资产 | K8: 农村集体经济组织 | L8: 林芝市巴宜区林芝镇朗欧村股份经济合作联合社 | M8: 个体户 | N8: 林芝市巴宜区林芝镇朗欧村股份经济合作联合社 | O8: 林芝市巴宜区农业农村局、林芝市巴宜区林芝镇人民政府 | P8: 林芝市巴宜区林芝镇朗欧村股份经济合作联合社 | R8: 巩固
A9: 540624201319001 | B9: 巴宜区 | C9: 2013 | E9: 林芝镇尼池村糌粑面粉加工场项目 | F9: 22 | G9: 1 | H9: 22 | I9: 1.1 | J9: 集体资产 | K9: 农村集体经济组织 | L9: 林芝市巴宜区林芝镇尼池村尼池组股份经济合作社 | M9: 林芝市巴宜区林芝镇尼池村尼池组股份经济合作社 | N9: 林芝市巴宜区林芝镇尼池村尼池组股份经济合作社 | O9: 林芝市巴宜区农业农村局、林芝市巴宜区林芝镇人民政府 | P9: 林芝市巴宜区林芝镇尼池村尼池组股份经济合作社 | R9: 巩固
A10: 540624201304001 | B10: 巴宜区 | C10: 2013 | E10: 林芝县鲁朗镇东久村、林芝镇邦纳村、米瑞乡泽列村犏奶牛养殖项目 | F10: 67 | G10: 230 | H10: 67 | I10: 30.628571 | J10: 到户资产 | K10: 农户 | L10: 米瑞乡泽列村27户；鲁朗镇东久村18户，林芝镇帮纳村20户村民 | M10: 米瑞乡泽列村27户；鲁朗镇东久村18户，林芝镇帮纳村20户村民 | N10: 米瑞乡泽列村27户；鲁朗镇东久村18户，林芝镇帮纳村20户村民 | P10: 米瑞乡泽列村27户；鲁朗镇东久村18户，林芝镇帮纳村20户村民 | R10: -
A11: 540624201306001 | B11: 巴宜区 | C11: 2013 | E11: 米瑞乡通麦村养羊项目 | F11: 14 | G11: 300 | H11: 14 | I11: 9.8823529 | J11: 集体资产 | K11: 农牧民专业合作社 | L11: 林芝市巴宜区米瑞通麦绵羊养殖农牧民专业合作社 | M11: 林芝市巴宜区米瑞通麦绵羊养殖农牧民专业合作社 | N11: 林芝市巴宜区米瑞通麦绵羊养殖农牧民专业合作社 | O11: 林芝市巴宜区农业农村局、林芝市巴宜区米瑞乡人民政府 | P11: 林芝市巴宜区米瑞通麦绵羊养殖农牧民专业合作社 | R11: 巩固
A12: 540624201319002 | B12: 巴宜区 | C12: 2013 | E12: 布久乡麦巴村经济林木建设项目 | F12: 18 | G12: 7200 | H12: 18 | I12: 18 | J12: 到户资产 | K12: 农户 | L12: 布久项目麦巴村15户村民 | M12: 布久项目麦巴村15户村民 | N12: 布久项目麦巴村15户村民 | P12: 布久项目麦巴村15户村民 | R12: -
A13: 540624201319003 | B13: 巴宜区 | C13: 2013 | E13: 八一镇公仲村经济林木建设项目 | F13: 40 | G13: 300 | H13: 40 | I13: 40 | J13: 到户资产 | K13: 农户 | L13: 八一镇公众村20户村民 | M13: 八一镇公众村20户村民 | N13: 八一镇公众村20户村民 | P13: 八一镇公众村20户村民 | R13: -
A14: 540624201308001 | B14: 巴宜区 | C14: 2013 | E14: 米瑞乡色果拉藏鸡养殖基地建设项目 | F14: 50 | G14: 5005 | H14: 50 | I14: 24.090909 | J14: 集体资产 | K14: 农村集体经济组织 | L14: 林芝市巴宜区米瑞乡色果拉村股份经济合作联合社 | M14: 林芝市巴宜区米瑞乡色果拉村祥和种植养殖农牧民合作社 | N14: 林芝市巴宜区米瑞乡色果拉村股份经济合作联合社 | O14: 林芝市巴宜区农业农村局、林芝市巴宜区米瑞乡人民政府 | P14: 林芝市巴宜区米瑞乡色果拉村股份经济合作联合社 | R14: 盘活
A15: 540624201316001 | B15: 巴宜区 | C15: 2013 | E15: 米瑞乡麦娘麦村蔬菜大棚建设项目 | F15: 76 | G15: 30 | H15: 76 | I15: 3.8 | J15: 到户资产 | K15: 农户 | L15: 米瑞乡麦娘麦村（仲萨村）33户村民 | M15: 米瑞乡麦娘麦村（仲萨村）33户村民 | N15: 米瑞乡麦娘麦村（仲萨村）33户村民 | P15: 米瑞乡麦娘麦村（仲萨村）33户村民 | R15: -
A16: 540624201319004 | B16: 巴宜区 | C16: 2013 | E16: 米瑞乡嘎萨村土豆、苜蓿草种植项目 | F16: 18 | G16: 30800 | H16: 18 | I16: 0 | J16: 到户资产 | K16: 农户 | L16: 米瑞乡嘎萨村16户村民 | M16: 米瑞乡嘎萨村16户村民 | N16: 米瑞乡嘎萨村16户村民 | P16: 米瑞乡嘎萨村16户村民 | R16: -
A17: 540624201319005 | B17: 巴宜区 | C17: 2013 | E17: 百巴镇折巴村粮油加工厂项目 | F17: 30 | G17: 3 | H17: 30 | I17: 10.250954 | J17: 集体资产 | K17: 农村集体经济组织 | L17: 林芝市巴宜区百巴镇折巴村折巴组股份经济合作社 | M17: 林芝市巴宜区百巴镇折巴村折巴组股份经济合作社 | N17: 林芝市巴宜区百巴镇折巴村折巴组股份经济合作社 | O17: 林芝市巴宜区农业农村局、林芝市巴宜区百巴镇人民政府 | P17: 林芝市巴宜区百巴镇折巴村折巴组股份经济合作社 | R17: -
A18: 540624201316002 | B18: 巴宜区 | C18: 2013 | E18: 百巴镇折巴村“优菜”水渠建设项目 | F18: 46 | G18: 1 | H18: 46 | I18: 2.3 | J18: 集体资产 | K18: 农村集体经济组织 | L18: 林芝市巴宜区百巴镇折巴村折巴组股份经济合作社 | M18: 林芝市巴宜区百巴镇折巴村折巴组股份经济合作社 | N18: 林芝市巴宜区百巴镇折巴村折巴组股份经济合作社 | O18: 林芝市巴宜区农业农村局、林芝市巴宜区百巴镇人民政府 | P18: 林芝市巴宜区百巴镇折巴村折巴组股份经济合作社 | R18: -
A19: 540624201316003 | B19: 巴宜区 | C19: 2013 | E19: 米瑞乡通麦村农田灌溉水渠 | F19: 51 | G19: 1 | H19: 51 | I19: 2.55 | J19: 集体资产 | K19: 农村集体经济组织 | L19: 林芝市巴宜区米瑞乡通麦村股份经济合作联合社 | M19: 林芝市巴宜区米瑞乡通麦村股份经济合作联合社 | N19: 林芝市巴宜区米瑞乡通麦村股份经济合作联合社 | O19: 林芝市巴宜区农业农村局、林芝市巴宜区米瑞乡人民政府 | P19: 林芝市巴宜区米瑞乡通麦村股份经济合作联合社 | R19: -
A20: 540624201317004 | B20: 巴宜区 | C20: 2013 | E20: 鲁朗镇东久村瓜果采摘园项目 | F20: 59 | G20: 3209 | H20: 59 | I20: 27.029521 | J20: 集体资产 | K20: 个体工商户 | L20: 林芝市巴宜区鲁朗镇东久村股份经济合作联合社 | M20: 个体户 | N20: 林芝市巴宜区鲁朗镇东久村股份经济合作联合社 | O20: 林芝市巴宜区农业农村局、林芝市巴宜区鲁朗镇人民政府 | P20: 林芝市巴宜区鲁朗镇东久村股份经济合作联合社 | R20: 巩固
A21: 540624201316004 | B21: 巴宜区 | C21: 2013 | E21: 百巴镇拉格村农田灌溉水渠 | F21: 39 | G21: 1 | H21: 39 | I21: 1.95 | J21: 集体资产 | K21: 农村集体经济组织 | L21: 林芝市巴宜区百巴镇拉格村股份经济合作联合社 | M21: 林芝市巴宜区百巴镇拉格村股份经济合作联合社 | N21: 林芝市巴宜区百巴镇拉格村股份经济合作联合社 | O21: 林芝市巴宜区农业农村局、林芝市巴宜区百巴镇人民政府 | P21: 林芝市巴宜区百巴镇拉格村股份经济合作联合社 | R21: -
A22: 540624201319006 | B22: 巴宜区 | C22: 2013 | E22: 百巴镇折巴村核桃种植项目 | F22: 50 | G22: 8002 | H22: 50 | I22: 0 | J22: 到户资产 | K22: 农户 | L22: 百巴镇折巴村51户村民 | M22: 百巴镇折巴村51户村民 | N22: 百巴镇折巴村51户村民 | P22: 百巴镇折巴村51户村民 | R22: -
A23: 540624201317005 | B23: 巴宜区 | C23: 2013 | E23: 百巴镇强嘎村工布赛马休闲旅游山庄建设项目 | F23: 60 | G23: 37 | H23: 60 | I23: 3 | J23: 集体资产 | K23: 农村集体经济组织 | L23: 林芝市巴宜区百巴镇强嘎村股份经济合作联合社 | M23: 个体户 | N23: 林芝市巴宜区百巴镇强嘎村股份经济合作联合社 | O23: 林芝市巴宜区农业农村局、林芝市巴宜区百巴镇人民政府 | P23: 林芝市巴宜区百巴镇强嘎村股份经济合作联合社 | R23: 升级
A24: 540624201319007 | B24: 巴宜区 | C24: 2013 | E24: 林芝镇立定村果园建设项目 | F24: 40 | G24: 400 | H24: 40 | I24: 40 | J24: 到户资产 | K24: 农户 | L24: 林芝镇立定村25户村、榜纳村13户村、娘峨村22户村民 | M24: 林芝镇立定村25户村、榜纳村13户村、娘峨村22户村民 | N24: 林芝镇立定村25户村、榜纳村13户村、娘峨村22户村民 | P24: 林芝镇立定村25户村、榜纳村13户村、娘峨村22户村民 | R24: -
A25: 540624201307001 | B25: 巴宜区 | C25: 2013 | E25: 米瑞乡吉定村藏香猪养殖项目 | F25: 40 | G25: 1219 | H25: 40 | I25: 2 | J25: 到户资产 | K25: 农户 | L25: 米瑞乡吉定村32户村民 | M25: 米瑞乡吉定村32户村民 | N25: 米瑞乡吉定村32户村民 | P25: 米瑞乡吉定村32户村民 | R25: -
A26: 540624201319008 | B26: 巴宜区 | C26: 2013 | E26: 米瑞乡德木达嘎鲁丁糌粑加工厂建设项目 | F26: 80 | G26: 15 | H26: 80 | I26: 4 | J26: 集体资产 | K26: 农牧民专业合作社 | L26: 米瑞乡德木康桑水磨糌粑面粉农民专业合作社 | M26: 米瑞乡德木康桑水磨糌粑面粉农民专业合作社 | N26: 米瑞乡德木康桑水磨糌粑面粉农民专业合作社 | O26: 林芝市巴宜区农业农村局、林芝市巴宜区米瑞乡人民政府 | P26: 米瑞乡德木康桑水磨糌粑面粉农民专业合作社 | R26: 巩固
A27: 540624201307002 | B27: 巴宜区 | C27: 2013 | E27: 米瑞乡曲尼贡嘎村藏香猪养殖项目 | F27: 79 | G27: 1474 | H27: 79 | I27: 55.608172 | J27: 集体资产 | K27: 农牧民专业合作社 | L27: 林芝市米瑞乡曲尼贡嘎村达白养殖农牧民专业合作社 | M27: 林芝市米瑞乡曲尼贡嘎村达白养殖农牧民专业合作社 | N27: 林芝市米瑞乡曲尼贡嘎村达白养殖农牧民专业合作社 | O27: 林芝市巴宜区农业农村局、林芝市巴宜区米瑞乡人民政府 | P27: 林芝市米瑞乡曲尼贡嘎村达白养殖农牧民专业合作社 | R27: 巩固
A28: 540624201316005 | B28: 巴宜区 | C28: 2013 | E28: 八一镇尼西村水果蔬菜种植温室项目 | F28: 35 | G28: 8 | H28: 35 | I28: 1.75 | J28: 到户资产 | K28: 农户 | L28: 八一镇尼西村13户村民 | M28: 八一镇尼西村13户村民 | N28: 八一镇尼西村13户村民 | P28: 八一镇尼西村13户村民 | R28: -
A29: 540624201316006 | B29: 巴宜区 | C29: 2013 | E29: 更张乡白玛店村和扎曲村钢架大棚灵芝菌种植项目 | F29: 179 | G29: 56 | H29: 179 | I29: 8.95 | J29: 集体资产 | K29: 农村集体经济组织 | L29: 林芝市巴宜区更章门巴民族乡扎曲村股份经济合作联合社、林芝市巴宜区更章门巴民族乡白玛店社区股份经济合作联合社 | M29: 林芝市巴宜区更章门巴民族乡扎曲村股份经济合作联合社、林芝市巴宜区更章门巴民族乡白玛店社区股份经济合作联合社 | N29: 林芝市巴宜区更章门巴民族乡扎曲村股份经济合作联合社、林芝市巴宜区更章门巴民族乡白玛店社区股份经济合作联合社 | O29: 林芝市巴宜区农业农村局、林芝市巴宜区更章乡人民政府 | P29: 林芝市巴宜区更章门巴民族乡扎曲村股份经济合作联合社、林芝市巴宜区更章门巴民族乡白玛店社区股份经济合作联合社 | R29: 调整
A30: 540624201319009 | B30: 巴宜区 | C30: 2013 | E30: 八一镇色定村阿吉林特色经济发展农牧民专业合作社藏民族手工艺品生产厂区建设项目 | F30: 42 | G30: 1 | H30: 42 | I30: 2.1 | J30: 集体资产 | K30: 农牧民专业合作社 | L30: 林芝县八一镇色定村阿吉特色经济发展农牧民专业合作社 | M30: 林芝县八一镇色定村阿吉特色经济发展农牧民专业合作社 | N30: 林芝县八一镇色定村阿吉特色经济发展农牧民专业合作社 | O30: 林芝市巴宜区农业农村局、林芝市巴宜区八一镇人民政府 | P30: 林芝县八一镇色定村阿吉特色经济发展农牧民专业合作社 | R30: 调整
A31: 540624201317006 | B31: 巴宜区 | C31: 2013 | E31: 林芝镇康扎村旅游接待住宿项目 | F31: 300 | G31: 392 | H31: 300 | I31: 15 | J31: 集体资产 | K31: 农村集体经济组织 | L31: 林芝市巴宜区林芝镇康扎村股份经济合作联合社 | M31: 林芝市巴宜区林芝镇康扎村股份经济合作联合社 | N31: 林芝市巴宜区林芝镇康扎村股份经济合作联合社 | O31: 林芝市巴宜区农业农村局、林芝市巴宜区林芝镇人民政府 | P31: 林芝市巴宜区林芝镇康扎村股份经济合作联合社 | R31: -
A32: 540624201316007 | B32: 巴宜区 | C32: 2013 | E32: 米瑞乡色果拉村农田灌溉水渠修护项目 | F32: 10 | G32: 1 | H32: 10 | I32: 0.5 | J32: 集体资产 | K32: 农村集体经济组织 | L32: 林芝市巴宜区米瑞乡色果拉村股份经济合作联合社 | M32: 林芝市巴宜区米瑞乡色果拉村股份经济合作联合社 | N32: 林芝市巴宜区米瑞乡色果拉村股份经济合作联合社 | O32: 林芝市巴宜区农业农村局、林芝市巴宜区米瑞乡人民政府 | P32: 林芝市巴宜区米瑞乡色果拉村股份经济合作联合社 | R32: -
A33: 540624201316008 | B33: 巴宜区 | C33: 2013 | E33: 布久乡孜热村水渠维修 | F33: 10.35 | G33: 1 | H33: 10.35 | I33: 0.5175 | J33: 集体资产 | K33: 农村集体经济组织 | L33: 林芝市巴宜区布久乡孜热村股份经济合作联合社 | M33: 林芝市巴宜区布久乡孜热村股份经济合作联合社 | N33: 林芝市巴宜区布久乡孜热村股份经济合作联合社 | O33: 林芝市巴宜区农业农村局、林芝市巴宜区区布久乡人民政府 | P33: 林芝市巴宜区布久乡孜热村股份经济合作联合社 | R33: -
A34: 540624201316009 | B34: 巴宜区 | C34: 2013 | E34: 百巴镇大坝村温室供水 | F34: 110 | G34: 1 | H34: 110 | I34: 5.5 | J34: 集体资产 | K34: 农村集体经济组织 | L34: 林芝市巴宜区百巴镇大坝村经济联合社 | M34: 林芝市巴宜区百巴镇大坝村经济联合社 | N34: 林芝市巴宜区百巴镇大坝村经济联合社 | O34: 林芝市巴宜区农业农村局、林芝市巴宜区百巴镇人民政府 | P34: 林芝市巴宜区百巴镇大坝村经济联合社 | R34: -
A35: 540624201316010 | B35: 巴宜区 | C35: 2013 | E35: 百巴镇大坝村蔬菜温室工程缺口资金 | F35: 43.06 | G35: 1 | H35: 43.06 | I35: 2.153 | J35: 集体资产 | K35: 农村集体经济组织 | L35: 林芝市巴宜区百巴镇大坝村经济联合社 | M35: 林芝市巴宜区百巴镇大坝村经济联合社 | N35: 林芝市巴宜区百巴镇大坝村经济联合社 | O35: 林芝市巴宜区农业农村局、林芝市巴宜区百巴镇人民政府 | P35: 林芝市巴宜区百巴镇大坝村经济联合社
A36: 540624201417001 | B36: 巴宜区 | C36: 2014 | E36: 八一镇永久村农家乐建设项目 | F36: 45 | G36: 2 | H36: 45 | I36: 22.706931 | J36: 到户资产 | K36: 农户 | L36: 个体户 | M36: 个体户 | N36: 个体户 | P36: 个体户 | R36: -
A37: 540624201416001 | B37: 巴宜区 | C37: 2014 | E37: 八一镇加乃村农田灌溉项目 | F37: 98.41 | G37: 1 | H37: 98.41 | I37: 4.9205 | J37: 集体资产 | K37: 农村集体经济组织 | L37: 林芝市巴宜区八一镇加乃村股份经济合作联合社 | M37: 林芝市巴宜区八一镇加乃村股份经济合作联合社 | N37: 林芝市巴宜区八一镇加乃村股份经济合作联合社 | O37: 林芝市巴宜区农业农村局、林芝市巴宜区八一镇人民政府 | P37: 林芝市巴宜区八一镇加乃村股份经济合作联合社 | R37: -
A38: 540624201409001 | B38: 巴宜区 | C38: 2014 | E38: 八一镇色定村蜜蜂养殖项目 | F38: 60 | G38: 441 | H38: 60 | I38: 0 | J38: 集体资产 | K38: 农牧民专业合作社 | L38: 八一镇色定村异彩种养业农牧民专业合作社 | M38: 八一镇色定村异彩种养业农牧民专业合作社 | N38: 八一镇色定村异彩种养业农牧民专业合作社 | O38: 林芝市巴宜区农业农村局、林芝市巴宜区八一镇人民政府 | P38: 八一镇色定村异彩种养业农牧民专业合作社 | R38: 巩固
A39: 540624201417002 | B39: 巴宜区 | C39: 2014 | E39: 百巴镇伍巴村旅游接待点项目 | F39: 135 | G39: 3 | H39: 135 | I39: 57.648077 | J39: 集体资产 | K39: 农村集体经济组织 | L39: 林芝市巴宜区百巴镇折巴村伍巴组股份经济合作社 | M39: 林芝市巴宜区伍巴高原红艺术品加工农牧民专业合作社 | N39: 林芝市巴宜区百巴镇折巴村伍巴组股份经济合作社 | O39: 林芝市巴宜区农业农村局、林芝市巴宜区百巴镇人民政府 | P39: 林芝市巴宜区百巴镇折巴村伍巴组股份经济合作社 | R39: 巩固
A40: 540624201411001 | B40: 巴宜区 | C40: 2014 | E40: 百巴镇扎地村天麻种植项目 | F40: 30.9995 | G40: 10501 | H40: 30.9995 | I40: 0 | J40: 到户资产 | K40: 农户 | L40: 百巴镇扎地村73户村民 | M40: 百巴镇扎地村73户村民 | N40: 百巴镇扎地村73户村民 | P40: 百巴镇扎地村73户村民 | R40: -
...

Sheet 附件5-2
A1: 附件5-2 | B1: 修改报盘数据 | C1: 重新报盘 | D1: 新增
A3: 项目编号 | B3: 项目县区 | C3: 资产编号 | D3: 资产名称 | E3: 构（购）建时间 （必填年月） | F3: 坐落或置放 位置 | G3: 资产 型号 | H3: 预计使用年限（自构建时间起预计能够使用的年限数） | I3: 资产 个数 | J3: 资产 原值（元） | K3: 资产累计 折旧 （摊销）（元） | L3: 资产 净值（元） | M3: 资产形态 | N3: 具体形态 | O3: 资产 属性 | P3: 资产状态 | Q3: 资产使用情况 | S3: 资产 类别 | T3: 经营性资产资产运营情况 | U3: 资产所有权主体名称 | V3: 备注 | W3: 数据来源
D4: 按形成的具体资产名称填写，不同资产应分行填写 | E4: 例：2018/01 | H4: 例：10（即为该资产预计可使用时间为10年） | J4: 保留2位小数 | K4: 统计时间为截止2024年12月31日 （权益类资产、消耗性生物资产、公益性生物资产不填） 保留2位小数 | L4: 统计时间为截止2024年12月31日 保留2位小数 | M4: 在“固定资产、生物资产（含消耗性生物资产、生产性生物资产、公益性生物资产）、权益类资产、其他资产”中选择 | N4: 在“房屋建筑物、构筑物、机器设备、车辆、办公用具家具、牲畜（禽）、林木、股权资产、债权资产、低值易耗品、无形资产”中选择 | O4: 在“国有资产、集体资产、到户资产”中选择 | P4: 在“正常、损坏、损毁”中选择 | Q4: 根据实际情况填写“在用/不在用” | R4: 在“自用、出租、存栏、在培、已消耗、已出售、已死亡、闲置、损毁、拆除、待维修、盘亏等”中选择 | S4: 在“经营性资产、公益性资产”中选择 | T4: 在“正常、低效、闲置”中选择
A5: 540624201317001 | B5: 巴宜区 | C5: 54062420131700110001 | D5: 接待中心 | E5: 41821 | F5: 林芝县扎西岗村 | G5: 座 | H5: 20 | I5: 1 | J5: 539867.58 | K5: 267121.98 | L5: 272745.6 | M5: 固定资产 | N5: 房屋建筑物 | O5: 集体资产 | P5: 正常 | Q5: 不在用 | R5: 闲置 | S5: 经营性资产 | T5: 闲置 | U5: 林芝市巴宜区鲁朗镇扎西岗村股份经济合作联合社 | W5: 翻拍资料-概算表
A6: 540624201317001 | B6: 巴宜区 | C6: 54062420131700110002 | D6: 围墙 | E6: 41821 | F6: 林芝县扎西岗村 | G6: 200米 | H6: 10 | I6: 1 | J6: 91000 | K6: 86450 | L6: 4550 | M6: 固定资产 | N6: 构筑物 | O6: 集体资产 | P6: 正常 | Q6: 不在用 | R6: 闲置 | S6: 经营性资产 | T6: 闲置 | U6: 林芝市巴宜区鲁朗镇扎西岗村股份经济合作联合社
A7: 540624201317001 | B7: 巴宜区 | C7: 54062420131700110003 | D7: 灶台 | E7: 41821 | F7: 林芝县扎西岗村 | G7: 套 | H7: 10 | I7: 1 | J7: 31000 | K7: 29450 | L7: 1550 | M7: 固定资产 | N7: 构筑物 | O7: 集体资产 | P7: 正常 | Q7: 不在用 | R7: 闲置 | S7: 经营性资产 | T7: 闲置 | U7: 林芝市巴宜区鲁朗镇扎西岗村股份经济合作联合社
A8: 540624201317001 | B8: 巴宜区 | C8: 54062420131700110004 | D8: 太阳能热水器 | E8: 41821 | F8: 林芝县扎西岗村 | G8: 个 | H8: 5 | I8: 100 | J8: 65000 | K8: 61750 | L8: 3250 | M8: 固定资产 | N8: 机器设备 | O8: 集体资产 | P8: 正常 | Q8: 不在用 | R8: 闲置 | S8: 经营性资产 | T8: 闲置 | U8: 林芝市巴宜区鲁朗镇扎西岗村股份经济合作联合社
A9: 540624201317001 | B9: 巴宜区 | C9: 54062420131700110005 | D9: 洗涤、烘干消毒、熨烫设备 | E9: 41821 | F9: 林芝县扎西岗村 | G9: 套 | H9: 5 | I9: 1 | J9: 120000 | K9: 114000 | L9: 6000 | M9: 固定资产 | N9: 机器设备 | O9: 集体资产 | P9: 正常 | Q9: 不在用 | R9: 闲置 | S9: 经营性资产 | T9: 闲置 | U9: 林芝市巴宜区鲁朗镇扎西岗村股份经济合作联合社
A10: 540624201317001 | B10: 巴宜区 | C10: 54062420131700110006 | D10: 电热蒸汽锅炉 | E10: 41821 | F10: 林芝县扎西岗村 | G10: 套 | H10: 5 | I10: 1 | J10: 45000 | K10: 42750 | L10: 2250 | M10: 固定资产 | N10: 机器设备 | O10: 集体资产 | P10: 正常 | Q10: 不在用 | R10: 闲置 | S10: 经营性资产 | T10: 闲置 | U10: 林芝市巴宜区鲁朗镇扎西岗村股份经济合作联合社
A11: 540624201317002 | B11: 巴宜区 | C11: 54062420131700210001 | D11: 接待楼 | E11: 41609 | F11: 林芝镇卡斯木村 | G11: 座 | H11: 20 | I11: 1 | J11: 594353.26 | K11: 310549.58 | L11: 283803.68 | M11: 固定资产 | N11: 房屋建筑物 | O11: 集体资产 | P11: 正常 | Q11: 在用 | R11: 自用 | S11: 公益性资产 | T11: - | U11: 林芝市巴宜区林芝镇卡斯木村股份经济合作联合社 | W11: 翻拍资料-概算表
A12: 540624201317002 | B12: 巴宜区 | C12: 54062420131700210002 | D12: 大门 | E12: 41609 | F12: 林芝镇卡斯木村 | G12: 道 | H12: 5 | I12: 1 | J12: 3500 | K12: 3325 | L12: 175 | M12: 固定资产 | N12: 办公用具家具 | O12: 集体资产 | P12: 正常 | Q12: 在用 | R12: 自用 | S12: 公益性资产 | T12: - | U12: 林芝市巴宜区林芝镇卡斯木村股份经济合作联合社
A13: 540624201317002 | B13: 巴宜区 | C13: 54062420131700210003 | D13: 围墙 | E13: 41609 | F13: 林芝镇卡斯木村 | G13: 59.6米 | H13: 10 | I13: 1 | J13: 22946 | K13: 21798.7 | L13: 1147.3 | M13: 固定资产 | N13: 构筑物 | O13: 集体资产 | P13: 正常 | Q13: 在用 | R13: 自用 | S13: 公益性资产 | T13: - | U13: 林芝市巴宜区林芝镇卡斯木村股份经济合作联合社
A14: 540624201317002 | B14: 巴宜区 | C14: 54062420131700210004 | D14: 化粪池 | E14: 41609 | F14: 林芝镇卡斯木村 | G14: 个 | H14: 10 | I14: 1 | J14: 20000 | K14: 19000 | L14: 1000 | M14: 固定资产 | N14: 构筑物 | O14: 集体资产 | P14: 正常 | Q14: 在用 | R14: 自用 | S14: 公益性资产 | T14: - | U14: 林芝市巴宜区林芝镇卡斯木村股份经济合作联合社
A15: 540624201317002 | B15: 巴宜区 | C15: 54062420131700210005 | D15: 停车场硬化 | E15: 41609 | F15: 林芝镇卡斯木村 | G15: 439.25平方米 | H15: 10 | I15: 1 | J15: 52819.81 | K15: 50178.819 | L15: 2640.9905 | M15: 固定资产 | N15: 构筑物 | O15: 集体资产 | P15: 正常 | Q15: 在用 | R15: 自用 | S15: 公益性资产 | T15: - | U15: 林芝市巴宜区林芝镇卡斯木村股份经济合作联合社
A16: 540624201317002 | B16: 巴宜区 | C16: 54062420131700210006 | D16: 床 | E16: 41609 | F16: 林芝镇卡斯木村 | G16: 套 | H16: 5 | I16: 42 | J16: 25200 | K16: 23940 | L16: 1260 | M16: 固定资产 | N16: 办公用具家具 | O16: 集体资产 | P16: 正常 | Q16: 在用 | R16: 自用 | S16: 公益性资产 | T16: - | U16: 林芝市巴宜区林芝镇卡斯木村股份经济合作联合社
A17: 540624201317002 | B17: 巴宜区 | C17: 54062420131700210007 | D17: 灶台 | E17: 41609 | F17: 林芝镇卡斯木村 | G17: 套 | H17: 10 | I17: 1 | J17: 29599.25 | K17: 28119.287 | L17: 1479.9625 | M17: 固定资产 | N17: 构筑物 | O17: 集体资产 | P17: 正常 | Q17: 在用 | R17: 自用 | S17: 公益性资产 | T17: - | U17: 林芝市巴宜区林芝镇卡斯木村股份经济合作联合社
A18: 540624201317002 | B18: 巴宜区 | C18: 54062420131700240008 | D18: 被褥 | E18: 41609 | F18: 林芝镇卡斯木村 | G18: 套 | H18: 1 | I18: 42 | J18: 50440 | K18: 47918 | L18: 2522 | M18: 其他资产 | N18: 低值易耗品 | O18: 集体资产 | P18: 正常 | Q18: 在用 | R18: 自用 | S18: 公益性资产 | T18: - | U18: 林芝市巴宜区林芝镇卡斯木村股份经济合作联合社
A19: 540624201317003 | B19: 巴宜区 | C19: 54062420131700310001 | D19: 旅游接待点 | E19: 41821 | F19: 林芝镇朗欧村 | G19: 600平方米 | H19: 20 | I19: 1 | J19: 800000 | K19: 395833.33 | L19: 404166.67 | M19: 固定资产 | N19: 房屋建筑物 | O19: 集体资产 | P19: 正常 | Q19: 在用 | R19: 出租 | S19: 经营性资产 | T19: 正常 | U19: 林芝市巴宜区林芝镇朗欧村股份经济合作联合社 | W19: 没有文件，数据来源于附表2实施内容
A20: 540624201319001 | B20: 巴宜区 | C20: 54062420131900110001 | D20: 厂房及仓库 | E20: 41609 | F20: 林芝镇尼池村 | G20: 86.4平方米 | H20: 10 | I20: 1 | J20: 220000 | K20: 209000 | L20: 11000 | M20: 固定资产 | N20: 构筑物 | O20: 集体资产 | P20: 正常 | Q20: 在用 | R20: 自用 | S20: 经营性资产 | T20: 正常 | U20: 林芝市巴宜区林芝镇尼池村尼池组股份经济合作社 | W20: 无翻拍文件，数据来源于附件2实施内容
